From: osstest service owner <osstest-admin@xenproject.org>
To: xen-devel@lists.xenproject.org, osstest-admin@xenproject.org
Subject: [Xen-devel] [xen-unstable-coverity test] 146931: all pass - PUSHED
Date: Wed, 12 Feb 2020 10:21:13 +0000 [thread overview]
Message-ID: <osstest-146931-mainreport@xen.org> (raw)
flight 146931 xen-unstable-coverity real [real]
http://logs.test-lab.xenproject.org/osstest/logs/146931/
Perfect :-)
All tests in this flight passed as required
version targeted for testing:
xen 6c47c37b9b40d6fe40bce8c8fd39135f6d549c8c
baseline version:
xen f7fb9a0aa9fbb81292e1626ce40340d3f6d8d505
Last test of basis 146739 2020-02-05 09:18:44 Z 7 days
Failing since 146819 2020-02-09 09:18:20 Z 3 days 2 attempts
Testing same since 146931 2020-02-12 09:19:05 Z 0 days 1 attempts
------------------------------------------------------------
People who touched revisions under test:
Andrew Cooper <andrew.cooper3@citrix.com>
Anthony PERARD <anthony.perard@citrix.com>
Christian Lindig <christian.lindig@citrix.com>
George Dunlap <george.dunlap@citrix.com>
Ian Jackson <ian.jackson@eu.citrix.com>
Jan Beulich <jbeulich@suse.com>
Jeff Kubascik <jeff.kubascik@dornerworks.com>
Juergen Gross <jgross@suse.com>
Julien Grall <jgrall@amazon.com>
Julien Grall <julien@xen.org>
Marek Marczykowski-Górecki <marmarek@invisiblethingslab.com>
Paul Durrant <pdurrant@amazon.com>
Roger Pau Monné <roger.pau@citrix.com>
Tamas K Lengyel <tamas.lengyel@intel.com>
Wei Liu <liuwe@microsoft.com>
Wei Liu <wl@xen.org>
jobs:
coverity-amd64 pass
------------------------------------------------------------
sg-report-flight on osstest.test-lab.xenproject.org
logs: /home/logs/logs
images: /home/logs/images
Logs, config files, etc. are available at
http://logs.test-lab.xenproject.org/osstest/logs
Explanation of these reports, and of osstest in general, is at
http://xenbits.xen.org/gitweb/?p=osstest.git;a=blob;f=README.email;hb=master
http://xenbits.xen.org/gitweb/?p=osstest.git;a=blob;f=README;hb=master
Test harness code can be found at
http://xenbits.xen.org/gitweb?p=osstest.git;a=summary
Pushing revision :
To xenbits.xen.org:/home/xen/git/xen.git
f7fb9a0aa9..6c47c37b9b 6c47c37b9b40d6fe40bce8c8fd39135f6d549c8c -> coverity-tested/smoke
_______________________________________________
Xen-devel mailing list
Xen-devel@lists.xenproject.org
https://lists.xenproject.org/mailman/listinfo/xen-devel
reply other threads:[~2020-02-12 10:21 UTC|newest]
Thread overview: [no followups] expand[flat|nested] mbox.gz Atom feed
Reply instructions:
You may reply publicly to this message via plain-text email
using any one of the following methods:
* Save the following mbox file, import it into your mail client,
and reply-to-all from there: mbox
Avoid top-posting and favor interleaved quoting:
https://en.wikipedia.org/wiki/Posting_style#Interleaved_style
* Reply using the --to, --cc, and --in-reply-to
switches of git-send-email(1):
git send-email \
--in-reply-to=osstest-146931-mainreport@xen.org \
--to=osstest-admin@xenproject.org \
--cc=xen-devel@lists.xenproject.org \
/path/to/YOUR_REPLY
https://kernel.org/pub/software/scm/git/docs/git-send-email.html
* If your mail client supports setting the In-Reply-To header
via mailto: links, try the mailto: link
Be sure your reply has a Subject: header at the top and a blank line
before the message body.
This is a public inbox, see mirroring instructions
for how to clone and mirror all data and code used for this inbox;
as well as URLs for NNTP newsgroup(s).