From: osstest service owner <osstest-admin@xenproject.org>
To: xen-devel@lists.xenproject.org, osstest-admin@xenproject.org
Subject: [xen-unstable-coverity test] 152385: all pass - PUSHED
Date: Sun, 02 Aug 2020 10:14:32 +0000 [thread overview]
Message-ID: <osstest-152385-mainreport@xen.org> (raw)
flight 152385 xen-unstable-coverity real [real]
http://logs.test-lab.xenproject.org/osstest/logs/152385/
Perfect :-)
All tests in this flight passed as required
version targeted for testing:
xen 81fd0d3ca4b2cd309403c6e8da662c325dd35750
baseline version:
xen b071ec25e85c4aacf3da59e5258cda0b1c4df45d
Last test of basis 152283 2020-07-29 09:19:04 Z 4 days
Testing same since 152385 2020-08-02 09:18:50 Z 0 days 1 attempts
------------------------------------------------------------
People who touched revisions under test:
Andrew Cooper <andrew.cooper3@citrix.com>
Fam Zheng <famzheng@amazon.com>
Ian Jackson <ian.jackson@eu.citrix.com>
Jan Beulich <jbeulich@suse.com>
Olaf Hering <olaf@aepfle.de>
Paul Durrant <pdurrant@amazon.com>
Roger Pau Monne <roger.pau@citrix.com>
Roger Pau Monné <roger.pau@citrix.com>
Tim Deegan <tim@xen.org>
jobs:
coverity-amd64 pass
------------------------------------------------------------
sg-report-flight on osstest.test-lab.xenproject.org
logs: /home/logs/logs
images: /home/logs/images
Logs, config files, etc. are available at
http://logs.test-lab.xenproject.org/osstest/logs
Explanation of these reports, and of osstest in general, is at
http://xenbits.xen.org/gitweb/?p=osstest.git;a=blob;f=README.email;hb=master
http://xenbits.xen.org/gitweb/?p=osstest.git;a=blob;f=README;hb=master
Test harness code can be found at
http://xenbits.xen.org/gitweb?p=osstest.git;a=summary
Pushing revision :
To xenbits.xen.org:/home/xen/git/xen.git
b071ec25e8..81fd0d3ca4 81fd0d3ca4b2cd309403c6e8da662c325dd35750 -> coverity-tested/smoke
reply other threads:[~2020-08-02 10:15 UTC|newest]
Thread overview: [no followups] expand[flat|nested] mbox.gz Atom feed
Reply instructions:
You may reply publicly to this message via plain-text email
using any one of the following methods:
* Save the following mbox file, import it into your mail client,
and reply-to-all from there: mbox
Avoid top-posting and favor interleaved quoting:
https://en.wikipedia.org/wiki/Posting_style#Interleaved_style
* Reply using the --to, --cc, and --in-reply-to
switches of git-send-email(1):
git send-email \
--in-reply-to=osstest-152385-mainreport@xen.org \
--to=osstest-admin@xenproject.org \
--cc=xen-devel@lists.xenproject.org \
/path/to/YOUR_REPLY
https://kernel.org/pub/software/scm/git/docs/git-send-email.html
* If your mail client supports setting the In-Reply-To header
via mailto: links, try the mailto: link
Be sure your reply has a Subject: header at the top and a blank line
before the message body.
This is a public inbox, see mirroring instructions
for how to clone and mirror all data and code used for this inbox;
as well as URLs for NNTP newsgroup(s).