* [Xen-devel] [freebsd-master test] 137723: all pass - PUSHED
@ 2019-06-15 19:39 osstest service owner
0 siblings, 0 replies; only message in thread
From: osstest service owner @ 2019-06-15 19:39 UTC (permalink / raw)
To: xen-devel, osstest-admin, royger
flight 137723 freebsd-master real [real]
http://logs.test-lab.xenproject.org/osstest/logs/137723/
Perfect :-)
All tests in this flight passed as required
version targeted for testing:
freebsd 4fd6fe044c7407d68435d36c51e2413ba39d6a3a
baseline version:
freebsd 1f3b25e11df9b37a3d833be52de6c9c83d29a644
Last test of basis 137673 2019-06-12 09:19:03 Z 3 days
Testing same since 137723 2019-06-14 09:19:05 Z 1 days 1 attempts
------------------------------------------------------------
People who touched revisions under test:
alc <alc@FreeBSD.org>
asomers <asomers@FreeBSD.org>
bdragon <bdragon@FreeBSD.org>
bdrewery <bdrewery@FreeBSD.org>
cy <cy@FreeBSD.org>
dim <dim@FreeBSD.org>
dougm <dougm@FreeBSD.org>
ian <ian@FreeBSD.org>
imp <imp@FreeBSD.org>
jhb <jhb@FreeBSD.org>
jtl <jtl@FreeBSD.org>
lwhsu <lwhsu@FreeBSD.org>
manu <manu@FreeBSD.org>
mav <mav@FreeBSD.org>
mm <mm@FreeBSD.org>
oshogbo <oshogbo@FreeBSD.org>
shurd <shurd@FreeBSD.org>
vmaffione <vmaffione@FreeBSD.org>
jobs:
build-amd64-freebsd-again pass
build-amd64-freebsd pass
build-amd64-xen-freebsd pass
------------------------------------------------------------
sg-report-flight on osstest.test-lab.xenproject.org
logs: /home/logs/logs
images: /home/logs/images
Logs, config files, etc. are available at
http://logs.test-lab.xenproject.org/osstest/logs
Explanation of these reports, and of osstest in general, is at
http://xenbits.xen.org/gitweb/?p=osstest.git;a=blob;f=README.email;hb=master
http://xenbits.xen.org/gitweb/?p=osstest.git;a=blob;f=README;hb=master
Test harness code can be found at
http://xenbits.xen.org/gitweb?p=osstest.git;a=summary
Pushing revision :
To xenbits.xen.org:/home/xen/git/freebsd.git
1f3b25e11df..4fd6fe044c7 4fd6fe044c7407d68435d36c51e2413ba39d6a3a -> tested/master
_______________________________________________
Xen-devel mailing list
Xen-devel@lists.xenproject.org
https://lists.xenproject.org/mailman/listinfo/xen-devel
^ permalink raw reply [flat|nested] only message in thread
only message in thread, other threads:[~2019-06-15 19:39 UTC | newest]
Thread overview: (only message) (download: mbox.gz / follow: Atom feed)
-- links below jump to the message on this page --
2019-06-15 19:39 [Xen-devel] [freebsd-master test] 137723: all pass - PUSHED osstest service owner
This is a public inbox, see mirroring instructions
for how to clone and mirror all data and code used for this inbox;
as well as URLs for NNTP newsgroup(s).