Xen-Devel Archive on lore.kernel.org
 help / color / Atom feed
* [Xen-devel] [xen-unstable-coverity test] 140105: all pass - PUSHED
@ 2019-08-14  9:52 osstest service owner
  2019-08-15 12:50 ` Anthony PERARD
  0 siblings, 1 reply; 2+ messages in thread
From: osstest service owner @ 2019-08-14  9:52 UTC (permalink / raw)
  To: xen-devel, osstest-admin

flight 140105 xen-unstable-coverity real [real]
http://logs.test-lab.xenproject.org/osstest/logs/140105/

Perfect :-)
All tests in this flight passed as required
version targeted for testing:
 xen                  243cc95d485846e35f5e2445fdaafe77c8c114d2
baseline version:
 xen                  762b9a2d990bba1f3aefe660cff0c37ad2e375bc

Last test of basis   139934  2019-08-11 09:18:29 Z    3 days
Testing same since   140105  2019-08-14 09:19:18 Z    0 days    1 attempts

------------------------------------------------------------
People who touched revisions under test:
  Andrew Cooper <andrew.cooper3@citrix.com>
  David Woodhouse <dwmw@amazon.co.uk>
  Jan Beulich <jbeulich@suse.com>
  Julien Grall <julien.grall@arm.com>

jobs:
 coverity-amd64                                               pass    


------------------------------------------------------------
sg-report-flight on osstest.test-lab.xenproject.org
logs: /home/logs/logs
images: /home/logs/images

Logs, config files, etc. are available at
    http://logs.test-lab.xenproject.org/osstest/logs

Explanation of these reports, and of osstest in general, is at
    http://xenbits.xen.org/gitweb/?p=osstest.git;a=blob;f=README.email;hb=master
    http://xenbits.xen.org/gitweb/?p=osstest.git;a=blob;f=README;hb=master

Test harness code can be found at
    http://xenbits.xen.org/gitweb?p=osstest.git;a=summary


Pushing revision :

To xenbits.xen.org:/home/xen/git/xen.git
   762b9a2d99..243cc95d48  243cc95d485846e35f5e2445fdaafe77c8c114d2 -> coverity-tested/smoke

_______________________________________________
Xen-devel mailing list
Xen-devel@lists.xenproject.org
https://lists.xenproject.org/mailman/listinfo/xen-devel

^ permalink raw reply	[flat|nested] 2+ messages in thread

* Re: [Xen-devel] [xen-unstable-coverity test] 140105: all pass - PUSHED
  2019-08-14  9:52 [Xen-devel] [xen-unstable-coverity test] 140105: all pass - PUSHED osstest service owner
@ 2019-08-15 12:50 ` Anthony PERARD
  0 siblings, 0 replies; 2+ messages in thread
From: Anthony PERARD @ 2019-08-15 12:50 UTC (permalink / raw)
  To: osstest service owner, Ian Jackson, Andrew Cooper; +Cc: xen-devel

On Wed, Aug 14, 2019 at 09:52:31AM +0000, osstest service owner wrote:
> flight 140105 xen-unstable-coverity real [real]
> http://logs.test-lab.xenproject.org/osstest/logs/140105/
> 
> Perfect :-)
> All tests in this flight passed as required
> version targeted for testing:
>  xen                  243cc95d485846e35f5e2445fdaafe77c8c114d2
> baseline version:
>  xen                  762b9a2d990bba1f3aefe660cff0c37ad2e375bc
> 
> Last test of basis   139934  2019-08-11 09:18:29 Z    3 days
> Testing same since   140105  2019-08-14 09:19:18 Z    0 days    1 attempts

I don't think the coverity upload is working.

On https://scan.coverity.com/projects/xenproject:
  Last build analyzed: 3 months ago

And in the log [1], when the upload is done, there is:
  Your build is already in the queue for analysis. Please wait till analysis finishes before uploading another build.

[1] http://logs.test-lab.xenproject.org/osstest/logs/140105/coverity-amd64/7.ts-coverity-upload.log

-- 
Anthony PERARD

_______________________________________________
Xen-devel mailing list
Xen-devel@lists.xenproject.org
https://lists.xenproject.org/mailman/listinfo/xen-devel

^ permalink raw reply	[flat|nested] 2+ messages in thread

end of thread, back to index

Thread overview: 2+ messages (download: mbox.gz / follow: Atom feed)
-- links below jump to the message on this page --
2019-08-14  9:52 [Xen-devel] [xen-unstable-coverity test] 140105: all pass - PUSHED osstest service owner
2019-08-15 12:50 ` Anthony PERARD

Xen-Devel Archive on lore.kernel.org

Archives are clonable:
	git clone --mirror https://lore.kernel.org/xen-devel/0 xen-devel/git/0.git
	git clone --mirror https://lore.kernel.org/xen-devel/1 xen-devel/git/1.git

	# If you have public-inbox 1.1+ installed, you may
	# initialize and index your mirror using the following commands:
	public-inbox-init -V2 xen-devel xen-devel/ https://lore.kernel.org/xen-devel \
		xen-devel@lists.xenproject.org xen-devel@archiver.kernel.org
	public-inbox-index xen-devel


Newsgroup available over NNTP:
	nntp://nntp.lore.kernel.org/org.xenproject.lists.xen-devel


AGPL code for this site: git clone https://public-inbox.org/ public-inbox