From: osstest service owner <osstest-admin@xenproject.org>
To: xen-devel@lists.xenproject.org, osstest-admin@xenproject.org
Subject: [Xen-devel] [ovmf test] 140405: all pass - PUSHED
Date: Wed, 21 Aug 2019 02:04:41 +0000 [thread overview]
Message-ID: <osstest-140405-mainreport@xen.org> (raw)
flight 140405 ovmf real [real]
http://logs.test-lab.xenproject.org/osstest/logs/140405/
Perfect :-)
All tests in this flight passed as required
version targeted for testing:
ovmf 0970a80583a9a0595eb357f380e604b57136fa26
baseline version:
ovmf 501de8146d4fda1d423cd935316661746bdb750b
Last test of basis 140200 2019-08-16 11:39:55 Z 4 days
Failing since 140332 2019-08-19 01:11:08 Z 2 days 3 attempts
Testing same since 140405 2019-08-20 07:24:10 Z 0 days 1 attempts
------------------------------------------------------------
People who touched revisions under test:
Andrew Fish <afish@apple.com>
Bob Feng <bob.c.feng@intel.com>
Fan, ZhijuX <zhijux.fan@intel.com>
Feng, Bob C <bob.c.feng@intel.com>
Jordan Justen <jordan.l.justen@intel.com>
Michael D Kinney <michael.d.kinney@intel.com>
Shenglei Zhang <shenglei.zhang@intel.com>
Shi, Steven <steven.shi@intel.com>
Steven Shi <steven.shi@intel.com>
Zhichao Gao <zhichao.gao@intel.com>
Zhiju.Fan <zhijux.fan@intel.com>
jobs:
build-amd64-xsm pass
build-i386-xsm pass
build-amd64 pass
build-i386 pass
build-amd64-libvirt pass
build-i386-libvirt pass
build-amd64-pvops pass
build-i386-pvops pass
test-amd64-amd64-xl-qemuu-ovmf-amd64 pass
test-amd64-i386-xl-qemuu-ovmf-amd64 pass
------------------------------------------------------------
sg-report-flight on osstest.test-lab.xenproject.org
logs: /home/logs/logs
images: /home/logs/images
Logs, config files, etc. are available at
http://logs.test-lab.xenproject.org/osstest/logs
Explanation of these reports, and of osstest in general, is at
http://xenbits.xen.org/gitweb/?p=osstest.git;a=blob;f=README.email;hb=master
http://xenbits.xen.org/gitweb/?p=osstest.git;a=blob;f=README;hb=master
Test harness code can be found at
http://xenbits.xen.org/gitweb?p=osstest.git;a=summary
Pushing revision :
To xenbits.xen.org:/home/xen/git/osstest/ovmf.git
501de8146d..0970a80583 0970a80583a9a0595eb357f380e604b57136fa26 -> xen-tested-master
_______________________________________________
Xen-devel mailing list
Xen-devel@lists.xenproject.org
https://lists.xenproject.org/mailman/listinfo/xen-devel
reply other threads:[~2019-08-21 2:06 UTC|newest]
Thread overview: [no followups] expand[flat|nested] mbox.gz Atom feed
Reply instructions:
You may reply publicly to this message via plain-text email
using any one of the following methods:
* Save the following mbox file, import it into your mail client,
and reply-to-all from there: mbox
Avoid top-posting and favor interleaved quoting:
https://en.wikipedia.org/wiki/Posting_style#Interleaved_style
* Reply using the --to, --cc, and --in-reply-to
switches of git-send-email(1):
git send-email \
--in-reply-to=osstest-140405-mainreport@xen.org \
--to=osstest-admin@xenproject.org \
--cc=xen-devel@lists.xenproject.org \
/path/to/YOUR_REPLY
https://kernel.org/pub/software/scm/git/docs/git-send-email.html
* If your mail client supports setting the In-Reply-To header
via mailto: links, try the mailto: link
Be sure your reply has a Subject: header at the top and a blank line
before the message body.
This is a public inbox, see mirroring instructions
for how to clone and mirror all data and code used for this inbox;
as well as URLs for NNTP newsgroup(s).