Xen-Devel Archive on lore.kernel.org
 help / color / Atom feed
* [Xen-devel] [freebsd-master test] 140570: all pass - PUSHED
@ 2019-08-24  0:52 osstest service owner
  0 siblings, 0 replies; only message in thread
From: osstest service owner @ 2019-08-24  0:52 UTC (permalink / raw)
  To: xen-devel, osstest-admin, royger

flight 140570 freebsd-master real [real]
http://logs.test-lab.xenproject.org/osstest/logs/140570/

Perfect :-)
All tests in this flight passed as required
version targeted for testing:
 freebsd              1347212622414842dae7ecda75cbfdd1e5c4cfee
baseline version:
 freebsd              86c98d165a4b667fe15d1c139a5cb363cec17282

Last test of basis   140468  2019-08-21 09:24:55 Z    2 days
Testing same since   140570  2019-08-23 09:19:55 Z    0 days    1 attempts

------------------------------------------------------------
People who touched revisions under test:
  asomers <asomers@FreeBSD.org>
  brooks <brooks@FreeBSD.org>
  bz <bz@FreeBSD.org>
  cem <cem@FreeBSD.org>
  cy <cy@FreeBSD.org>
  delphij <delphij@FreeBSD.org>
  emaste <emaste@FreeBSD.org>
  eugen <eugen@FreeBSD.org>
  imp <imp@FreeBSD.org>
  jhb <jhb@FreeBSD.org>
  karels <karels@FreeBSD.org>
  kevans <kevans@FreeBSD.org>
  kib <kib@FreeBSD.org>
  lwhsu <lwhsu@FreeBSD.org>
  markj <markj@FreeBSD.org>
  mav <mav@FreeBSD.org>
  mjg <mjg@FreeBSD.org>
  rmacklem <rmacklem@FreeBSD.org>
  rrs <rrs@FreeBSD.org>

jobs:
 build-amd64-freebsd-again                                    pass    
 build-amd64-freebsd                                          pass    
 build-amd64-xen-freebsd                                      pass    


------------------------------------------------------------
sg-report-flight on osstest.test-lab.xenproject.org
logs: /home/logs/logs
images: /home/logs/images

Logs, config files, etc. are available at
    http://logs.test-lab.xenproject.org/osstest/logs

Explanation of these reports, and of osstest in general, is at
    http://xenbits.xen.org/gitweb/?p=osstest.git;a=blob;f=README.email;hb=master
    http://xenbits.xen.org/gitweb/?p=osstest.git;a=blob;f=README;hb=master

Test harness code can be found at
    http://xenbits.xen.org/gitweb?p=osstest.git;a=summary


Pushing revision :

To xenbits.xen.org:/home/xen/git/freebsd.git
   86c98d165a4..13472126224  1347212622414842dae7ecda75cbfdd1e5c4cfee -> tested/master

_______________________________________________
Xen-devel mailing list
Xen-devel@lists.xenproject.org
https://lists.xenproject.org/mailman/listinfo/xen-devel

^ permalink raw reply	[flat|nested] only message in thread

only message in thread, back to index

Thread overview: (only message) (download: mbox.gz / follow: Atom feed)
-- links below jump to the message on this page --
2019-08-24  0:52 [Xen-devel] [freebsd-master test] 140570: all pass - PUSHED osstest service owner

Xen-Devel Archive on lore.kernel.org

Archives are clonable:
	git clone --mirror https://lore.kernel.org/xen-devel/0 xen-devel/git/0.git
	git clone --mirror https://lore.kernel.org/xen-devel/1 xen-devel/git/1.git

	# If you have public-inbox 1.1+ installed, you may
	# initialize and index your mirror using the following commands:
	public-inbox-init -V2 xen-devel xen-devel/ https://lore.kernel.org/xen-devel \
		xen-devel@lists.xenproject.org xen-devel@archiver.kernel.org
	public-inbox-index xen-devel


Newsgroup available over NNTP:
	nntp://nntp.lore.kernel.org/org.xenproject.lists.xen-devel


AGPL code for this site: git clone https://public-inbox.org/ public-inbox