From: osstest service owner <osstest-admin@xenproject.org>
To: xen-devel@lists.xenproject.org, osstest-admin@xenproject.org
Subject: [Xen-devel] [xen-unstable-coverity test] 140631: all pass - PUSHED
Date: Sun, 25 Aug 2019 10:03:32 +0000 [thread overview]
Message-ID: <osstest-140631-mainreport@xen.org> (raw)
flight 140631 xen-unstable-coverity real [real]
http://logs.test-lab.xenproject.org/osstest/logs/140631/
Perfect :-)
All tests in this flight passed as required
version targeted for testing:
xen 7ef63cd38bbf8f9153549d5216e14a07e7f4ece6
baseline version:
xen 77a994f3f8eb0d3cb0f2bf314b0ebf6a1d37f623
Last test of basis 140465 2019-08-21 09:20:58 Z 4 days
Testing same since 140631 2019-08-25 09:18:34 Z 0 days 1 attempts
------------------------------------------------------------
People who touched revisions under test:
Andrew Cooper <andrew.cooper3@citrix.com>
Brian Woods <brian.woods@amd.com>
Christian Lindig <christian.lindig@citrix.com>
Daniel De Graaf <dgdegra@tycho.nsa.gov>
George Dunlap <George.Dunlap@eu.citrix.com>
Igor Druzhinin <igor.druzhinin@citrix.com>
Jan Beulich <jbeulich@suse.com>
Julien Grall <julien.grall@arm.com>
Marek Marczykowski-Górecki <marmarek@invisiblethingslab.com>
Paul Durrant <paul.durrant@citrix.com>
Wei Liu <wl@xen.org>
jobs:
coverity-amd64 pass
------------------------------------------------------------
sg-report-flight on osstest.test-lab.xenproject.org
logs: /home/logs/logs
images: /home/logs/images
Logs, config files, etc. are available at
http://logs.test-lab.xenproject.org/osstest/logs
Explanation of these reports, and of osstest in general, is at
http://xenbits.xen.org/gitweb/?p=osstest.git;a=blob;f=README.email;hb=master
http://xenbits.xen.org/gitweb/?p=osstest.git;a=blob;f=README;hb=master
Test harness code can be found at
http://xenbits.xen.org/gitweb?p=osstest.git;a=summary
Pushing revision :
To xenbits.xen.org:/home/xen/git/xen.git
77a994f3f8..7ef63cd38b 7ef63cd38bbf8f9153549d5216e14a07e7f4ece6 -> coverity-tested/smoke
_______________________________________________
Xen-devel mailing list
Xen-devel@lists.xenproject.org
https://lists.xenproject.org/mailman/listinfo/xen-devel
reply other threads:[~2019-08-25 10:04 UTC|newest]
Thread overview: [no followups] expand[flat|nested] mbox.gz Atom feed
Reply instructions:
You may reply publicly to this message via plain-text email
using any one of the following methods:
* Save the following mbox file, import it into your mail client,
and reply-to-all from there: mbox
Avoid top-posting and favor interleaved quoting:
https://en.wikipedia.org/wiki/Posting_style#Interleaved_style
* Reply using the --to, --cc, and --in-reply-to
switches of git-send-email(1):
git send-email \
--in-reply-to=osstest-140631-mainreport@xen.org \
--to=osstest-admin@xenproject.org \
--cc=xen-devel@lists.xenproject.org \
/path/to/YOUR_REPLY
https://kernel.org/pub/software/scm/git/docs/git-send-email.html
* If your mail client supports setting the In-Reply-To header
via mailto: links, try the mailto: link
Be sure your reply has a Subject: header at the top and a blank line
before the message body.
This is a public inbox, see mirroring instructions
for how to clone and mirror all data and code used for this inbox;
as well as URLs for NNTP newsgroup(s).