* [Xen-devel] [xen-unstable-smoke test] 141169: trouble: blocked/broken
@ 2019-09-10 7:21 osstest service owner
0 siblings, 0 replies; only message in thread
From: osstest service owner @ 2019-09-10 7:21 UTC (permalink / raw)
To: xen-devel, osstest-admin
flight 141169 xen-unstable-smoke real [real]
http://logs.test-lab.xenproject.org/osstest/logs/141169/
Failures and problems with tests :-(
Tests which did not succeed and are blocking,
including tests which could not be run:
build-armhf <job status> broken
build-amd64 <job status> broken
build-arm64-xsm <job status> broken
build-amd64 4 host-install(4) broken REGR. vs. 141097
build-arm64-xsm 4 host-install(4) broken REGR. vs. 141097
build-armhf 4 host-install(4) broken REGR. vs. 141097
Tests which did not succeed, but are not blocking:
build-amd64-libvirt 1 build-check(1) blocked n/a
test-amd64-amd64-libvirt 1 build-check(1) blocked n/a
test-amd64-amd64-xl-qemuu-debianhvm-amd64 1 build-check(1) blocked n/a
test-armhf-armhf-xl 1 build-check(1) blocked n/a
test-arm64-arm64-xl-xsm 1 build-check(1) blocked n/a
version targeted for testing:
xen af5793cac20cff6f60fb2f8ed19c5af1201943be
baseline version:
xen 74791511067aaff67efbd2555a5f635246264453
Last test of basis 141097 2019-09-06 17:00:57 Z 3 days
Failing since 141114 2019-09-07 12:01:20 Z 2 days 4 attempts
Testing same since 141169 2019-09-09 21:00:25 Z 0 days 1 attempts
------------------------------------------------------------
People who touched revisions under test:
Jan Beulich <jbeulich@suse.com>
Juergen Gross <jgross@suse.com>
Julien Grall <julien.grall@arm.com>
Roger Pau Monne <roger.pau@citrix.com>
Roger Pau Monné <roger.pau@citrix.com>
Stefano Stabellini <sstabellini@kernel.org>
jobs:
build-arm64-xsm broken
build-amd64 broken
build-armhf broken
build-amd64-libvirt blocked
test-armhf-armhf-xl blocked
test-arm64-arm64-xl-xsm blocked
test-amd64-amd64-xl-qemuu-debianhvm-amd64 blocked
test-amd64-amd64-libvirt blocked
------------------------------------------------------------
sg-report-flight on osstest.test-lab.xenproject.org
logs: /home/logs/logs
images: /home/logs/images
Logs, config files, etc. are available at
http://logs.test-lab.xenproject.org/osstest/logs
Explanation of these reports, and of osstest in general, is at
http://xenbits.xen.org/gitweb/?p=osstest.git;a=blob;f=README.email;hb=master
http://xenbits.xen.org/gitweb/?p=osstest.git;a=blob;f=README;hb=master
Test harness code can be found at
http://xenbits.xen.org/gitweb?p=osstest.git;a=summary
broken-job build-armhf broken
broken-job build-amd64 broken
broken-job build-arm64-xsm broken
broken-step build-amd64 host-install(4)
broken-step build-arm64-xsm host-install(4)
broken-step build-armhf host-install(4)
Not pushing.
(No revision log; it would be 401 lines long.)
_______________________________________________
Xen-devel mailing list
Xen-devel@lists.xenproject.org
https://lists.xenproject.org/mailman/listinfo/xen-devel
^ permalink raw reply [flat|nested] only message in thread
only message in thread, other threads:[~2019-09-10 7:22 UTC | newest]
Thread overview: (only message) (download: mbox.gz / follow: Atom feed)
-- links below jump to the message on this page --
2019-09-10 7:21 [Xen-devel] [xen-unstable-smoke test] 141169: trouble: blocked/broken osstest service owner
This is a public inbox, see mirroring instructions
for how to clone and mirror all data and code used for this inbox;
as well as URLs for NNTP newsgroup(s).