From: osstest service owner <osstest-admin@xenproject.org>
To: xen-devel@lists.xenproject.org, osstest-admin@xenproject.org
Subject: [Xen-devel] [xen-unstable test] 141172: trouble: blocked/broken
Date: Tue, 10 Sep 2019 18:09:48 +0000 [thread overview]
Message-ID: <osstest-141172-mainreport@xen.org> (raw)
flight 141172 xen-unstable real [real]
http://logs.test-lab.xenproject.org/osstest/logs/141172/
Failures and problems with tests :-(
Tests which did not succeed and are blocking,
including tests which could not be run:
build-i386-prev <job status> broken
build-amd64-pvops <job status> broken
build-i386 <job status> broken
build-amd64-xsm <job status> broken
build-i386-xsm <job status> broken
build-amd64-prev <job status> broken
build-armhf <job status> broken
build-arm64-xsm <job status> broken
build-armhf-pvops <job status> broken
build-arm64-pvops <job status> broken
build-arm64 <job status> broken
build-amd64 <job status> broken
build-i386-pvops <job status> broken
build-amd64-xtf <job status> broken
build-i386-pvops 4 host-install(4) broken REGR. vs. 139876
build-arm64 4 host-install(4) broken REGR. vs. 139876
build-i386-prev 4 host-install(4) broken REGR. vs. 139876
build-armhf-pvops 4 host-install(4) broken REGR. vs. 139876
build-i386-xsm 4 host-install(4) broken REGR. vs. 139876
build-amd64-xsm 4 host-install(4) broken REGR. vs. 139876
build-amd64-pvops 4 host-install(4) broken REGR. vs. 139876
build-amd64-xtf 4 host-install(4) broken REGR. vs. 139876
build-amd64-prev 4 host-install(4) broken REGR. vs. 139876
build-arm64-xsm 4 host-install(4) broken REGR. vs. 139876
build-arm64-pvops 4 host-install(4) broken REGR. vs. 139876
build-amd64 4 host-install(4) broken REGR. vs. 139876
build-i386 4 host-install(4) broken REGR. vs. 139876
build-armhf 4 host-install(4) broken REGR. vs. 139876
Tests which did not succeed, but are not blocking:
test-xtf-amd64-amd64-5 1 build-check(1) blocked n/a
test-xtf-amd64-amd64-1 1 build-check(1) blocked n/a
test-amd64-i386-migrupgrade 1 build-check(1) blocked n/a
test-amd64-amd64-examine 1 build-check(1) blocked n/a
build-armhf-libvirt 1 build-check(1) blocked n/a
build-arm64-libvirt 1 build-check(1) blocked n/a
test-armhf-armhf-xl-credit1 1 build-check(1) blocked n/a
test-amd64-i386-xl-xsm 1 build-check(1) blocked n/a
test-armhf-armhf-xl-vhd 1 build-check(1) blocked n/a
test-amd64-i386-xl-qemuu-ovmf-amd64 1 build-check(1) blocked n/a
test-amd64-amd64-libvirt-qemuu-debianhvm-amd64-xsm 1 build-check(1) blocked n/a
test-arm64-arm64-xl-credit2 1 build-check(1) blocked n/a
test-amd64-amd64-xl-qemut-win7-amd64 1 build-check(1) blocked n/a
test-amd64-i386-xl-qemuu-win7-amd64 1 build-check(1) blocked n/a
test-amd64-i386-xl-raw 1 build-check(1) blocked n/a
test-amd64-i386-xl-qemuu-debianhvm-amd64-shadow 1 build-check(1) blocked n/a
test-amd64-amd64-xl-qemut-debianhvm-i386-xsm 1 build-check(1) blocked n/a
test-amd64-amd64-xl-multivcpu 1 build-check(1) blocked n/a
test-amd64-amd64-livepatch 1 build-check(1) blocked n/a
test-amd64-amd64-xl-qemuu-debianhvm-amd64-shadow 1 build-check(1) blocked n/a
test-amd64-i386-xl-qemuu-dmrestrict-amd64-dmrestrict 1 build-check(1) blocked n/a
test-amd64-amd64-xl-pvshim 1 build-check(1) blocked n/a
test-amd64-amd64-pygrub 1 build-check(1) blocked n/a
test-arm64-arm64-xl-thunderx 1 build-check(1) blocked n/a
test-amd64-i386-livepatch 1 build-check(1) blocked n/a
test-arm64-arm64-xl-xsm 1 build-check(1) blocked n/a
test-amd64-amd64-xl-qemut-win10-i386 1 build-check(1) blocked n/a
test-amd64-amd64-libvirt-vhd 1 build-check(1) blocked n/a
test-armhf-armhf-xl 1 build-check(1) blocked n/a
test-amd64-i386-examine 1 build-check(1) blocked n/a
test-amd64-amd64-i386-pvgrub 1 build-check(1) blocked n/a
test-amd64-i386-libvirt-xsm 1 build-check(1) blocked n/a
test-amd64-amd64-xl-qemuu-dmrestrict-amd64-dmrestrict 1 build-check(1) blocked n/a
test-arm64-arm64-libvirt-xsm 1 build-check(1) blocked n/a
test-armhf-armhf-xl-credit2 1 build-check(1) blocked n/a
test-amd64-i386-xl-qemut-stubdom-debianhvm-amd64-xsm 1 build-check(1) blocked n/a
test-xtf-amd64-amd64-3 1 build-check(1) blocked n/a
test-amd64-i386-xl-qemut-win7-amd64 1 build-check(1) blocked n/a
test-amd64-amd64-xl-pvhv2-intel 1 build-check(1) blocked n/a
test-armhf-armhf-examine 1 build-check(1) blocked n/a
test-amd64-amd64-xl-qemut-ws16-amd64 1 build-check(1) blocked n/a
test-amd64-i386-xl-qemut-debianhvm-i386-xsm 1 build-check(1) blocked n/a
test-armhf-armhf-libvirt 1 build-check(1) blocked n/a
test-amd64-amd64-xl-pvhv2-amd 1 build-check(1) blocked n/a
test-amd64-amd64-xl-shadow 1 build-check(1) blocked n/a
test-amd64-amd64-pair 1 build-check(1) blocked n/a
test-amd64-i386-libvirt-qemuu-debianhvm-amd64-xsm 1 build-check(1) blocked n/a
test-xtf-amd64-amd64-2 1 build-check(1) blocked n/a
test-amd64-amd64-xl-qemuu-win10-i386 1 build-check(1) blocked n/a
build-amd64-libvirt 1 build-check(1) blocked n/a
test-armhf-armhf-xl-arndale 1 build-check(1) blocked n/a
test-amd64-amd64-libvirt-xsm 1 build-check(1) blocked n/a
test-armhf-armhf-libvirt-raw 1 build-check(1) blocked n/a
test-amd64-amd64-xl-qemuu-debianhvm-amd64 1 build-check(1) blocked n/a
test-amd64-amd64-qemuu-nested-intel 1 build-check(1) blocked n/a
test-amd64-amd64-libvirt-pair 1 build-check(1) blocked n/a
test-amd64-amd64-xl-qemut-stubdom-debianhvm-amd64-xsm 1 build-check(1) blocked n/a
test-amd64-i386-freebsd10-i386 1 build-check(1) blocked n/a
test-amd64-i386-xl-pvshim 1 build-check(1) blocked n/a
test-amd64-amd64-xl-rtds 1 build-check(1) blocked n/a
test-arm64-arm64-xl-credit1 1 build-check(1) blocked n/a
test-amd64-amd64-xl-credit1 1 build-check(1) blocked n/a
test-arm64-arm64-examine 1 build-check(1) blocked n/a
test-amd64-i386-xl-qemuu-debianhvm-amd64 1 build-check(1) blocked n/a
test-amd64-i386-xl-qemut-debianhvm-amd64 1 build-check(1) blocked n/a
test-amd64-amd64-xl-credit2 1 build-check(1) blocked n/a
test-amd64-amd64-libvirt 1 build-check(1) blocked n/a
test-amd64-i386-qemut-rhel6hvm-intel 1 build-check(1) blocked n/a
test-amd64-amd64-migrupgrade 1 build-check(1) blocked n/a
test-amd64-i386-xl-qemuu-ws16-amd64 1 build-check(1) blocked n/a
test-amd64-i386-libvirt-pair 1 build-check(1) blocked n/a
test-amd64-i386-xl-qemuu-debianhvm-i386-xsm 1 build-check(1) blocked n/a
test-amd64-i386-qemut-rhel6hvm-amd 1 build-check(1) blocked n/a
test-amd64-amd64-xl-qemuu-ws16-amd64 1 build-check(1) blocked n/a
build-i386-libvirt 1 build-check(1) blocked n/a
test-amd64-i386-pair 1 build-check(1) blocked n/a
test-arm64-arm64-xl-seattle 1 build-check(1) blocked n/a
test-amd64-i386-xl-qemuu-win10-i386 1 build-check(1) blocked n/a
test-amd64-amd64-xl 1 build-check(1) blocked n/a
test-armhf-armhf-xl-multivcpu 1 build-check(1) blocked n/a
test-amd64-i386-libvirt 1 build-check(1) blocked n/a
test-amd64-amd64-xl-xsm 1 build-check(1) blocked n/a
test-amd64-i386-qemuu-rhel6hvm-intel 1 build-check(1) blocked n/a
test-xtf-amd64-amd64-4 1 build-check(1) blocked n/a
test-armhf-armhf-xl-cubietruck 1 build-check(1) blocked n/a
test-amd64-amd64-xl-qemuu-win7-amd64 1 build-check(1) blocked n/a
test-armhf-armhf-xl-rtds 1 build-check(1) blocked n/a
test-amd64-i386-xl-qemut-win10-i386 1 build-check(1) blocked n/a
test-amd64-amd64-amd64-pvgrub 1 build-check(1) blocked n/a
test-amd64-i386-xl-shadow 1 build-check(1) blocked n/a
test-amd64-amd64-qemuu-nested-amd 1 build-check(1) blocked n/a
test-amd64-amd64-xl-qemut-debianhvm-amd64 1 build-check(1) blocked n/a
test-amd64-amd64-xl-qcow2 1 build-check(1) blocked n/a
test-amd64-i386-xl 1 build-check(1) blocked n/a
test-arm64-arm64-xl 1 build-check(1) blocked n/a
test-amd64-i386-freebsd10-amd64 1 build-check(1) blocked n/a
test-amd64-i386-qemuu-rhel6hvm-amd 1 build-check(1) blocked n/a
test-amd64-i386-xl-qemut-ws16-amd64 1 build-check(1) blocked n/a
test-amd64-amd64-xl-qemuu-ovmf-amd64 1 build-check(1) blocked n/a
test-amd64-amd64-xl-qemuu-debianhvm-i386-xsm 1 build-check(1) blocked n/a
version targeted for testing:
xen 74791511067aaff67efbd2555a5f635246264453
baseline version:
xen 6c9639a72f0ca3a9430ef75f375877182281fdef
Last test of basis 139876 2019-08-09 18:46:56 Z 31 days
Failing since 139915 2019-08-10 20:44:23 Z 30 days 34 attempts
Testing same since 141108 2019-09-07 04:29:07 Z 3 days 2 attempts
------------------------------------------------------------
People who touched revisions under test:
Alexandru Isaila <aisaila@bitdefender.com>
Alexandru Stefan ISAILA <aisaila@bitdefender.com>
Andrew Cooper <andrew.cooper3@citrix.com>
Bandan Das <bsd@redhat.com>
Brian Woods <brian.woods@amd.com>
Chao Gao <chao.gao@intel.com>
Christian Lindig <christian.lindig@citrix.com>
Daniel De Graaf <dgdegra@tycho.nsa.gov>
David Woodhouse <dwmw@amazon.co.uk>
George Dunlap <george.dunlap@citrix.com>
George Dunlap <George.Dunlap@eu.citrix.com>
Ian Jackson <ian.jackson@eu.citrix.com>
Igor Druzhinin <igor.druzhinin@citrix.com>
Jan Beulich <jbeulich@suse.com>
Juergen Gross <jgross@suse.com>
Julien Grall <julien.grall@arm.com>
Kevin Tian <kevin.tian@intel.com>
Marek Marczykowski-Górecki <marmarek@invisiblethingslab.com>
Michael Young <m.a.young@durham.ac.uk>
Michał Kowalczyk <mkow@invisiblethingslab.com>
Paul Durrant <paul.durrant@citrix.com>
Pawel Wieczorkiewicz <wipawel@amazon.de>
Roger Pau Monne <roger.pau@citrix.com>
Roger Pau Monné <roger.pau@citrix.com>
Roman Shaposhnik <roman@zededa.com>
Stefano Stabellini <sstabellini@kernel.org>
Stefano Stabellini <stefanos@xilinx.com>
Tim Deegan <tim@xen.org>
Viktor Mitin <viktor.mitin.19@gmail.com>
Viktor Mitin <viktor_mitin@epam.com>
Wei Liu <wei.liu2@citrix.com>
Wei Liu <wl@xen.org>
Zhang Rui <rui.zhang@intel.com>
jobs:
build-amd64-xsm broken
build-arm64-xsm broken
build-i386-xsm broken
build-amd64-xtf broken
build-amd64 broken
build-arm64 broken
build-armhf broken
build-i386 broken
build-amd64-libvirt blocked
build-arm64-libvirt blocked
build-armhf-libvirt blocked
build-i386-libvirt blocked
build-amd64-prev broken
build-i386-prev broken
build-amd64-pvops broken
build-arm64-pvops broken
build-armhf-pvops broken
build-i386-pvops broken
test-xtf-amd64-amd64-1 blocked
test-xtf-amd64-amd64-2 blocked
test-xtf-amd64-amd64-3 blocked
test-xtf-amd64-amd64-4 blocked
test-xtf-amd64-amd64-5 blocked
test-amd64-amd64-xl blocked
test-arm64-arm64-xl blocked
test-armhf-armhf-xl blocked
test-amd64-i386-xl blocked
test-amd64-amd64-libvirt-qemuu-debianhvm-amd64-xsm blocked
test-amd64-i386-libvirt-qemuu-debianhvm-amd64-xsm blocked
test-amd64-amd64-xl-qemut-stubdom-debianhvm-amd64-xsm blocked
test-amd64-i386-xl-qemut-stubdom-debianhvm-amd64-xsm blocked
test-amd64-amd64-xl-qemut-debianhvm-i386-xsm blocked
test-amd64-i386-xl-qemut-debianhvm-i386-xsm blocked
test-amd64-amd64-xl-qemuu-debianhvm-i386-xsm blocked
test-amd64-i386-xl-qemuu-debianhvm-i386-xsm blocked
test-amd64-amd64-libvirt-xsm blocked
test-arm64-arm64-libvirt-xsm blocked
test-amd64-i386-libvirt-xsm blocked
test-amd64-amd64-xl-xsm blocked
test-arm64-arm64-xl-xsm blocked
test-amd64-i386-xl-xsm blocked
test-amd64-amd64-qemuu-nested-amd blocked
test-amd64-amd64-xl-pvhv2-amd blocked
test-amd64-i386-qemut-rhel6hvm-amd blocked
test-amd64-i386-qemuu-rhel6hvm-amd blocked
test-amd64-amd64-xl-qemut-debianhvm-amd64 blocked
test-amd64-i386-xl-qemut-debianhvm-amd64 blocked
test-amd64-amd64-xl-qemuu-debianhvm-amd64 blocked
test-amd64-i386-xl-qemuu-debianhvm-amd64 blocked
test-amd64-i386-freebsd10-amd64 blocked
test-amd64-amd64-xl-qemuu-ovmf-amd64 blocked
test-amd64-i386-xl-qemuu-ovmf-amd64 blocked
test-amd64-amd64-xl-qemut-win7-amd64 blocked
test-amd64-i386-xl-qemut-win7-amd64 blocked
test-amd64-amd64-xl-qemuu-win7-amd64 blocked
test-amd64-i386-xl-qemuu-win7-amd64 blocked
test-amd64-amd64-xl-qemut-ws16-amd64 blocked
test-amd64-i386-xl-qemut-ws16-amd64 blocked
test-amd64-amd64-xl-qemuu-ws16-amd64 blocked
test-amd64-i386-xl-qemuu-ws16-amd64 blocked
test-armhf-armhf-xl-arndale blocked
test-amd64-amd64-xl-credit1 blocked
test-arm64-arm64-xl-credit1 blocked
test-armhf-armhf-xl-credit1 blocked
test-amd64-amd64-xl-credit2 blocked
test-arm64-arm64-xl-credit2 blocked
test-armhf-armhf-xl-credit2 blocked
test-armhf-armhf-xl-cubietruck blocked
test-amd64-amd64-xl-qemuu-dmrestrict-amd64-dmrestrict blocked
test-amd64-i386-xl-qemuu-dmrestrict-amd64-dmrestrict blocked
test-amd64-amd64-examine blocked
test-arm64-arm64-examine blocked
test-armhf-armhf-examine blocked
test-amd64-i386-examine blocked
test-amd64-i386-freebsd10-i386 blocked
test-amd64-amd64-xl-qemut-win10-i386 blocked
test-amd64-i386-xl-qemut-win10-i386 blocked
test-amd64-amd64-xl-qemuu-win10-i386 blocked
test-amd64-i386-xl-qemuu-win10-i386 blocked
test-amd64-amd64-qemuu-nested-intel blocked
test-amd64-amd64-xl-pvhv2-intel blocked
test-amd64-i386-qemut-rhel6hvm-intel blocked
test-amd64-i386-qemuu-rhel6hvm-intel blocked
test-amd64-amd64-libvirt blocked
test-armhf-armhf-libvirt blocked
test-amd64-i386-libvirt blocked
test-amd64-amd64-livepatch blocked
test-amd64-i386-livepatch blocked
test-amd64-amd64-migrupgrade blocked
test-amd64-i386-migrupgrade blocked
test-amd64-amd64-xl-multivcpu blocked
test-armhf-armhf-xl-multivcpu blocked
test-amd64-amd64-pair blocked
test-amd64-i386-pair blocked
test-amd64-amd64-libvirt-pair blocked
test-amd64-i386-libvirt-pair blocked
test-amd64-amd64-amd64-pvgrub blocked
test-amd64-amd64-i386-pvgrub blocked
test-amd64-amd64-xl-pvshim blocked
test-amd64-i386-xl-pvshim blocked
test-amd64-amd64-pygrub blocked
test-amd64-amd64-xl-qcow2 blocked
test-armhf-armhf-libvirt-raw blocked
test-amd64-i386-xl-raw blocked
test-amd64-amd64-xl-rtds blocked
test-armhf-armhf-xl-rtds blocked
test-arm64-arm64-xl-seattle blocked
test-amd64-amd64-xl-qemuu-debianhvm-amd64-shadow blocked
test-amd64-i386-xl-qemuu-debianhvm-amd64-shadow blocked
test-amd64-amd64-xl-shadow blocked
test-amd64-i386-xl-shadow blocked
test-arm64-arm64-xl-thunderx blocked
test-amd64-amd64-libvirt-vhd blocked
test-armhf-armhf-xl-vhd blocked
------------------------------------------------------------
sg-report-flight on osstest.test-lab.xenproject.org
logs: /home/logs/logs
images: /home/logs/images
Logs, config files, etc. are available at
http://logs.test-lab.xenproject.org/osstest/logs
Explanation of these reports, and of osstest in general, is at
http://xenbits.xen.org/gitweb/?p=osstest.git;a=blob;f=README.email;hb=master
http://xenbits.xen.org/gitweb/?p=osstest.git;a=blob;f=README;hb=master
Test harness code can be found at
http://xenbits.xen.org/gitweb?p=osstest.git;a=summary
broken-job build-i386-prev broken
broken-job build-amd64-pvops broken
broken-job build-i386 broken
broken-job build-amd64-xsm broken
broken-job build-i386-xsm broken
broken-job build-amd64-prev broken
broken-job build-armhf broken
broken-job build-arm64-xsm broken
broken-job build-armhf-pvops broken
broken-job build-arm64-pvops broken
broken-job build-arm64 broken
broken-job build-amd64 broken
broken-job build-i386-pvops broken
broken-job build-amd64-xtf broken
broken-step build-i386-pvops host-install(4)
broken-step build-arm64 host-install(4)
broken-step build-i386-prev host-install(4)
broken-step build-armhf-pvops host-install(4)
broken-step build-i386-xsm host-install(4)
broken-step build-amd64-xsm host-install(4)
broken-step build-amd64-pvops host-install(4)
broken-step build-amd64-xtf host-install(4)
broken-step build-amd64-prev host-install(4)
broken-step build-arm64-xsm host-install(4)
broken-step build-arm64-pvops host-install(4)
broken-step build-amd64 host-install(4)
broken-step build-i386 host-install(4)
broken-step build-armhf host-install(4)
Not pushing.
(No revision log; it would be 2032 lines long.)
_______________________________________________
Xen-devel mailing list
Xen-devel@lists.xenproject.org
https://lists.xenproject.org/mailman/listinfo/xen-devel
reply other threads:[~2019-09-10 18:10 UTC|newest]
Thread overview: [no followups] expand[flat|nested] mbox.gz Atom feed
Reply instructions:
You may reply publicly to this message via plain-text email
using any one of the following methods:
* Save the following mbox file, import it into your mail client,
and reply-to-all from there: mbox
Avoid top-posting and favor interleaved quoting:
https://en.wikipedia.org/wiki/Posting_style#Interleaved_style
* Reply using the --to, --cc, and --in-reply-to
switches of git-send-email(1):
git send-email \
--in-reply-to=osstest-141172-mainreport@xen.org \
--to=osstest-admin@xenproject.org \
--cc=xen-devel@lists.xenproject.org \
/path/to/YOUR_REPLY
https://kernel.org/pub/software/scm/git/docs/git-send-email.html
* If your mail client supports setting the In-Reply-To header
via mailto: links, try the mailto: link
Be sure your reply has a Subject: header at the top and a blank line
before the message body.
This is a public inbox, see mirroring instructions
for how to clone and mirror all data and code used for this inbox;
as well as URLs for NNTP newsgroup(s).