* [Xen-devel] [ovmf test] 144524: all pass - PUSHED
@ 2019-12-05 2:35 osstest service owner
0 siblings, 0 replies; only message in thread
From: osstest service owner @ 2019-12-05 2:35 UTC (permalink / raw)
To: xen-devel, osstest-admin
flight 144524 ovmf real [real]
http://logs.test-lab.xenproject.org/osstest/logs/144524/
Perfect :-)
All tests in this flight passed as required
version targeted for testing:
ovmf c9416efeef0d4a0554db01f3fd1cdaede14856d7
baseline version:
ovmf c8ff8e05afb6a20b1ae66aa80bb8636b664be0b2
Last test of basis 144518 2019-12-04 08:29:30 Z 0 days
Testing same since 144524 2019-12-05 00:39:50 Z 0 days 1 attempts
------------------------------------------------------------
People who touched revisions under test:
Zhiguang Liu <zhiguang.liu@intel.com>
jobs:
build-amd64-xsm pass
build-i386-xsm pass
build-amd64 pass
build-i386 pass
build-amd64-libvirt pass
build-i386-libvirt pass
build-amd64-pvops pass
build-i386-pvops pass
test-amd64-amd64-xl-qemuu-ovmf-amd64 pass
test-amd64-i386-xl-qemuu-ovmf-amd64 pass
------------------------------------------------------------
sg-report-flight on osstest.test-lab.xenproject.org
logs: /home/logs/logs
images: /home/logs/images
Logs, config files, etc. are available at
http://logs.test-lab.xenproject.org/osstest/logs
Explanation of these reports, and of osstest in general, is at
http://xenbits.xen.org/gitweb/?p=osstest.git;a=blob;f=README.email;hb=master
http://xenbits.xen.org/gitweb/?p=osstest.git;a=blob;f=README;hb=master
Test harness code can be found at
http://xenbits.xen.org/gitweb?p=osstest.git;a=summary
Pushing revision :
To xenbits.xen.org:/home/xen/git/osstest/ovmf.git
c8ff8e05af..c9416efeef c9416efeef0d4a0554db01f3fd1cdaede14856d7 -> xen-tested-master
_______________________________________________
Xen-devel mailing list
Xen-devel@lists.xenproject.org
https://lists.xenproject.org/mailman/listinfo/xen-devel
^ permalink raw reply [flat|nested] only message in thread
only message in thread, other threads:[~2019-12-05 2:36 UTC | newest]
Thread overview: (only message) (download: mbox.gz / follow: Atom feed)
-- links below jump to the message on this page --
2019-12-05 2:35 [Xen-devel] [ovmf test] 144524: all pass - PUSHED osstest service owner
This is a public inbox, see mirroring instructions
for how to clone and mirror all data and code used for this inbox;
as well as URLs for NNTP newsgroup(s).