* [xen-unstable-coverity test] 151106: all pass - PUSHED
@ 2020-06-14 11:27 osstest service owner
0 siblings, 0 replies; only message in thread
From: osstest service owner @ 2020-06-14 11:27 UTC (permalink / raw)
To: xen-devel, osstest-admin
flight 151106 xen-unstable-coverity real [real]
http://logs.test-lab.xenproject.org/osstest/logs/151106/
Perfect :-)
All tests in this flight passed as required
version targeted for testing:
xen b91825f628c9a62cf2a3a0d972ea81484a8b7fce
baseline version:
xen 51ca66c37371b10b378513af126646de22eddb17
Last test of basis 150905 2020-06-07 09:19:18 Z 7 days
Failing since 151009 2020-06-10 09:20:09 Z 4 days 2 attempts
Testing same since 151106 2020-06-14 09:23:09 Z 0 days 1 attempts
------------------------------------------------------------
People who touched revisions under test:
Andrew Cooper <andrew.cooper3@citrix.com>
George Dunlap <george.dunlap@citrix.com>
Ian Jackson <ian.jackson@eu.citrix.com>
Jan Beulich <jbeulich@suse.com>
Juergen Gross <jgross@suse.com>
Julien Grall <jgrall@amazon.com>
Nick Rosbrook <rosbrookn@ainfosec.com>
Paul Durrant <pdurrant@amazon.com>
Roger Pau Monne <roger.pau@citrix.com>
Roger Pau Monné <roger.pau@citrix.com>
Tamas K Lengyel <tamas@tklengyel.com>
Wei Liu <wl@xen.org>
jobs:
coverity-amd64 pass
------------------------------------------------------------
sg-report-flight on osstest.test-lab.xenproject.org
logs: /home/logs/logs
images: /home/logs/images
Logs, config files, etc. are available at
http://logs.test-lab.xenproject.org/osstest/logs
Explanation of these reports, and of osstest in general, is at
http://xenbits.xen.org/gitweb/?p=osstest.git;a=blob;f=README.email;hb=master
http://xenbits.xen.org/gitweb/?p=osstest.git;a=blob;f=README;hb=master
Test harness code can be found at
http://xenbits.xen.org/gitweb?p=osstest.git;a=summary
Pushing revision :
To xenbits.xen.org:/home/xen/git/xen.git
51ca66c373..b91825f628 b91825f628c9a62cf2a3a0d972ea81484a8b7fce -> coverity-tested/smoke
^ permalink raw reply [flat|nested] only message in thread
only message in thread, other threads:[~2020-06-14 11:28 UTC | newest]
Thread overview: (only message) (download: mbox.gz / follow: Atom feed)
-- links below jump to the message on this page --
2020-06-14 11:27 [xen-unstable-coverity test] 151106: all pass - PUSHED osstest service owner
This is a public inbox, see mirroring instructions
for how to clone and mirror all data and code used for this inbox;
as well as URLs for NNTP newsgroup(s).