Xen-Devel Archive on lore.kernel.org
 help / color / Atom feed
* [ovmf test] 152315: all pass - PUSHED
@ 2020-07-31 15:13 osstest service owner
  0 siblings, 0 replies; only message in thread
From: osstest service owner @ 2020-07-31 15:13 UTC (permalink / raw)
  To: xen-devel, osstest-admin

flight 152315 ovmf real [real]
http://logs.test-lab.xenproject.org/osstest/logs/152315/

Perfect :-)
All tests in this flight passed as required
version targeted for testing:
 ovmf                 7f79b736b0a57da71d87c987357db0227cd16ac6
baseline version:
 ovmf                 e848b58d7c85293cd4121287abcea2d22a4f0620

Last test of basis   152277  2020-07-29 04:16:17 Z    2 days
Testing same since   152315  2020-07-31 03:12:00 Z    0 days    1 attempts

------------------------------------------------------------
People who touched revisions under test:
  Shenglei Zhang <shenglei.zhang@intel.com>

jobs:
 build-amd64-xsm                                              pass    
 build-i386-xsm                                               pass    
 build-amd64                                                  pass    
 build-i386                                                   pass    
 build-amd64-libvirt                                          pass    
 build-i386-libvirt                                           pass    
 build-amd64-pvops                                            pass    
 build-i386-pvops                                             pass    
 test-amd64-amd64-xl-qemuu-ovmf-amd64                         pass    
 test-amd64-i386-xl-qemuu-ovmf-amd64                          pass    


------------------------------------------------------------
sg-report-flight on osstest.test-lab.xenproject.org
logs: /home/logs/logs
images: /home/logs/images

Logs, config files, etc. are available at
    http://logs.test-lab.xenproject.org/osstest/logs

Explanation of these reports, and of osstest in general, is at
    http://xenbits.xen.org/gitweb/?p=osstest.git;a=blob;f=README.email;hb=master
    http://xenbits.xen.org/gitweb/?p=osstest.git;a=blob;f=README;hb=master

Test harness code can be found at
    http://xenbits.xen.org/gitweb?p=osstest.git;a=summary


Pushing revision :

To xenbits.xen.org:/home/xen/git/osstest/ovmf.git
   e848b58d7c..7f79b736b0  7f79b736b0a57da71d87c987357db0227cd16ac6 -> xen-tested-master


^ permalink raw reply	[flat|nested] only message in thread

only message in thread, back to index

Thread overview: (only message) (download: mbox.gz / follow: Atom feed)
-- links below jump to the message on this page --
2020-07-31 15:13 [ovmf test] 152315: all pass - PUSHED osstest service owner

Xen-Devel Archive on lore.kernel.org

Archives are clonable:
	git clone --mirror https://lore.kernel.org/xen-devel/0 xen-devel/git/0.git
	git clone --mirror https://lore.kernel.org/xen-devel/1 xen-devel/git/1.git

	# If you have public-inbox 1.1+ installed, you may
	# initialize and index your mirror using the following commands:
	public-inbox-init -V2 xen-devel xen-devel/ https://lore.kernel.org/xen-devel \
		xen-devel@lists.xenproject.org xen-devel@lists.xen.org
	public-inbox-index xen-devel

Example config snippet for mirrors

Newsgroup available over NNTP:
	nntp://nntp.lore.kernel.org/org.xenproject.lists.xen-devel


AGPL code for this site: git clone https://public-inbox.org/public-inbox.git