From: osstest service owner <osstest-admin@xenproject.org>
To: xen-devel@lists.xenproject.org, osstest-admin@xenproject.org
Subject: [ovmf test] 155908: all pass - PUSHED
Date: Sat, 17 Oct 2020 09:25:21 +0000 [thread overview]
Message-ID: <osstest-155908-mainreport@xen.org> (raw)
flight 155908 ovmf real [real]
http://logs.test-lab.xenproject.org/osstest/logs/155908/
Perfect :-)
All tests in this flight passed as required
version targeted for testing:
ovmf 30f0ec8d80072ae3ab58e08014e6b2ffe3ef97e1
baseline version:
ovmf a7d977040bd82b89d1fe5ef32d488bfd10db2dbc
Last test of basis 155891 2020-10-16 10:41:44 Z 0 days
Testing same since 155908 2020-10-16 18:15:11 Z 0 days 1 attempts
------------------------------------------------------------
People who touched revisions under test:
Ard Biesheuvel <Ard.Biesheuvel@arm.com>
Hao A Wu <hao.a.wu@intel.com>
Laszlo Ersek <lersek@redhat.com>
Sami Mujawar <sami.mujawar@arm.com>
jobs:
build-amd64-xsm pass
build-i386-xsm pass
build-amd64 pass
build-i386 pass
build-amd64-libvirt pass
build-i386-libvirt pass
build-amd64-pvops pass
build-i386-pvops pass
test-amd64-amd64-xl-qemuu-ovmf-amd64 pass
test-amd64-i386-xl-qemuu-ovmf-amd64 pass
------------------------------------------------------------
sg-report-flight on osstest.test-lab.xenproject.org
logs: /home/logs/logs
images: /home/logs/images
Logs, config files, etc. are available at
http://logs.test-lab.xenproject.org/osstest/logs
Explanation of these reports, and of osstest in general, is at
http://xenbits.xen.org/gitweb/?p=osstest.git;a=blob;f=README.email;hb=master
http://xenbits.xen.org/gitweb/?p=osstest.git;a=blob;f=README;hb=master
Test harness code can be found at
http://xenbits.xen.org/gitweb?p=osstest.git;a=summary
Pushing revision :
To xenbits.xen.org:/home/xen/git/osstest/ovmf.git
a7d977040b..30f0ec8d80 30f0ec8d80072ae3ab58e08014e6b2ffe3ef97e1 -> xen-tested-master
reply other threads:[~2020-10-17 9:26 UTC|newest]
Thread overview: [no followups] expand[flat|nested] mbox.gz Atom feed
Reply instructions:
You may reply publicly to this message via plain-text email
using any one of the following methods:
* Save the following mbox file, import it into your mail client,
and reply-to-all from there: mbox
Avoid top-posting and favor interleaved quoting:
https://en.wikipedia.org/wiki/Posting_style#Interleaved_style
* Reply using the --to, --cc, and --in-reply-to
switches of git-send-email(1):
git send-email \
--in-reply-to=osstest-155908-mainreport@xen.org \
--to=osstest-admin@xenproject.org \
--cc=xen-devel@lists.xenproject.org \
/path/to/YOUR_REPLY
https://kernel.org/pub/software/scm/git/docs/git-send-email.html
* If your mail client supports setting the In-Reply-To header
via mailto: links, try the mailto: link
Be sure your reply has a Subject: header at the top and a blank line
before the message body.
This is a public inbox, see mirroring instructions
for how to clone and mirror all data and code used for this inbox;
as well as URLs for NNTP newsgroup(s).