Xen-Devel Archive on lore.kernel.org
 help / color / Atom feed
* [ovmf test] 155942: all pass - PUSHED
@ 2020-10-18 11:04 osstest service owner
  0 siblings, 0 replies; only message in thread
From: osstest service owner @ 2020-10-18 11:04 UTC (permalink / raw)
  To: xen-devel, osstest-admin

flight 155942 ovmf real [real]
http://logs.test-lab.xenproject.org/osstest/logs/155942/

Perfect :-)
All tests in this flight passed as required
version targeted for testing:
 ovmf                 73e3cb6c7eea4f5db81c87574dcefe1282de4772
baseline version:
 ovmf                 30f0ec8d80072ae3ab58e08014e6b2ffe3ef97e1

Last test of basis   155908  2020-10-16 18:15:11 Z    1 days
Testing same since   155942  2020-10-18 01:09:50 Z    0 days    1 attempts

------------------------------------------------------------
People who touched revisions under test:
  Matthew Carlson <macarl@microsoft.com>
  Matthew Carlson <matthewfcarlson@gmail.com>

jobs:
 build-amd64-xsm                                              pass    
 build-i386-xsm                                               pass    
 build-amd64                                                  pass    
 build-i386                                                   pass    
 build-amd64-libvirt                                          pass    
 build-i386-libvirt                                           pass    
 build-amd64-pvops                                            pass    
 build-i386-pvops                                             pass    
 test-amd64-amd64-xl-qemuu-ovmf-amd64                         pass    
 test-amd64-i386-xl-qemuu-ovmf-amd64                          pass    


------------------------------------------------------------
sg-report-flight on osstest.test-lab.xenproject.org
logs: /home/logs/logs
images: /home/logs/images

Logs, config files, etc. are available at
    http://logs.test-lab.xenproject.org/osstest/logs

Explanation of these reports, and of osstest in general, is at
    http://xenbits.xen.org/gitweb/?p=osstest.git;a=blob;f=README.email;hb=master
    http://xenbits.xen.org/gitweb/?p=osstest.git;a=blob;f=README;hb=master

Test harness code can be found at
    http://xenbits.xen.org/gitweb?p=osstest.git;a=summary


Pushing revision :

To xenbits.xen.org:/home/xen/git/osstest/ovmf.git
   30f0ec8d80..73e3cb6c7e  73e3cb6c7eea4f5db81c87574dcefe1282de4772 -> xen-tested-master


^ permalink raw reply	[flat|nested] only message in thread

only message in thread, back to index

Thread overview: (only message) (download: mbox.gz / follow: Atom feed)
-- links below jump to the message on this page --
2020-10-18 11:04 [ovmf test] 155942: all pass - PUSHED osstest service owner

Xen-Devel Archive on lore.kernel.org

Archives are clonable:
	git clone --mirror https://lore.kernel.org/xen-devel/0 xen-devel/git/0.git
	git clone --mirror https://lore.kernel.org/xen-devel/1 xen-devel/git/1.git

	# If you have public-inbox 1.1+ installed, you may
	# initialize and index your mirror using the following commands:
	public-inbox-init -V2 xen-devel xen-devel/ https://lore.kernel.org/xen-devel \
		xen-devel@lists.xenproject.org xen-devel@lists.xen.org
	public-inbox-index xen-devel

Example config snippet for mirrors

Newsgroup available over NNTP:
	nntp://nntp.lore.kernel.org/org.xenproject.lists.xen-devel


AGPL code for this site: git clone https://public-inbox.org/public-inbox.git