xen-devel.lists.xenproject.org archive mirror
 help / color / mirror / Atom feed
* [ovmf test] 160757: all pass - PUSHED
@ 2021-04-06  9:06 osstest service owner
  0 siblings, 0 replies; only message in thread
From: osstest service owner @ 2021-04-06  9:06 UTC (permalink / raw)
  To: xen-devel, osstest-admin

flight 160757 ovmf real [real]
http://logs.test-lab.xenproject.org/osstest/logs/160757/

Perfect :-)
All tests in this flight passed as required
version targeted for testing:
 ovmf                 4ac02962017c77bf38b462f970c884c2dc7931cf
baseline version:
 ovmf                 f95cdd316c3d56e8f76b5044be54b9645e1dc60f

Last test of basis   160687  2021-04-03 01:55:05 Z    3 days
Testing same since   160757  2021-04-06 01:11:18 Z    0 days    1 attempts

------------------------------------------------------------
People who touched revisions under test:
  Jiaxin Wu <Jiaxin.wu@intel.com>
  Zhang Hongbin1 <hongbin1.zhang@intel.com>

jobs:
 build-amd64-xsm                                              pass    
 build-i386-xsm                                               pass    
 build-amd64                                                  pass    
 build-i386                                                   pass    
 build-amd64-libvirt                                          pass    
 build-i386-libvirt                                           pass    
 build-amd64-pvops                                            pass    
 build-i386-pvops                                             pass    
 test-amd64-amd64-xl-qemuu-ovmf-amd64                         pass    
 test-amd64-i386-xl-qemuu-ovmf-amd64                          pass    


------------------------------------------------------------
sg-report-flight on osstest.test-lab.xenproject.org
logs: /home/logs/logs
images: /home/logs/images

Logs, config files, etc. are available at
    http://logs.test-lab.xenproject.org/osstest/logs

Explanation of these reports, and of osstest in general, is at
    http://xenbits.xen.org/gitweb/?p=osstest.git;a=blob;f=README.email;hb=master
    http://xenbits.xen.org/gitweb/?p=osstest.git;a=blob;f=README;hb=master

Test harness code can be found at
    http://xenbits.xen.org/gitweb?p=osstest.git;a=summary


Pushing revision :

To xenbits.xen.org:/home/xen/git/osstest/ovmf.git
   f95cdd316c..4ac0296201  4ac02962017c77bf38b462f970c884c2dc7931cf -> xen-tested-master


^ permalink raw reply	[flat|nested] only message in thread

only message in thread, other threads:[~2021-04-06  9:06 UTC | newest]

Thread overview: (only message) (download: mbox.gz / follow: Atom feed)
-- links below jump to the message on this page --
2021-04-06  9:06 [ovmf test] 160757: all pass - PUSHED osstest service owner

This is a public inbox, see mirroring instructions
for how to clone and mirror all data and code used for this inbox;
as well as URLs for NNTP newsgroup(s).