* [ovmf test] 161326: all pass - PUSHED
@ 2021-04-21 14:37 osstest service owner
0 siblings, 0 replies; only message in thread
From: osstest service owner @ 2021-04-21 14:37 UTC (permalink / raw)
To: xen-devel, osstest-admin
flight 161326 ovmf real [real]
http://logs.test-lab.xenproject.org/osstest/logs/161326/
Perfect :-)
All tests in this flight passed as required
version targeted for testing:
ovmf d3b0d007a135284981fa750612a47234b83976f9
baseline version:
ovmf 0bbc20727598421c4e47d46b982246217df8c6bc
Last test of basis 161312 2021-04-20 04:56:06 Z 1 days
Testing same since 161326 2021-04-20 12:41:12 Z 1 days 1 attempts
------------------------------------------------------------
People who touched revisions under test:
Shi, Steven <steven.shi@intel.com>
Steven Shi <steven.shi@intel.com>
jobs:
build-amd64-xsm pass
build-i386-xsm pass
build-amd64 pass
build-i386 pass
build-amd64-libvirt pass
build-i386-libvirt pass
build-amd64-pvops pass
build-i386-pvops pass
test-amd64-amd64-xl-qemuu-ovmf-amd64 pass
test-amd64-i386-xl-qemuu-ovmf-amd64 pass
------------------------------------------------------------
sg-report-flight on osstest.test-lab.xenproject.org
logs: /home/logs/logs
images: /home/logs/images
Logs, config files, etc. are available at
http://logs.test-lab.xenproject.org/osstest/logs
Explanation of these reports, and of osstest in general, is at
http://xenbits.xen.org/gitweb/?p=osstest.git;a=blob;f=README.email;hb=master
http://xenbits.xen.org/gitweb/?p=osstest.git;a=blob;f=README;hb=master
Test harness code can be found at
http://xenbits.xen.org/gitweb?p=osstest.git;a=summary
Pushing revision :
To xenbits.xen.org:/home/xen/git/osstest/ovmf.git
0bbc207275..d3b0d007a1 d3b0d007a135284981fa750612a47234b83976f9 -> xen-tested-master
^ permalink raw reply [flat|nested] only message in thread
only message in thread, other threads:[~2021-04-21 14:38 UTC | newest]
Thread overview: (only message) (download: mbox.gz / follow: Atom feed)
-- links below jump to the message on this page --
2021-04-21 14:37 [ovmf test] 161326: all pass - PUSHED osstest service owner
This is a public inbox, see mirroring instructions
for how to clone and mirror all data and code used for this inbox;
as well as URLs for NNTP newsgroup(s).