* [ovmf test] 161629: all pass - PUSHED
@ 2021-05-04 6:24 osstest service owner
0 siblings, 0 replies; only message in thread
From: osstest service owner @ 2021-05-04 6:24 UTC (permalink / raw)
To: xen-devel, osstest-admin
flight 161629 ovmf real [real]
http://logs.test-lab.xenproject.org/osstest/logs/161629/
Perfect :-)
All tests in this flight passed as required
version targeted for testing:
ovmf 8c8f49f0dc86e3c58d94766e6b194b83c1bef5c9
baseline version:
ovmf 1e6b0394d6c001802dc454ecff19076aaa80f51c
Last test of basis 161559 2021-04-30 18:42:58 Z 3 days
Testing same since 161629 2021-05-03 18:40:06 Z 0 days 1 attempts
------------------------------------------------------------
People who touched revisions under test:
Michael D Kinney <michael.d.kinney@intel.com>
Rebecca Cran <rebecca@bsdio.com>
jobs:
build-amd64-xsm pass
build-i386-xsm pass
build-amd64 pass
build-i386 pass
build-amd64-libvirt pass
build-i386-libvirt pass
build-amd64-pvops pass
build-i386-pvops pass
test-amd64-amd64-xl-qemuu-ovmf-amd64 pass
test-amd64-i386-xl-qemuu-ovmf-amd64 pass
------------------------------------------------------------
sg-report-flight on osstest.test-lab.xenproject.org
logs: /home/logs/logs
images: /home/logs/images
Logs, config files, etc. are available at
http://logs.test-lab.xenproject.org/osstest/logs
Explanation of these reports, and of osstest in general, is at
http://xenbits.xen.org/gitweb/?p=osstest.git;a=blob;f=README.email;hb=master
http://xenbits.xen.org/gitweb/?p=osstest.git;a=blob;f=README;hb=master
Test harness code can be found at
http://xenbits.xen.org/gitweb?p=osstest.git;a=summary
Pushing revision :
To xenbits.xen.org:/home/xen/git/osstest/ovmf.git
1e6b0394d6..8c8f49f0dc 8c8f49f0dc86e3c58d94766e6b194b83c1bef5c9 -> xen-tested-master
^ permalink raw reply [flat|nested] only message in thread
only message in thread, other threads:[~2021-05-04 6:24 UTC | newest]
Thread overview: (only message) (download: mbox.gz / follow: Atom feed)
-- links below jump to the message on this page --
2021-05-04 6:24 [ovmf test] 161629: all pass - PUSHED osstest service owner
This is a public inbox, see mirroring instructions
for how to clone and mirror all data and code used for this inbox;
as well as URLs for NNTP newsgroup(s).