xen-devel.lists.xenproject.org archive mirror
 help / color / mirror / Atom feed
* [ovmf test] 161899: all pass - PUSHED
@ 2021-05-11  5:58 osstest service owner
  0 siblings, 0 replies; only message in thread
From: osstest service owner @ 2021-05-11  5:58 UTC (permalink / raw)
  To: xen-devel, osstest-admin

flight 161899 ovmf real [real]
http://logs.test-lab.xenproject.org/osstest/logs/161899/

Perfect :-)
All tests in this flight passed as required
version targeted for testing:
 ovmf                 ef3840c1ff320698523dd6b94ba7c86354392784
baseline version:
 ovmf                 375f2d8e684dce2ab6f375382f35e546c7ab62ee

Last test of basis   161895  2021-05-10 16:10:12 Z    0 days
Testing same since   161899  2021-05-10 23:42:19 Z    0 days    1 attempts

------------------------------------------------------------
People who touched revisions under test:
  Michael D Kinney <michael.d.kinney@intel.com>

jobs:
 build-amd64-xsm                                              pass    
 build-i386-xsm                                               pass    
 build-amd64                                                  pass    
 build-i386                                                   pass    
 build-amd64-libvirt                                          pass    
 build-i386-libvirt                                           pass    
 build-amd64-pvops                                            pass    
 build-i386-pvops                                             pass    
 test-amd64-amd64-xl-qemuu-ovmf-amd64                         pass    
 test-amd64-i386-xl-qemuu-ovmf-amd64                          pass    


------------------------------------------------------------
sg-report-flight on osstest.test-lab.xenproject.org
logs: /home/logs/logs
images: /home/logs/images

Logs, config files, etc. are available at
    http://logs.test-lab.xenproject.org/osstest/logs

Explanation of these reports, and of osstest in general, is at
    http://xenbits.xen.org/gitweb/?p=osstest.git;a=blob;f=README.email;hb=master
    http://xenbits.xen.org/gitweb/?p=osstest.git;a=blob;f=README;hb=master

Test harness code can be found at
    http://xenbits.xen.org/gitweb?p=osstest.git;a=summary


Pushing revision :

To xenbits.xen.org:/home/xen/git/osstest/ovmf.git
   375f2d8e68..ef3840c1ff  ef3840c1ff320698523dd6b94ba7c86354392784 -> xen-tested-master


^ permalink raw reply	[flat|nested] only message in thread

only message in thread, other threads:[~2021-05-11  5:59 UTC | newest]

Thread overview: (only message) (download: mbox.gz / follow: Atom feed)
-- links below jump to the message on this page --
2021-05-11  5:58 [ovmf test] 161899: all pass - PUSHED osstest service owner

This is a public inbox, see mirroring instructions
for how to clone and mirror all data and code used for this inbox;
as well as URLs for NNTP newsgroup(s).