* [ovmf test] 161952: all pass - PUSHED
@ 2021-05-15 2:13 osstest service owner
0 siblings, 0 replies; only message in thread
From: osstest service owner @ 2021-05-15 2:13 UTC (permalink / raw)
To: xen-devel, osstest-admin
flight 161952 ovmf real [real]
http://logs.test-lab.xenproject.org/osstest/logs/161952/
Perfect :-)
All tests in this flight passed as required
version targeted for testing:
ovmf 32928415e36b3e234efb5c24143e06060a68fba3
baseline version:
ovmf d82c4693f8d5c6b05f40ccf351c84645201067c1
Last test of basis 161949 2021-05-14 10:10:07 Z 0 days
Testing same since 161952 2021-05-14 21:40:05 Z 0 days 1 attempts
------------------------------------------------------------
People who touched revisions under test:
Lendacky, Thomas <thomas.lendacky@amd.com>
Tom Lendacky <thomas.lendacky@amd.com>
jobs:
build-amd64-xsm pass
build-i386-xsm pass
build-amd64 pass
build-i386 pass
build-amd64-libvirt pass
build-i386-libvirt pass
build-amd64-pvops pass
build-i386-pvops pass
test-amd64-amd64-xl-qemuu-ovmf-amd64 pass
test-amd64-i386-xl-qemuu-ovmf-amd64 pass
------------------------------------------------------------
sg-report-flight on osstest.test-lab.xenproject.org
logs: /home/logs/logs
images: /home/logs/images
Logs, config files, etc. are available at
http://logs.test-lab.xenproject.org/osstest/logs
Explanation of these reports, and of osstest in general, is at
http://xenbits.xen.org/gitweb/?p=osstest.git;a=blob;f=README.email;hb=master
http://xenbits.xen.org/gitweb/?p=osstest.git;a=blob;f=README;hb=master
Test harness code can be found at
http://xenbits.xen.org/gitweb?p=osstest.git;a=summary
Pushing revision :
To xenbits.xen.org:/home/xen/git/osstest/ovmf.git
d82c4693f8..32928415e3 32928415e36b3e234efb5c24143e06060a68fba3 -> xen-tested-master
^ permalink raw reply [flat|nested] only message in thread
only message in thread, other threads:[~2021-05-15 2:14 UTC | newest]
Thread overview: (only message) (download: mbox.gz / follow: Atom feed)
-- links below jump to the message on this page --
2021-05-15 2:13 [ovmf test] 161952: all pass - PUSHED osstest service owner
This is a public inbox, see mirroring instructions
for how to clone and mirror all data and code used for this inbox;
as well as URLs for NNTP newsgroup(s).