* [ovmf test] 162338: all pass - PUSHED
@ 2021-06-02 19:19 osstest service owner
0 siblings, 0 replies; only message in thread
From: osstest service owner @ 2021-06-02 19:19 UTC (permalink / raw)
To: xen-devel, osstest-admin
flight 162338 ovmf real [real]
http://logs.test-lab.xenproject.org/osstest/logs/162338/
Perfect :-)
All tests in this flight passed as required
version targeted for testing:
ovmf 1f515342d8d83ef0fff0c3f4ac67232dd8c97565
baseline version:
ovmf b233eb1849ac01bdd5b24ea84460a2e481a4c5a9
Last test of basis 162334 2021-06-02 07:41:13 Z 0 days
Testing same since 162338 2021-06-02 12:41:10 Z 0 days 1 attempts
------------------------------------------------------------
People who touched revisions under test:
Pierre Gondois <Pierre.Gondois@arm.com>
Wenyi Xie <xiewenyi2@huawei.com>
jobs:
build-amd64-xsm pass
build-i386-xsm pass
build-amd64 pass
build-i386 pass
build-amd64-libvirt pass
build-i386-libvirt pass
build-amd64-pvops pass
build-i386-pvops pass
test-amd64-amd64-xl-qemuu-ovmf-amd64 pass
test-amd64-i386-xl-qemuu-ovmf-amd64 pass
------------------------------------------------------------
sg-report-flight on osstest.test-lab.xenproject.org
logs: /home/logs/logs
images: /home/logs/images
Logs, config files, etc. are available at
http://logs.test-lab.xenproject.org/osstest/logs
Explanation of these reports, and of osstest in general, is at
http://xenbits.xen.org/gitweb/?p=osstest.git;a=blob;f=README.email;hb=master
http://xenbits.xen.org/gitweb/?p=osstest.git;a=blob;f=README;hb=master
Test harness code can be found at
http://xenbits.xen.org/gitweb?p=osstest.git;a=summary
Pushing revision :
To xenbits.xen.org:/home/xen/git/osstest/ovmf.git
b233eb1849..1f515342d8 1f515342d8d83ef0fff0c3f4ac67232dd8c97565 -> xen-tested-master
^ permalink raw reply [flat|nested] only message in thread
only message in thread, other threads:[~2021-06-02 19:19 UTC | newest]
Thread overview: (only message) (download: mbox.gz / follow: Atom feed)
-- links below jump to the message on this page --
2021-06-02 19:19 [ovmf test] 162338: all pass - PUSHED osstest service owner
This is a public inbox, see mirroring instructions
for how to clone and mirror all data and code used for this inbox;
as well as URLs for NNTP newsgroup(s).