* [xen-unstable-coverity test] 162857: all pass - PUSHED
@ 2021-06-16 10:13 osstest service owner
0 siblings, 0 replies; only message in thread
From: osstest service owner @ 2021-06-16 10:13 UTC (permalink / raw)
To: xen-devel, osstest-admin
flight 162857 xen-unstable-coverity real [real]
http://logs.test-lab.xenproject.org/osstest/logs/162857/
Perfect :-)
All tests in this flight passed as required
version targeted for testing:
xen 4bcf6433eed3d9cbc00865ec62380a33ca832dac
baseline version:
xen 93031fbe9f4c341a2e7950a088025ea550291433
Last test of basis 162765 2021-06-13 09:18:26 Z 3 days
Testing same since 162857 2021-06-16 09:18:30 Z 0 days 1 attempts
------------------------------------------------------------
People who touched revisions under test:
Andrew Cooper <andrew.cooper3@citrix.com>
Anthony PERARD <anthony.perard@citrix.com>
Ian Jackson <iwj@xenproject.org>
Jan Beulich <jbeulich@suse.com>
Juergen Gross <jgross@suse.com>
Julien Grall <jgrall@amazon.com>
jobs:
coverity-amd64 pass
------------------------------------------------------------
sg-report-flight on osstest.test-lab.xenproject.org
logs: /home/logs/logs
images: /home/logs/images
Logs, config files, etc. are available at
http://logs.test-lab.xenproject.org/osstest/logs
Explanation of these reports, and of osstest in general, is at
http://xenbits.xen.org/gitweb/?p=osstest.git;a=blob;f=README.email;hb=master
http://xenbits.xen.org/gitweb/?p=osstest.git;a=blob;f=README;hb=master
Test harness code can be found at
http://xenbits.xen.org/gitweb?p=osstest.git;a=summary
Pushing revision :
To xenbits.xen.org:/home/xen/git/xen.git
93031fbe9f..4bcf6433ee 4bcf6433eed3d9cbc00865ec62380a33ca832dac -> coverity-tested/smoke
^ permalink raw reply [flat|nested] only message in thread
only message in thread, other threads:[~2021-06-16 10:13 UTC | newest]
Thread overview: (only message) (download: mbox.gz / follow: Atom feed)
-- links below jump to the message on this page --
2021-06-16 10:13 [xen-unstable-coverity test] 162857: all pass - PUSHED osstest service owner
This is a public inbox, see mirroring instructions
for how to clone and mirror all data and code used for this inbox;
as well as URLs for NNTP newsgroup(s).