From: osstest service owner <osstest-admin@xenproject.org>
To: xen-devel@lists.xenproject.org, osstest-admin@xenproject.org
Subject: [qemu-mainline test] 162952: trouble: blocked/broken/pass/preparing/queued
Date: Tue, 22 Jun 2021 11:24:37 +0000 [thread overview]
Message-ID: <osstest-162952-mainreport@xen.org> (raw)
flight 162952 qemu-mainline running [real]
http://logs.test-lab.xenproject.org/osstest/logs/162952/
Failures and problems with tests :-(
Tests which did not succeed and are blocking,
including tests which could not be run:
build-arm64 <job status> broken
build-arm64-pvops <job status> broken
build-arm64-xsm <job status> broken
build-i386 <job status> broken
build-i386-pvops <job status> broken
build-i386-xsm <job status> broken
build-arm64 4 host-install(4) broken REGR. vs. 152631
build-arm64-pvops 4 host-install(4) broken REGR. vs. 152631
build-arm64-xsm 4 host-install(4) broken REGR. vs. 152631
build-i386-xsm 4 host-install(4) broken REGR. vs. 152631
build-i386-pvops 4 host-install(4) broken REGR. vs. 152631
build-i386 4 host-install(4) broken REGR. vs. 152631
test-armhf-armhf-libvirt <none executed> queued
test-armhf-armhf-libvirt-raw <none executed> queued
test-armhf-armhf-xl <none executed> queued
test-armhf-armhf-xl-arndale <none executed> queued
test-armhf-armhf-xl-credit1 <none executed> queued
test-armhf-armhf-xl-multivcpu <none executed> queued
test-armhf-armhf-xl-rtds <none executed> queued
test-armhf-armhf-xl-vhd <none executed> queued
test-amd64-i386-pair <none executed> queued
test-amd64-i386-libvirt-xsm <none executed> queued
test-amd64-i386-libvirt-qemuu-debianhvm-amd64-xsm <none executed> queued
test-amd64-i386-libvirt-pair <none executed> queued
test-amd64-i386-libvirt <none executed> queued
test-amd64-i386-freebsd10-i386 <none executed> queued
test-amd64-i386-freebsd10-amd64 <none executed> queued
test-amd64-coresched-i386-xl <none executed> queued
test-amd64-coresched-amd64-xl <none executed> queued
test-amd64-amd64-xl-xsm <none executed> queued
test-amd64-amd64-xl-shadow <none executed> queued
test-amd64-amd64-xl-rtds <none executed> queued
build-amd64-libvirt <none executed> queued
test-amd64-amd64-xl-qemuu-ws16-amd64 <none executed> queued
test-amd64-amd64-xl-qemuu-win7-amd64 <none executed> queued
test-amd64-amd64-xl-qemuu-ovmf-amd64 <none executed> queued
test-amd64-amd64-xl-qemuu-dmrestrict-amd64-dmrestrict <none executed> queued
test-amd64-amd64-xl-qemuu-debianhvm-i386-xsm <none executed> queued
test-amd64-amd64-xl-qemuu-debianhvm-amd64-shadow <none executed> queued
test-amd64-amd64-xl-qemuu-debianhvm-amd64 <none executed> queued
test-amd64-amd64-amd64-pvgrub <none executed> queued
test-amd64-amd64-xl-qcow2 <none executed> queued
test-amd64-amd64-dom0pvh-xl-amd <none executed> queued
test-amd64-amd64-xl-pvshim <none executed> queued
test-amd64-amd64-dom0pvh-xl-intel <none executed> queued
test-amd64-amd64-i386-pvgrub <none executed> queued
test-amd64-amd64-libvirt <none executed> queued
test-amd64-amd64-xl-pvhv2-intel <none executed> queued
test-amd64-amd64-libvirt-pair <none executed> queued
test-amd64-amd64-libvirt-qemuu-debianhvm-amd64-xsm <none executed> queued
test-amd64-amd64-xl-pvhv2-amd <none executed> queued
test-amd64-amd64-libvirt-vhd <none executed> queued
test-amd64-amd64-libvirt-xsm <none executed> queued
test-amd64-amd64-xl-multivcpu <none executed> queued
test-amd64-amd64-pair <none executed> queued
test-amd64-amd64-pygrub <none executed> queued
test-amd64-amd64-xl-credit2 <none executed> queued
test-amd64-amd64-qemuu-freebsd11-amd64 <none executed> queued
test-amd64-amd64-qemuu-freebsd12-amd64 <none executed> queued
test-amd64-amd64-xl-credit1 <none executed> queued
test-amd64-amd64-qemuu-nested-amd <none executed> queued
test-amd64-amd64-qemuu-nested-intel <none executed> queued
test-amd64-amd64-xl <none executed> queued
test-armhf-armhf-xl-credit2 <none executed> queued
test-armhf-armhf-xl-cubietruck <none executed> queued
test-amd64-i386-qemuu-rhel6hvm-amd <none executed> queued
test-amd64-i386-qemuu-rhel6hvm-intel <none executed> queued
test-amd64-i386-xl <none executed> queued
test-amd64-i386-xl-pvshim <none executed> queued
test-amd64-i386-xl-qemuu-debianhvm-amd64 <none executed> queued
test-amd64-i386-xl-qemuu-debianhvm-amd64-shadow <none executed> queued
test-amd64-i386-xl-qemuu-debianhvm-i386-xsm <none executed> queued
test-amd64-i386-xl-qemuu-dmrestrict-amd64-dmrestrict <none executed> queued
test-amd64-i386-xl-qemuu-ovmf-amd64 <none executed> queued
test-amd64-i386-xl-qemuu-win7-amd64 <none executed> queued
test-amd64-i386-xl-qemuu-ws16-amd64 <none executed> queued
test-amd64-i386-xl-raw <none executed> queued
test-amd64-i386-xl-shadow <none executed> queued
test-amd64-i386-xl-xsm <none executed> queued
build-amd64 2 hosts-allocate running
build-amd64-pvops 2 hosts-allocate running
build-amd64-xsm 2 hosts-allocate running
build-armhf-pvops 2 hosts-allocate running
Tests which did not succeed, but are not blocking:
test-arm64-arm64-xl 1 build-check(1) blocked n/a
test-arm64-arm64-xl-credit1 1 build-check(1) blocked n/a
test-arm64-arm64-xl-credit2 1 build-check(1) blocked n/a
test-arm64-arm64-xl-seattle 1 build-check(1) blocked n/a
test-arm64-arm64-xl-thunderx 1 build-check(1) blocked n/a
test-arm64-arm64-xl-xsm 1 build-check(1) blocked n/a
build-arm64-libvirt 1 build-check(1) blocked n/a
build-i386-libvirt 1 build-check(1) blocked n/a
test-arm64-arm64-libvirt-xsm 1 build-check(1) blocked n/a
version targeted for testing:
qemuu 0add99ea3ea91af8230e3933ad7826b2da25a44d
baseline version:
qemuu 1d806cef0e38b5db8347a8e12f214d543204a314
Last test of basis 152631 2020-08-20 09:07:46 Z 306 days
Failing since 152659 2020-08-21 14:07:39 Z 304 days 560 attempts
Testing same since (not found) 0 attempts
------------------------------------------------------------
541 people touched revisions under test,
not listing them all
jobs:
build-amd64-xsm preparing
build-arm64-xsm broken
build-i386-xsm broken
build-amd64 preparing
build-arm64 broken
build-armhf pass
build-i386 broken
build-amd64-libvirt queued
build-arm64-libvirt blocked
build-armhf-libvirt pass
build-i386-libvirt blocked
build-amd64-pvops preparing
build-arm64-pvops broken
build-armhf-pvops preparing
build-i386-pvops broken
test-amd64-amd64-xl queued
test-amd64-coresched-amd64-xl queued
test-arm64-arm64-xl blocked
test-armhf-armhf-xl queued
test-amd64-i386-xl queued
test-amd64-coresched-i386-xl queued
test-amd64-amd64-libvirt-qemuu-debianhvm-amd64-xsm queued
test-amd64-i386-libvirt-qemuu-debianhvm-amd64-xsm queued
test-amd64-amd64-xl-qemuu-debianhvm-i386-xsm queued
test-amd64-i386-xl-qemuu-debianhvm-i386-xsm queued
test-amd64-amd64-libvirt-xsm queued
test-arm64-arm64-libvirt-xsm blocked
test-amd64-i386-libvirt-xsm queued
test-amd64-amd64-xl-xsm queued
test-arm64-arm64-xl-xsm blocked
test-amd64-i386-xl-xsm queued
test-amd64-amd64-qemuu-nested-amd queued
test-amd64-amd64-xl-pvhv2-amd queued
test-amd64-i386-qemuu-rhel6hvm-amd queued
test-amd64-amd64-dom0pvh-xl-amd queued
test-amd64-amd64-xl-qemuu-debianhvm-amd64 queued
test-amd64-i386-xl-qemuu-debianhvm-amd64 queued
test-amd64-i386-freebsd10-amd64 queued
test-amd64-amd64-qemuu-freebsd11-amd64 queued
test-amd64-amd64-qemuu-freebsd12-amd64 queued
test-amd64-amd64-xl-qemuu-ovmf-amd64 queued
test-amd64-i386-xl-qemuu-ovmf-amd64 queued
test-amd64-amd64-xl-qemuu-win7-amd64 queued
test-amd64-i386-xl-qemuu-win7-amd64 queued
test-amd64-amd64-xl-qemuu-ws16-amd64 queued
test-amd64-i386-xl-qemuu-ws16-amd64 queued
test-armhf-armhf-xl-arndale queued
test-amd64-amd64-xl-credit1 queued
test-arm64-arm64-xl-credit1 blocked
test-armhf-armhf-xl-credit1 queued
test-amd64-amd64-xl-credit2 queued
test-arm64-arm64-xl-credit2 blocked
test-armhf-armhf-xl-credit2 queued
test-armhf-armhf-xl-cubietruck queued
test-amd64-amd64-xl-qemuu-dmrestrict-amd64-dmrestrict queued
test-amd64-i386-xl-qemuu-dmrestrict-amd64-dmrestrict queued
test-amd64-i386-freebsd10-i386 queued
test-amd64-amd64-qemuu-nested-intel queued
test-amd64-amd64-xl-pvhv2-intel queued
test-amd64-i386-qemuu-rhel6hvm-intel queued
test-amd64-amd64-dom0pvh-xl-intel queued
test-amd64-amd64-libvirt queued
test-armhf-armhf-libvirt queued
test-amd64-i386-libvirt queued
test-amd64-amd64-xl-multivcpu queued
test-armhf-armhf-xl-multivcpu queued
test-amd64-amd64-pair queued
test-amd64-i386-pair queued
test-amd64-amd64-libvirt-pair queued
test-amd64-i386-libvirt-pair queued
test-amd64-amd64-amd64-pvgrub queued
test-amd64-amd64-i386-pvgrub queued
test-amd64-amd64-xl-pvshim queued
test-amd64-i386-xl-pvshim queued
test-amd64-amd64-pygrub queued
test-amd64-amd64-xl-qcow2 queued
test-armhf-armhf-libvirt-raw queued
test-amd64-i386-xl-raw queued
test-amd64-amd64-xl-rtds queued
test-armhf-armhf-xl-rtds queued
test-arm64-arm64-xl-seattle blocked
test-amd64-amd64-xl-qemuu-debianhvm-amd64-shadow queued
test-amd64-i386-xl-qemuu-debianhvm-amd64-shadow queued
test-amd64-amd64-xl-shadow queued
test-amd64-i386-xl-shadow queued
test-arm64-arm64-xl-thunderx blocked
test-amd64-amd64-libvirt-vhd queued
test-armhf-armhf-xl-vhd queued
------------------------------------------------------------
sg-report-flight on osstest.test-lab.xenproject.org
logs: /home/logs/logs
images: /home/logs/images
Logs, config files, etc. are available at
http://logs.test-lab.xenproject.org/osstest/logs
Explanation of these reports, and of osstest in general, is at
http://xenbits.xen.org/gitweb/?p=osstest.git;a=blob;f=README.email;hb=master
http://xenbits.xen.org/gitweb/?p=osstest.git;a=blob;f=README;hb=master
Test harness code can be found at
http://xenbits.xen.org/gitweb?p=osstest.git;a=summary
broken-job test-armhf-armhf-libvirt queued
broken-job test-armhf-armhf-libvirt-raw queued
broken-job test-armhf-armhf-xl queued
broken-job test-armhf-armhf-xl-arndale queued
broken-job test-armhf-armhf-xl-credit1 queued
broken-job test-armhf-armhf-xl-multivcpu queued
broken-job test-armhf-armhf-xl-rtds queued
broken-job test-armhf-armhf-xl-vhd queued
broken-job test-amd64-i386-pair queued
broken-job test-amd64-i386-libvirt-xsm queued
broken-job test-amd64-i386-libvirt-qemuu-debianhvm-amd64-xsm queued
broken-job test-amd64-i386-libvirt-pair queued
broken-job test-amd64-i386-libvirt queued
broken-job test-amd64-i386-freebsd10-i386 queued
broken-job test-amd64-i386-freebsd10-amd64 queued
broken-job test-amd64-coresched-i386-xl queued
broken-job test-amd64-coresched-amd64-xl queued
broken-job test-amd64-amd64-xl-xsm queued
broken-job test-amd64-amd64-xl-shadow queued
broken-job test-amd64-amd64-xl-rtds queued
broken-job build-amd64-libvirt queued
broken-job test-amd64-amd64-xl-qemuu-ws16-amd64 queued
broken-job test-amd64-amd64-xl-qemuu-win7-amd64 queued
broken-job build-arm64 broken
broken-job test-amd64-amd64-xl-qemuu-ovmf-amd64 queued
broken-job build-arm64-pvops broken
broken-job build-arm64-xsm broken
broken-job test-amd64-amd64-xl-qemuu-dmrestrict-amd64-dmrestrict queued
broken-job test-amd64-amd64-xl-qemuu-debianhvm-i386-xsm queued
broken-job build-i386 broken
broken-job test-amd64-amd64-xl-qemuu-debianhvm-amd64-shadow queued
broken-job build-i386-pvops broken
broken-job test-amd64-amd64-xl-qemuu-debianhvm-amd64 queued
broken-job build-i386-xsm broken
broken-job test-amd64-amd64-amd64-pvgrub queued
broken-job test-amd64-amd64-xl-qcow2 queued
broken-job test-amd64-amd64-dom0pvh-xl-amd queued
broken-job test-amd64-amd64-xl-pvshim queued
broken-job test-amd64-amd64-dom0pvh-xl-intel queued
broken-job test-amd64-amd64-i386-pvgrub queued
broken-job test-amd64-amd64-libvirt queued
broken-job test-amd64-amd64-xl-pvhv2-intel queued
broken-job test-amd64-amd64-libvirt-pair queued
broken-job test-amd64-amd64-libvirt-qemuu-debianhvm-amd64-xsm queued
broken-job test-amd64-amd64-xl-pvhv2-amd queued
broken-job test-amd64-amd64-libvirt-vhd queued
broken-job test-amd64-amd64-libvirt-xsm queued
broken-job test-amd64-amd64-xl-multivcpu queued
broken-job test-amd64-amd64-pair queued
broken-job test-amd64-amd64-pygrub queued
broken-job test-amd64-amd64-xl-credit2 queued
broken-job test-amd64-amd64-qemuu-freebsd11-amd64 queued
broken-job test-amd64-amd64-qemuu-freebsd12-amd64 queued
broken-job test-amd64-amd64-xl-credit1 queued
broken-job test-amd64-amd64-qemuu-nested-amd queued
broken-job test-amd64-amd64-qemuu-nested-intel queued
broken-job test-amd64-amd64-xl queued
broken-job test-armhf-armhf-xl-credit2 queued
broken-job test-armhf-armhf-xl-cubietruck queued
broken-job test-amd64-i386-qemuu-rhel6hvm-amd queued
broken-job test-amd64-i386-qemuu-rhel6hvm-intel queued
broken-job test-amd64-i386-xl queued
broken-job test-amd64-i386-xl-pvshim queued
broken-job test-amd64-i386-xl-qemuu-debianhvm-amd64 queued
broken-job test-amd64-i386-xl-qemuu-debianhvm-amd64-shadow queued
broken-job test-amd64-i386-xl-qemuu-debianhvm-i386-xsm queued
broken-job test-amd64-i386-xl-qemuu-dmrestrict-amd64-dmrestrict queued
broken-job test-amd64-i386-xl-qemuu-ovmf-amd64 queued
broken-job test-amd64-i386-xl-qemuu-win7-amd64 queued
broken-job test-amd64-i386-xl-qemuu-ws16-amd64 queued
broken-job test-amd64-i386-xl-raw queued
broken-job test-amd64-i386-xl-shadow queued
broken-job test-amd64-i386-xl-xsm queued
broken-step build-arm64 host-install(4)
broken-step build-arm64-pvops host-install(4)
broken-step build-arm64-xsm host-install(4)
broken-step build-i386-xsm host-install(4)
broken-step build-i386-pvops host-install(4)
broken-step build-i386 host-install(4)
Not pushing.
(No revision log; it would be 175648 lines long.)
reply other threads:[~2021-06-22 11:24 UTC|newest]
Thread overview: [no followups] expand[flat|nested] mbox.gz Atom feed
Reply instructions:
You may reply publicly to this message via plain-text email
using any one of the following methods:
* Save the following mbox file, import it into your mail client,
and reply-to-all from there: mbox
Avoid top-posting and favor interleaved quoting:
https://en.wikipedia.org/wiki/Posting_style#Interleaved_style
* Reply using the --to, --cc, and --in-reply-to
switches of git-send-email(1):
git send-email \
--in-reply-to=osstest-162952-mainreport@xen.org \
--to=osstest-admin@xenproject.org \
--cc=xen-devel@lists.xenproject.org \
/path/to/YOUR_REPLY
https://kernel.org/pub/software/scm/git/docs/git-send-email.html
* If your mail client supports setting the In-Reply-To header
via mailto: links, try the mailto: link
Be sure your reply has a Subject: header at the top and a blank line
before the message body.
This is a public inbox, see mirroring instructions
for how to clone and mirror all data and code used for this inbox;
as well as URLs for NNTP newsgroup(s).