* [xtf test] 163212: all pass - PUSHED
@ 2021-07-01 15:43 osstest service owner
0 siblings, 0 replies; only message in thread
From: osstest service owner @ 2021-07-01 15:43 UTC (permalink / raw)
To: xen-devel, osstest-admin
flight 163212 xtf real [real]
http://logs.test-lab.xenproject.org/osstest/logs/163212/
Perfect :-)
All tests in this flight passed as required
version targeted for testing:
xtf cdef9568c1b1f8831f3b8f644073e635d47f0ec4
baseline version:
xtf 93b29b886e8665e368598c711279d45b7e5d066c
Last test of basis 163016 2021-06-24 11:41:21 Z 7 days
Testing same since 163212 2021-07-01 12:40:06 Z 0 days 1 attempts
------------------------------------------------------------
People who touched revisions under test:
Andrew Cooper <andrew.cooper3@citrix.com>
Pranjal Singh <008pranjalsingh@gmail.com>
jobs:
build-amd64-xtf pass
build-amd64 pass
build-amd64-pvops pass
test-xtf-amd64-amd64-1 pass
test-xtf-amd64-amd64-2 pass
test-xtf-amd64-amd64-3 pass
test-xtf-amd64-amd64-4 pass
test-xtf-amd64-amd64-5 pass
------------------------------------------------------------
sg-report-flight on osstest.test-lab.xenproject.org
logs: /home/logs/logs
images: /home/logs/images
Logs, config files, etc. are available at
http://logs.test-lab.xenproject.org/osstest/logs
Explanation of these reports, and of osstest in general, is at
http://xenbits.xen.org/gitweb/?p=osstest.git;a=blob;f=README.email;hb=master
http://xenbits.xen.org/gitweb/?p=osstest.git;a=blob;f=README;hb=master
Test harness code can be found at
http://xenbits.xen.org/gitweb?p=osstest.git;a=summary
Pushing revision :
To xenbits.xen.org:/home/xen/git/xtf.git
93b29b8..cdef956 cdef9568c1b1f8831f3b8f644073e635d47f0ec4 -> xen-tested-master
^ permalink raw reply [flat|nested] only message in thread
only message in thread, other threads:[~2021-07-01 15:43 UTC | newest]
Thread overview: (only message) (download: mbox.gz / follow: Atom feed)
-- links below jump to the message on this page --
2021-07-01 15:43 [xtf test] 163212: all pass - PUSHED osstest service owner
This is a public inbox, see mirroring instructions
for how to clone and mirror all data and code used for this inbox;
as well as URLs for NNTP newsgroup(s).