xen-devel.lists.xenproject.org archive mirror
 help / color / mirror / Atom feed
* [qemu-mainline baseline-only test] 66532: trouble: broken/preparing/queued
@ 2016-07-08 11:06 Platform Team regression test user
  0 siblings, 0 replies; only message in thread
From: Platform Team regression test user @ 2016-07-08 11:06 UTC (permalink / raw)
  To: xen-devel, osstest-admin

[-- Attachment #1: Type: text/plain, Size: 19698 bytes --]

This run is configured for baseline tests only.

flight 66532 qemu-mainline running [real]
http://osstest.xs.citrite.net/~osstest/testlogs/logs/66532/

Failures and problems with tests :-(

Tests which did not succeed and are blocking,
including tests which could not be run:
 test-armhf-armhf-libvirt-xsm    <none executed>              queued
 test-armhf-armhf-xl-xsm         <none executed>              queued
 build-armhf-libvirt             <none executed>              queued
 test-armhf-armhf-xl-rtds        <none executed>              queued
 test-armhf-armhf-xl-multivcpu    <none executed>              queued
 test-armhf-armhf-xl-vhd         <none executed>              queued
 test-armhf-armhf-xl-midway      <none executed>              queued
 test-armhf-armhf-libvirt        <none executed>              queued
 test-armhf-armhf-libvirt-qcow2    <none executed>              queued
 test-armhf-armhf-xl-credit2     <none executed>              queued
 test-armhf-armhf-xl             <none executed>              queued
 test-armhf-armhf-libvirt-raw    <none executed>              queued
 build-amd64-libvirt             <none executed>              queued
 build-i386-libvirt              <none executed>              queued
 test-amd64-amd64-xl-pvh-intel    <none executed>              queued
 test-amd64-amd64-xl-pvh-amd     <none executed>              queued
 test-amd64-amd64-xl             <none executed>              queued
 test-amd64-i386-qemuu-rhel6hvm-intel    <none executed>              queued
 test-amd64-i386-xl              <none executed>              queued
 test-amd64-amd64-xl-multivcpu    <none executed>              queued
 test-amd64-amd64-xl-credit2     <none executed>              queued
 test-amd64-i386-xl-xsm          <none executed>              queued
 test-amd64-amd64-xl-rtds        <none executed>              queued
 test-amd64-amd64-libvirt        <none executed>              queued
 test-amd64-amd64-libvirt-xsm    <none executed>              queued
 test-amd64-i386-libvirt         <none executed>              queued
 test-amd64-amd64-xl-xsm         <none executed>              queued
 test-amd64-i386-qemuu-rhel6hvm-amd    <none executed>              queued
 test-amd64-i386-libvirt-xsm     <none executed>              queued
 test-amd64-i386-xl-qemuu-ovmf-amd64    <none executed>              queued
 test-amd64-amd64-xl-qemuu-ovmf-amd64    <none executed>              queued
 test-amd64-i386-libvirt-qemuu-debianhvm-amd64-xsm    <none executed>    queued
 test-amd64-amd64-qemuu-nested-intel    <none executed>              queued
 test-amd64-i386-freebsd10-i386    <none executed>              queued
 test-amd64-amd64-i386-pvgrub    <none executed>              queued
 test-amd64-i386-freebsd10-amd64    <none executed>              queued
 test-amd64-amd64-qemuu-nested-amd    <none executed>              queued
 test-amd64-amd64-pair           <none executed>              queued
 test-amd64-amd64-amd64-pvgrub    <none executed>              queued
 test-amd64-amd64-pygrub         <none executed>              queued
 test-amd64-i386-pair            <none executed>              queued
 test-amd64-amd64-libvirt-pair    <none executed>              queued
 test-amd64-amd64-libvirt-qemuu-debianhvm-amd64-xsm    <none executed>   queued
 test-amd64-amd64-libvirt-vhd    <none executed>              queued
 test-amd64-i386-xl-raw          <none executed>              queued
 test-amd64-amd64-xl-qemuu-debianhvm-amd64    <none executed>            queued
 test-amd64-i386-xl-qemuu-winxpsp3    <none executed>              queued
 test-amd64-i386-xl-qemuu-win7-amd64    <none executed>              queued
 test-amd64-amd64-xl-qemuu-win7-amd64    <none executed>              queued
 test-amd64-i386-libvirt-pair    <none executed>              queued
 test-amd64-i386-xl-qemuu-debianhvm-amd64-xsm    <none executed>         queued
 test-amd64-amd64-xl-qcow2       <none executed>              queued
 test-amd64-i386-xl-qemuu-debianhvm-amd64    <none executed>             queued
 test-amd64-amd64-xl-qemuu-debianhvm-amd64-xsm    <none executed>        queued
 test-amd64-i386-xl-qemuu-winxpsp3-vcpus1    <none executed>             queued
 test-amd64-amd64-xl-qemuu-winxpsp3    <none executed>              queued
 build-armhf                   2 hosts-allocate               running
 build-armhf-xsm               2 hosts-allocate               running
 build-armhf-pvops             2 hosts-allocate               running
 build-amd64                   2 hosts-allocate               running
 build-amd64-pvops             2 hosts-allocate               running
 build-i386                    2 hosts-allocate               running
 build-amd64-xsm               2 hosts-allocate               running
 build-i386-pvops              2 hosts-allocate               running
 build-i386-xsm                2 hosts-allocate               running

version targeted for testing:
 qemuu                91d35509903464c7f4b9ed56be223d7370d3597c
baseline version:
 qemuu                d6550e9ed2e1a60d889dfb721de00d9a4e3bafbe

Last test of basis    66485  2016-07-01 10:47:40 Z    7 days
Testing same since        0  1970-01-01 00:00:00 Z 16990 days    0 attempts

------------------------------------------------------------
People who touched revisions under test:
  Aaron Larson <alarson@ddci.com>
  Alberto Garcia <berto@igalia.com>
  Aleksandar Markovic <aleksandar.markovic@imgtec.com>
  Alex Bennée <alex.bennee@linaro.org>
  Alex Bligh <alex@alex.org.uk>
  Alex Williamson <alex.williamson@redhat.com>
  Alexander Graf <agraf@suse.de>
  Alexander Shopov <ash@kambanaria.org>
  Alexey Kardashevskiy <aik@ozlabs.ru>
  Alistair Francis <alistair.francis@xilinx.com>
  Amit Shah <amit.shah@redhat.com>
  Andrea Arcangeli <aarcange@redhat.com>
  Andreas Färber <afaerber@suse.de>
  Andrew Jeffery <andrew@aj.id.au>
  Andrew Jones <drjones@redhat.com>
  Andrey Smirnov <andrew.smirnov@gmail.com>
  Aneesh Kumar K.V <aneesh.kumar@linux.vnet.ibm.com>
  Anthony PERARD <anthony.perard@citrix.com>
  Anton Blanchard <anton@samba.org>
  Ard Biesheuvel <ard.biesheuvel@linaro.org>
  Artyom Tarasenko <atar4qemu@gmail.com>
  Ashijeet Acharya <ashijeetacharya@gmail.com>
  Aurelien Jarno <aurelien@aurel32.net>
  Bastian Koppelmann <kbastian@mail.uni-paderborn.de>
  Benjamin Herrenschmidt <benh@kernel.crashing.org>
  Bharata B Rao <bharata@linux.vnet.ibm.com>
  Bret Ketchum <bcketchum@gmail.com>
  Cao jin <caoj.fnst@cn.fujitsu.com>
  Changlong Xie <xiecl.fnst@cn.fujitsu.com>
  Chao Peng <chao.p.peng@linux.intel.com>
  Chen Fan <chen.fan.fnst@cn.fujitsu.com>
  Christian Borntraeger <borntraeger@de.ibm.com>
  Christophe Lyon <christophe.lyon@linaro.org>
  Cole Robinson <crobinso@redhat.com>
  Colin Lord <clord@redhat.com>
  Corey Minyard <cminyard@mvista.com>
  Cornelia Huck <cornelia.huck@de.ibm.com>
  Cédric Le Goater <clg@fr.ibm.com>
  Cédric Le Goater <clg@kaod.org>
  Daniel P. Berrange <berrange@redhat.com>
  David Gibson <david@gibson.dropbear.id.au>
  David Hildenbrand <dahi@linux.vnet.ibm.com>
  David Vrabel <david.vrabel@citrix.com>
  Denis V. Lunev <den@openvz.org>
  Dmitry Fleytman <dmitry.fleytman@ravellosystems.com>
  Dmitry Fleytman <dmitry@daynix.com <mailto:dmitry@daynix.com>>
  Dmitry Fleytman <dmitry@daynix.com>
  Dmitry Osipenko <digetx@gmail.com>
  Dr. David Alan Gilbert <dgilbert@redhat.com>
  Drew Jones <drjones@redhat.com>
  Edgar E. Iglesias <edgar.iglesias@xilinx.com>
  Eduardo Habkost <ehabkost@redhat.com>
  Efimov Vasily <real@ispras.ru>
  Emilio G. Cota <cota@braap.org>
  Eric Blake <eblake@redhat.com>
  Fam Zheng <famz@redhat.com>
  Gavin Shan <gwshan@linux.vnet.ibm.com>
  Gerd Hoffmann <kraxel@redhat.com>
  Greg Kurz <gkurz@linux.vnet.ibm.com>
  Greg Kurz <groug@kaod.org>
  Gu Zheng <guz.fnst@cn.fujitsu.com>
  Guillaume Delbergue <guillaume.delbergue@greensocs.com>
  Halil Pasic <pasic@linux.vnet.ibm.com>
  Hannes Reinecke <hare@suse.com>
  Hyun Kwon <hyun.kwon@xilinx.com>
  Ido Yariv <ido@wizery.com>
  Igor Mammedov <imammedo@redhat.com>
  Jakub Horak <thement@ibawizard.net>
  James Clarke <jrtc27@jrtc27.com>
  Jan Beulich <jbeulich@suse.com>
  Jan Vesely <jano.vesely@gmail.com>
  Jason Wang <jasowang@redhat.com>
  Jean-Christophe Dubois <jcd@tribudubois.net>
  Jeff Cody <jcody@redhat.com>
  Jens Wiklander <jens.wiklander@linaro.org>
  Jerome Forissier <jerome.forissier@linaro.org>
  John Snow <jsnow@redhat.com>
  Juergen Gross <jgross@suse.com>
  KarimAllah Ahmed <karahmed@amazon.de>
  Kashyap Chamarthy <kchamart@redhat.com>
  Kevin Wolf <kwolf@redhat.com>
  KONRAD Frederic <fred.konrad@greensocs.com>
  Laszlo Ersek <lersek@redhat.com>
  Laurent Vivier <laurent@vivier.eu>
  Laurent Vivier <lvivier@redhat.com>
  Leon Alrae <leon.alrae@imgtec.com>
  Leonid Bloch <leonid.bloch@ravellosystems.com>
  Li Zhijian <lizhijian@cn.fujitsu.com>
  Liang Li <liang.z.li@intel.com>
  Lin Ma <lma@suse.com>
  Lluís Vilanova <vilanova@ac.upc.edu>
  Maciej W. Rozycki <macro@codesourcery.com>
  Marc-André Lureau <marcandre.lureau@redhat.com>
  Marc-André Lureau <marcandre.lureau@redhat.com>
  Marcel Apfelbaum <marcel@redhat.com>
  Marcin Krzeminski <marcin.krzeminski@nokia.com>
  Mark Cave-Ayland <mark.cave-ayland@ilande.co.uk>
  Markus Armbruster <armbru@redhat.com>
  Max Filippov <jcmvbkbc@gmail.com>
  Max Reitz <mreitz@redhat.com>
  Michael Fritscher <michael@fritscher.net>
  Michael Neuling <mikey@neuling.org>
  Michael Roth <mdroth@linux.vnet.ibm.com>
  Michael S. Tsirkin <mst@redhat.com>
  Michael Strosaker <strosake@linux.vnet.ibm.com>
  Michael Tokarev <mjt@tls.msk.ru>
  Michael Walle <michael@walle.cc>
  Mike Frysinger <vapier@chromium.org>
  Niels de Vos <ndevos@redhat.com>
  Nikunj A Dadhania <nikunj@linux.vnet.ibm.com>
  Olaf Hering <olaf@aepfle.de>
  Paolo Bonzini <pbonzini@redhat.com>
  Paul Durrant <paul.durrant@citrix.com>
  Pavel Butsykin <pbutsykin@virtuozzo.com>
  Pavel Dovgalyuk <pavel.dovgaluk@ispras.ru>
  Pavel Fedin <p.fedin@samsung.com>
  Peter Crosthwaite <crosthwaite.peter@gmail.com>
  Peter Crosthwaite <crosthwaitepeter@gmail.com>
  Peter Crosthwaite <peter.crosthwaite@xilinx.com>
  Peter Krempa <pkrempa@redhat.com>
  Peter Lieven <pl@kamp.de>
  Peter Maloney <peter.maloney@brockmann-consult.de>
  Peter Maydell <peter.maydell@linaro.org>
  Peter Maydell <riku.voipio@linaro.org>
  Peter Wu <peter@lekensteyn.nl>
  Peter Xu <peterx@redhat.com>
  Pranith Kumar <bobby.prani@gmail.com>
  Prasad J Pandit <pjp@fedoraproject.org>
  Radim Krčmář <rkrcmar@redhat.com>
  Richard Henderson <rth@twiddle.net>
  Richard W.M. Jones <rjones@redhat.com>
  Riku Voipio <riku.voipio@linaro.org>
  Robert Ho <robert.hu@intel.com>
  Robin Geuze <robing@transip.nl>
  Sameeh Jubran <sameeh@daynix.com>
  Samuel Thibault <samuel.thibault@ens-lyon.org>
  Sergey Fedorov <serge.fdrv@gmail.com>
  Sergey Fedorov <sergey.fedorov@linaro.org>
  Sergey Sorokin <afarallax@yandex.ru>
  Shannon Zhao <shannon.zhao@linaro.org>
  Shlomo Pongratz <shlomo.pongratz@huawei.com>
  Stefan Hajnoczi <stefanha@redhat.com>
  Stefan Weil <sw@weilnetz.de>
  Stefano Stabellini <sstabellini@kernel.org>
  Steven Luo <steven+qemu@steven676.net>
  Talha Imran <talha_imran@mentor.com>
  Tetsuya Mukawa <mukawa@igel.co.jp>
  Thomas Huth <thuth@redhat.com>
  Thomas Schwinge <thomas@codesourcery.com>
  Timothy E Baldwin <T.E.Baldwin99@members.leeds.ac.uk>
  Timothy Edward Baldwin <T.E.Baldwin99@members.leeds.ac.uk>
  Vikhyat Umrao <vumrao@redhat.com>
  Vladimir Sementsov-Ogievskiy <vsementsov@virtuozzo.com>
  Wei Jiangang <weijg.fnst@cn.fujitsu.com>
  Wen Congyang <wency@cn.fujitsu.com>
  Xiao Guangrong <guangrong.xiao@linux.intel.com>
  xiaoqiang zhao <zxq_yx_007@163.com>
  Yang Hongyang <hongyang.yang@easystack.cn>
  Yuanhan Liu <yuanhan.liu@linux.intel.com>
  Zhang Chen <zhangchen.fnst@cn.fujitsu.com>
  Zhou Jie <zhoujie2011@cn.fujitsu.com>
  Zhu Guihua <zhugh.fnst@cn.fujitsu.com>

jobs:
 build-amd64-xsm                                              preparing
 build-armhf-xsm                                              preparing
 build-i386-xsm                                               preparing
 build-amd64                                                  broken  
 build-armhf                                                  preparing
 build-i386                                                   preparing
 build-amd64-libvirt                                          queued  
 build-armhf-libvirt                                          queued  
 build-i386-libvirt                                           queued  
 build-amd64-pvops                                            broken  
 build-armhf-pvops                                            preparing
 build-i386-pvops                                             preparing
 test-amd64-amd64-xl                                          queued  
 test-armhf-armhf-xl                                          queued  
 test-amd64-i386-xl                                           queued  
 test-amd64-amd64-libvirt-qemuu-debianhvm-amd64-xsm           queued  
 test-amd64-i386-libvirt-qemuu-debianhvm-amd64-xsm            queued  
 test-amd64-amd64-xl-qemuu-debianhvm-amd64-xsm                queued  
 test-amd64-i386-xl-qemuu-debianhvm-amd64-xsm                 queued  
 test-amd64-amd64-libvirt-xsm                                 queued  
 test-armhf-armhf-libvirt-xsm                                 queued  
 test-amd64-i386-libvirt-xsm                                  queued  
 test-amd64-amd64-xl-xsm                                      queued  
 test-armhf-armhf-xl-xsm                                      queued  
 test-amd64-i386-xl-xsm                                       queued  
 test-amd64-amd64-qemuu-nested-amd                            queued  
 test-amd64-amd64-xl-pvh-amd                                  queued  
 test-amd64-i386-qemuu-rhel6hvm-amd                           queued  
 test-amd64-amd64-xl-qemuu-debianhvm-amd64                    queued  
 test-amd64-i386-xl-qemuu-debianhvm-amd64                     queued  
 test-amd64-i386-freebsd10-amd64                              queued  
 test-amd64-amd64-xl-qemuu-ovmf-amd64                         queued  
 test-amd64-i386-xl-qemuu-ovmf-amd64                          queued  
 test-amd64-amd64-xl-qemuu-win7-amd64                         queued  
 test-amd64-i386-xl-qemuu-win7-amd64                          queued  
 test-amd64-amd64-xl-credit2                                  queued  
 test-armhf-armhf-xl-credit2                                  queued  
 test-amd64-i386-freebsd10-i386                               queued  
 test-amd64-amd64-qemuu-nested-intel                          queued  
 test-amd64-amd64-xl-pvh-intel                                queued  
 test-amd64-i386-qemuu-rhel6hvm-intel                         queued  
 test-amd64-amd64-libvirt                                     queued  
 test-armhf-armhf-libvirt                                     queued  
 test-amd64-i386-libvirt                                      queued  
 test-armhf-armhf-xl-midway                                   queued  
 test-amd64-amd64-xl-multivcpu                                queued  
 test-armhf-armhf-xl-multivcpu                                queued  
 test-amd64-amd64-pair                                        queued  
 test-amd64-i386-pair                                         queued  
 test-amd64-amd64-libvirt-pair                                queued  
 test-amd64-i386-libvirt-pair                                 queued  
 test-amd64-amd64-amd64-pvgrub                                queued  
 test-amd64-amd64-i386-pvgrub                                 queued  
 test-amd64-amd64-pygrub                                      queued  
 test-armhf-armhf-libvirt-qcow2                               queued  
 test-amd64-amd64-xl-qcow2                                    queued  
 test-armhf-armhf-libvirt-raw                                 queued  
 test-amd64-i386-xl-raw                                       queued  
 test-amd64-amd64-xl-rtds                                     queued  
 test-armhf-armhf-xl-rtds                                     queued  
 test-amd64-i386-xl-qemuu-winxpsp3-vcpus1                     queued  
 test-amd64-amd64-libvirt-vhd                                 queued  
 test-armhf-armhf-xl-vhd                                      queued  
 test-amd64-amd64-xl-qemuu-winxpsp3                           queued  
 test-amd64-i386-xl-qemuu-winxpsp3                            queued  


------------------------------------------------------------
sg-report-flight on osstest.xs.citrite.net
logs: /home/osstest/logs
images: /home/osstest/images

Logs, config files, etc. are available at
    http://osstest.xs.citrite.net/~osstest/testlogs/logs

Test harness code can be found at
    http://xenbits.xensource.com/gitweb?p=osstest.git;a=summary

broken-job test-armhf-armhf-libvirt-xsm queued
broken-job test-armhf-armhf-xl-xsm queued
broken-job build-armhf-libvirt queued
broken-job test-armhf-armhf-xl-rtds queued
broken-job test-armhf-armhf-xl-multivcpu queued
broken-job test-armhf-armhf-xl-vhd queued
broken-job test-armhf-armhf-xl-midway queued
broken-job test-armhf-armhf-libvirt queued
broken-job test-armhf-armhf-libvirt-qcow2 queued
broken-job test-armhf-armhf-xl-credit2 queued
broken-job test-armhf-armhf-xl queued
broken-job test-armhf-armhf-libvirt-raw queued
broken-job build-amd64-libvirt queued
broken-job build-i386-libvirt queued
broken-job test-amd64-amd64-xl-pvh-intel queued
broken-job test-amd64-amd64-xl-pvh-amd queued
broken-job test-amd64-amd64-xl queued
broken-job test-amd64-i386-qemuu-rhel6hvm-intel queued
broken-job test-amd64-i386-xl queued
broken-job test-amd64-amd64-xl-multivcpu queued
broken-job test-amd64-amd64-xl-credit2 queued
broken-job test-amd64-i386-xl-xsm queued
broken-job test-amd64-amd64-xl-rtds queued
broken-job test-amd64-amd64-libvirt queued
broken-job test-amd64-amd64-libvirt-xsm queued
broken-job test-amd64-i386-libvirt queued
broken-job test-amd64-amd64-xl-xsm queued
broken-job test-amd64-i386-qemuu-rhel6hvm-amd queued
broken-job test-amd64-i386-libvirt-xsm queued
broken-job test-amd64-i386-xl-qemuu-ovmf-amd64 queued
broken-job test-amd64-amd64-xl-qemuu-ovmf-amd64 queued
broken-job test-amd64-i386-libvirt-qemuu-debianhvm-amd64-xsm queued
broken-job test-amd64-amd64-qemuu-nested-intel queued
broken-job test-amd64-i386-freebsd10-i386 queued
broken-job test-amd64-amd64-i386-pvgrub queued
broken-job test-amd64-i386-freebsd10-amd64 queued
broken-job test-amd64-amd64-qemuu-nested-amd queued
broken-job test-amd64-amd64-pair queued
broken-job test-amd64-amd64-amd64-pvgrub queued
broken-job test-amd64-amd64-pygrub queued
broken-job test-amd64-i386-pair queued
broken-job test-amd64-amd64-libvirt-pair queued
broken-job test-amd64-amd64-libvirt-qemuu-debianhvm-amd64-xsm queued
broken-job test-amd64-amd64-libvirt-vhd queued
broken-job test-amd64-i386-xl-raw queued
broken-job test-amd64-amd64-xl-qemuu-debianhvm-amd64 queued
broken-job test-amd64-i386-xl-qemuu-winxpsp3 queued
broken-job test-amd64-i386-xl-qemuu-win7-amd64 queued
broken-job test-amd64-amd64-xl-qemuu-win7-amd64 queued
broken-job test-amd64-i386-libvirt-pair queued
broken-job test-amd64-i386-xl-qemuu-debianhvm-amd64-xsm queued
broken-job test-amd64-amd64-xl-qcow2 queued
broken-job test-amd64-i386-xl-qemuu-debianhvm-amd64 queued
broken-job test-amd64-amd64-xl-qemuu-debianhvm-amd64-xsm queued
broken-job test-amd64-i386-xl-qemuu-winxpsp3-vcpus1 queued
broken-job test-amd64-amd64-xl-qemuu-winxpsp3 queued

Push not applicable.

(No revision log; it would be 22211 lines long.)


[-- Attachment #2: Type: text/plain, Size: 127 bytes --]

_______________________________________________
Xen-devel mailing list
Xen-devel@lists.xen.org
https://lists.xen.org/xen-devel

^ permalink raw reply	[flat|nested] only message in thread

only message in thread, other threads:[~2016-07-08 11:06 UTC | newest]

Thread overview: (only message) (download: mbox.gz / follow: Atom feed)
-- links below jump to the message on this page --
2016-07-08 11:06 [qemu-mainline baseline-only test] 66532: trouble: broken/preparing/queued Platform Team regression test user

This is a public inbox, see mirroring instructions
for how to clone and mirror all data and code used for this inbox;
as well as URLs for NNTP newsgroup(s).