* [xen-unstable-coverity test] 87590: trouble: broken
@ 2016-03-27 9:53 osstest service owner
0 siblings, 0 replies; only message in thread
From: osstest service owner @ 2016-03-27 9:53 UTC (permalink / raw)
To: xen-devel, osstest-admin
[-- Attachment #1: Type: text/plain, Size: 2934 bytes --]
flight 87590 xen-unstable-coverity real [real]
http://logs.test-lab.xenproject.org/osstest/logs/87590/
Failures and problems with tests :-(
Tests which did not succeed and are blocking,
including tests which could not be run:
coverity-amd64 4 capture-logs !broken [st=!broken!]
coverity-amd64 3 host-install(3) broken REGR. vs. 86387
version targeted for testing:
xen 04119085f5a2a135e5161535b8821e1aa0d7db8a
baseline version:
xen c2b9b97775e9de061dd72b22fb96293daaa77f98
Last test of basis 86387 2016-03-16 10:07:01 Z 10 days
Testing same since 87590 2016-03-27 09:40:38 Z 0 days 1 attempts
------------------------------------------------------------
People who touched revisions under test:
Andrew Cooper <andrew.cooper3@citrix.com>
Chunyan Liu <cyliu@suse.com>
Dagaen Golomb <dgolomb@seas.upenn.edu>
Daniel De Graaf <dgdegra@tycho.nsa.gov>
Dario Faggioli <dario.faggioli@citrix.com>
Dave Scott <dave@recoil.org>
David Scott <dave@recoil.org>
David Vrabel <david.vrabel@citrix.com>
Doug Goldstein <cardoe@cardoe.com>
Edgar E. Iglesias <edgar.iglesias@xilinx.com>
George Dunlap <george.dunlap@citrix.com>
George Dunlap <george.dunlap@eu.citrix.com>
Ian Campbell <ian.campbell@citrix.com>
Ian Jackson <Ian.Jackson@eu.citrix.com>
Jan Beulich <jbeulich@suse.com>
Jim Fehlig <jfehlig@suse.com>
Jonathan Davies <jonathan.davies@citrix.com>
Julien Grall <julien.grall@arm.com>
Kevin Tian <kevin.tian@intel.com>
Konrad Rzeszutek Wilk <konrad.wilk@oracle.com>
Malcolm Crossley <malcolm.crossley@citrix.com>
Meng Xu <mengxu@cis.upenn.edu>
Olaf Hering <olaf@aepfle.de>
Paul Durrant <paul.durrant@citrix.com>
Razvan Cojocaru <rcojocaru@bitdefender.com>
Roger Pau Monne <roger.pau@citrix.com>
Roger Pau Monné <roger.pau@citrix.com>
Ross Lagerwall <ross.lagerwall@citrix.com>
Shanker Donthineni <shankerd@codeaurora.org>
Shannon Zhao <shannon.zhao@linaro.org>
Simon Cao <caobosimon@gmail.com>
Stefano Stabellini <stefano.stabellini@eu.citrix.com>
Tianyang Chen <tiche@seas.upenn.edu>
Wei Liu <wei.liu2@citrix.com>
Wen Congyang <wency@cn.fujitsu.com>
jobs:
coverity-amd64 broken
------------------------------------------------------------
sg-report-flight on osstest.test-lab.xenproject.org
logs: /home/logs/logs
images: /home/logs/images
Logs, config files, etc. are available at
http://logs.test-lab.xenproject.org/osstest/logs
Explanation of these reports, and of osstest in general, is at
http://xenbits.xen.org/gitweb/?p=osstest.git;a=blob;f=README.email;hb=master
http://xenbits.xen.org/gitweb/?p=osstest.git;a=blob;f=README;hb=master
Test harness code can be found at
http://xenbits.xen.org/gitweb?p=osstest.git;a=summary
Not pushing.
(No revision log; it would be 1235 lines long.)
[-- Attachment #2: Type: text/plain, Size: 126 bytes --]
_______________________________________________
Xen-devel mailing list
Xen-devel@lists.xen.org
http://lists.xen.org/xen-devel
^ permalink raw reply [flat|nested] only message in thread
only message in thread, other threads:[~2016-03-27 9:53 UTC | newest]
Thread overview: (only message) (download: mbox.gz / follow: Atom feed)
-- links below jump to the message on this page --
2016-03-27 9:53 [xen-unstable-coverity test] 87590: trouble: broken osstest service owner
This is a public inbox, see mirroring instructions
for how to clone and mirror all data and code used for this inbox;
as well as URLs for NNTP newsgroup(s).