* [xen-unstable-coverity test] 158472: all pass - PUSHED
@ 2021-01-17 10:14 osstest service owner
0 siblings, 0 replies; only message in thread
From: osstest service owner @ 2021-01-17 10:14 UTC (permalink / raw)
To: xen-devel, osstest-admin
flight 158472 xen-unstable-coverity real [real]
http://logs.test-lab.xenproject.org/osstest/logs/158472/
Perfect :-)
All tests in this flight passed as required
version targeted for testing:
xen db9c4ad1b1abaef3c38027b9b2700d9250d13125
baseline version:
xen 414be7b66349e7dca42bc1fd47c2b2f5b2d27432
Last test of basis 158404 2021-01-13 09:20:27 Z 4 days
Testing same since 158472 2021-01-17 09:19:26 Z 0 days 1 attempts
------------------------------------------------------------
People who touched revisions under test:
Andrew Cooper <andrew.cooper3@citrix.com>
Christopher Clark <christopher.w.clark@gmail.com>
Ian Jackson <ian.jackson@eu.citrix.com>
Jan Beulich <jbeulich@suse.com>
Juergen Gross <jgross@suse.com>
Julien Grall <jgrall@amazon.com>
Manuel Bouyer <bouyer@netbsd.org>
Olaf Hering <olaf@aepfle.de>
Stefano Stabellini <sstabellini@kernel.org>
Stefano Stabellini <stefano.stabellini@xilinx.com>
Tamas K Lengyel <tamas.lengyel@intel.com>
Tamas K Lengyel <tamas@tklengyel.com>
Wei Chen <wei.chen@arm.com>
Wei Liu <wl@xen.org>
jobs:
coverity-amd64 pass
------------------------------------------------------------
sg-report-flight on osstest.test-lab.xenproject.org
logs: /home/logs/logs
images: /home/logs/images
Logs, config files, etc. are available at
http://logs.test-lab.xenproject.org/osstest/logs
Explanation of these reports, and of osstest in general, is at
http://xenbits.xen.org/gitweb/?p=osstest.git;a=blob;f=README.email;hb=master
http://xenbits.xen.org/gitweb/?p=osstest.git;a=blob;f=README;hb=master
Test harness code can be found at
http://xenbits.xen.org/gitweb?p=osstest.git;a=summary
Pushing revision :
To xenbits.xen.org:/home/xen/git/xen.git
414be7b663..db9c4ad1b1 db9c4ad1b1abaef3c38027b9b2700d9250d13125 -> coverity-tested/smoke
^ permalink raw reply [flat|nested] only message in thread
only message in thread, other threads:[~2021-01-17 10:15 UTC | newest]
Thread overview: (only message) (download: mbox.gz / follow: Atom feed)
-- links below jump to the message on this page --
2021-01-17 10:14 [xen-unstable-coverity test] 158472: all pass - PUSHED osstest service owner
This is a public inbox, see mirroring instructions
for how to clone and mirror all data and code used for this inbox;
as well as URLs for NNTP newsgroup(s).