* [xtf test] 161363: all pass - PUSHED
@ 2021-04-22 10:42 osstest service owner
0 siblings, 0 replies; only message in thread
From: osstest service owner @ 2021-04-22 10:42 UTC (permalink / raw)
To: xen-devel, osstest-admin
flight 161363 xtf real [real]
http://logs.test-lab.xenproject.org/osstest/logs/161363/
Perfect :-)
All tests in this flight passed as required
version targeted for testing:
xtf e24fbec38e66e0df8471efb0c804256bdac96636
baseline version:
xtf 0395a690c921cb195619b689ba0c0b687531c64c
Last test of basis 161302 2021-04-19 21:40:10 Z 2 days
Testing same since 161363 2021-04-21 23:10:10 Z 0 days 1 attempts
------------------------------------------------------------
People who touched revisions under test:
Andrew Cooper <andrew.cooper3@citrix.com>
jobs:
build-amd64-xtf pass
build-amd64 pass
build-amd64-pvops pass
test-xtf-amd64-amd64-1 pass
test-xtf-amd64-amd64-2 pass
test-xtf-amd64-amd64-3 pass
test-xtf-amd64-amd64-4 pass
test-xtf-amd64-amd64-5 pass
------------------------------------------------------------
sg-report-flight on osstest.test-lab.xenproject.org
logs: /home/logs/logs
images: /home/logs/images
Logs, config files, etc. are available at
http://logs.test-lab.xenproject.org/osstest/logs
Explanation of these reports, and of osstest in general, is at
http://xenbits.xen.org/gitweb/?p=osstest.git;a=blob;f=README.email;hb=master
http://xenbits.xen.org/gitweb/?p=osstest.git;a=blob;f=README;hb=master
Test harness code can be found at
http://xenbits.xen.org/gitweb?p=osstest.git;a=summary
Pushing revision :
To xenbits.xen.org:/home/xen/git/xtf.git
0395a69..e24fbec e24fbec38e66e0df8471efb0c804256bdac96636 -> xen-tested-master
^ permalink raw reply [flat|nested] only message in thread
only message in thread, other threads:[~2021-04-22 10:43 UTC | newest]
Thread overview: (only message) (download: mbox.gz / follow: Atom feed)
-- links below jump to the message on this page --
2021-04-22 10:42 [xtf test] 161363: all pass - PUSHED osstest service owner
This is a public inbox, see mirroring instructions
for how to clone and mirror all data and code used for this inbox;
as well as URLs for NNTP newsgroup(s).