From: osstest service owner <osstest-admin@xenproject.org>
To: xen-devel@lists.xenproject.org, osstest-admin@xenproject.org,
royger@FreeBSD.org
Subject: [Xen-devel] [freebsd-master test] 136173: all pass - PUSHED
Date: Tue, 14 May 2019 21:34:33 +0000 [thread overview]
Message-ID: <osstest-136173-mainreport@xen.org> (raw)
Message-ID: <20190514213433.TOh7sKNI7_gurGnv5Eo2WFsiWpzxQvrjTm8jcJdexBA@z> (raw)
flight 136173 freebsd-master real [real]
http://logs.test-lab.xenproject.org/osstest/logs/136173/
Perfect :-)
All tests in this flight passed as required
version targeted for testing:
freebsd e45876ac9f0ee913fcc73cfa00e409a5a461dbfb
baseline version:
freebsd fbc304aae0efb87e60f17c0a42ca7c8286c24f1f
Last test of basis 136000 2019-05-10 14:50:45 Z 4 days
Testing same since 136173 2019-05-13 09:19:54 Z 1 days 1 attempts
------------------------------------------------------------
People who touched revisions under test:
ae <ae@FreeBSD.org>
bdrewery <bdrewery@FreeBSD.org>
br <br@FreeBSD.org>
cem <cem@FreeBSD.org>
cy <cy@FreeBSD.org>
delphij <delphij@FreeBSD.org>
dougm <dougm@FreeBSD.org>
glebius <glebius@FreeBSD.org>
jhb <jhb@FreeBSD.org>
jhibbits <jhibbits@FreeBSD.org>
johalun <johalun@FreeBSD.org>
kevans <kevans@FreeBSD.org>
luporl <luporl@FreeBSD.org>
manu <manu@FreeBSD.org>
markj <markj@FreeBSD.org>
mjg <mjg@FreeBSD.org>
rmacklem <rmacklem@FreeBSD.org>
schweikh <schweikh@FreeBSD.org>
jobs:
build-amd64-freebsd-again pass
build-amd64-freebsd pass
build-amd64-xen-freebsd pass
------------------------------------------------------------
sg-report-flight on osstest.test-lab.xenproject.org
logs: /home/logs/logs
images: /home/logs/images
Logs, config files, etc. are available at
http://logs.test-lab.xenproject.org/osstest/logs
Explanation of these reports, and of osstest in general, is at
http://xenbits.xen.org/gitweb/?p=osstest.git;a=blob;f=README.email;hb=master
http://xenbits.xen.org/gitweb/?p=osstest.git;a=blob;f=README;hb=master
Test harness code can be found at
http://xenbits.xen.org/gitweb?p=osstest.git;a=summary
Pushing revision :
To xenbits.xen.org:/home/xen/git/freebsd.git
fbc304aae0e..e45876ac9f0 e45876ac9f0ee913fcc73cfa00e409a5a461dbfb -> tested/master
_______________________________________________
Xen-devel mailing list
Xen-devel@lists.xenproject.org
https://lists.xenproject.org/mailman/listinfo/xen-devel
next reply other threads:[~2019-05-14 21:35 UTC|newest]
Thread overview: 2+ messages / expand[flat|nested] mbox.gz Atom feed top
2019-05-14 21:34 osstest service owner [this message]
2019-05-14 21:34 ` [Xen-devel] [freebsd-master test] 136173: all pass - PUSHED osstest service owner
Reply instructions:
You may reply publicly to this message via plain-text email
using any one of the following methods:
* Save the following mbox file, import it into your mail client,
and reply-to-all from there: mbox
Avoid top-posting and favor interleaved quoting:
https://en.wikipedia.org/wiki/Posting_style#Interleaved_style
* Reply using the --to, --cc, and --in-reply-to
switches of git-send-email(1):
git send-email \
--in-reply-to=osstest-136173-mainreport@xen.org \
--to=osstest-admin@xenproject.org \
--cc=royger@FreeBSD.org \
--cc=xen-devel@lists.xenproject.org \
/path/to/YOUR_REPLY
https://kernel.org/pub/software/scm/git/docs/git-send-email.html
* If your mail client supports setting the In-Reply-To header
via mailto: links, try the mailto: link
Be sure your reply has a Subject: header at the top and a blank line
before the message body.
This is a public inbox, see mirroring instructions
for how to clone and mirror all data and code used for this inbox;
as well as URLs for NNTP newsgroup(s).