* [Xen-devel] [xen-4.10-testing test] 137937: trouble: pass/preparing/queued/running
@ 2019-06-19 11:18 osstest service owner
0 siblings, 0 replies; only message in thread
From: osstest service owner @ 2019-06-19 11:18 UTC (permalink / raw)
To: xen-devel, osstest-admin
flight 137937 xen-4.10-testing running [real]
http://logs.test-lab.xenproject.org/osstest/logs/137937/
Failures and problems with tests :-(
Tests which did not succeed and are blocking,
including tests which could not be run:
test-amd64-amd64-qemuu-nested-intel <none executed> queued
test-amd64-i386-xl-qemut-ws16-amd64 <none executed> queued
test-amd64-i386-xl-qemut-stubdom-debianhvm-amd64-xsm <none executed> queued
test-xtf-amd64-amd64-5 <none executed> queued
test-amd64-amd64-xl-qemuu-win7-amd64 <none executed> queued
test-amd64-amd64-xl-qemut-win10-i386 <none executed> queued
test-arm64-arm64-xl-credit1 <none executed> queued
test-amd64-i386-livepatch <none executed> queued
test-amd64-i386-freebsd10-i386 <none executed> queued
test-amd64-amd64-xl-qemuu-debianhvm-i386-xsm <none executed> queued
test-amd64-amd64-xl-qemuu-debianhvm-amd64-shadow <none executed> queued
test-armhf-armhf-xl-multivcpu <none executed> queued
test-amd64-amd64-libvirt <none executed> queued
test-amd64-amd64-xl-pvhv2-intel <none executed> queued
test-xtf-amd64-amd64-4 <none executed> queued
test-amd64-amd64-migrupgrade <none executed> queued
test-xtf-amd64-amd64-3 <none executed> queued
test-amd64-i386-xl-qemut-win10-i386 <none executed> queued
test-amd64-amd64-xl-xsm <none executed> queued
test-xtf-amd64-amd64-1 <none executed> queued
test-amd64-amd64-xl-qemuu-ovmf-amd64 <none executed> queued
test-amd64-i386-freebsd10-amd64 <none executed> queued
test-arm64-arm64-libvirt-xsm <none executed> queued
test-amd64-i386-libvirt-pair <none executed> queued
test-amd64-i386-xl-qemut-debianhvm-amd64 <none executed> queued
test-amd64-i386-xl-qemuu-ovmf-amd64 <none executed> queued
test-amd64-amd64-xl-qemut-ws16-amd64 <none executed> queued
test-amd64-amd64-xl-qcow2 <none executed> queued
test-amd64-i386-xl-qemuu-ws16-amd64 <none executed> queued
test-amd64-amd64-livepatch <none executed> queued
test-amd64-i386-xl-xsm <none executed> queued
test-amd64-amd64-xl-qemut-stubdom-debianhvm-amd64-xsm <none executed> queued
test-amd64-i386-xl-qemuu-debianhvm-amd64 <none executed> queued
test-arm64-arm64-xl <none executed> queued
test-amd64-amd64-libvirt-xsm <none executed> queued
test-amd64-amd64-xl-qemut-win7-amd64 <none executed> queued
test-amd64-i386-qemut-rhel6hvm-intel <none executed> queued
test-xtf-amd64-amd64-2 <none executed> queued
test-amd64-amd64-libvirt-pair <none executed> queued
test-amd64-i386-xl-qemuu-win7-amd64 <none executed> queued
test-amd64-i386-qemuu-rhel6hvm-amd <none executed> queued
test-amd64-amd64-xl-qemuu-dmrestrict-amd64-dmrestrict <none executed> queued
test-amd64-i386-xl-raw <none executed> queued
test-amd64-amd64-amd64-pvgrub <none executed> queued
test-armhf-armhf-xl-vhd <none executed> queued
test-armhf-armhf-libvirt <none executed> queued
test-amd64-i386-libvirt-qemuu-debianhvm-amd64-xsm <none executed> queued
test-amd64-i386-qemut-rhel6hvm-amd <none executed> queued
test-amd64-amd64-pair <none executed> queued
test-arm64-arm64-xl-credit2 <none executed> queued
test-armhf-armhf-xl-cubietruck <none executed> queued
test-amd64-amd64-xl-qemuu-win10-i386 <none executed> queued
test-amd64-amd64-xl <none executed> queued
test-amd64-i386-pair <none executed> queued
test-amd64-amd64-xl-rtds <none executed> queued
test-amd64-amd64-xl-credit2 <none executed> queued
test-amd64-amd64-xl-pvhv2-amd <none executed> queued
build-i386-libvirt <none executed> queued
test-armhf-armhf-xl-rtds <none executed> queued
test-amd64-amd64-qemuu-nested-amd <none executed> queued
test-armhf-armhf-xl-credit1 <none executed> queued
test-arm64-arm64-xl-xsm <none executed> queued
test-armhf-armhf-xl-credit2 <none executed> queued
test-amd64-amd64-xl-credit1 <none executed> queued
test-amd64-i386-xl-qemut-win7-amd64 <none executed> queued
test-amd64-amd64-xl-qemut-debianhvm-i386-xsm <none executed> queued
test-armhf-armhf-xl <none executed> queued
test-amd64-i386-xl-qemuu-dmrestrict-amd64-dmrestrict <none executed> queued
test-amd64-i386-libvirt-xsm <none executed> queued
test-amd64-amd64-libvirt-qemuu-debianhvm-amd64-xsm <none executed> queued
test-amd64-amd64-pygrub <none executed> queued
test-amd64-i386-migrupgrade <none executed> queued
test-amd64-i386-xl-qemuu-win10-i386 <none executed> queued
test-amd64-amd64-libvirt-vhd <none executed> queued
test-amd64-amd64-xl-qemut-debianhvm-amd64 <none executed> queued
test-amd64-i386-xl-qemut-debianhvm-i386-xsm <none executed> queued
test-amd64-i386-xl-shadow <none executed> queued
test-amd64-i386-xl-qemuu-debianhvm-amd64-shadow <none executed> queued
test-amd64-amd64-i386-pvgrub <none executed> queued
test-amd64-amd64-xl-qemuu-debianhvm-amd64 <none executed> queued
test-armhf-armhf-libvirt-raw <none executed> queued
build-amd64-libvirt <none executed> queued
test-amd64-amd64-xl-shadow <none executed> queued
test-armhf-armhf-xl-arndale <none executed> queued
test-amd64-amd64-xl-qemuu-ws16-amd64 <none executed> queued
test-amd64-i386-libvirt <none executed> queued
test-amd64-i386-qemuu-rhel6hvm-intel <none executed> queued
test-amd64-i386-xl-qemuu-debianhvm-i386-xsm <none executed> queued
test-amd64-i386-xl <none executed> queued
test-amd64-amd64-xl-multivcpu <none executed> queued
build-i386 2 hosts-allocate running
build-i386-xsm 2 hosts-allocate running
build-amd64-xsm 2 hosts-allocate running
build-amd64-xtf 2 hosts-allocate running
build-arm64-pvops 2 hosts-allocate running
build-amd64-prev 2 hosts-allocate running
build-armhf-pvops 2 hosts-allocate running
build-i386-prev 2 hosts-allocate running
build-i386-pvops 2 hosts-allocate running
build-amd64-pvops 2 hosts-allocate running
build-amd64 2 hosts-allocate running
build-arm64-libvirt 4 host-install(4) running
build-arm64-libvirt 3 syslog-server running
build-armhf-libvirt 6 libvirt-build running
build-armhf-libvirt 3 syslog-server running
version targeted for testing:
xen 6197b859ec77e4950e5ae0202002d6d4dbef143b
baseline version:
xen adf037bba1e6af47fef8584c1ad41f424ebda01e
Last test of basis 137381 2019-06-06 10:03:08 Z 13 days
Testing same since 137727 2019-06-14 14:05:32 Z 4 days 2 attempts
------------------------------------------------------------
People who touched revisions under test:
Andrew Cooper <andrew.cooper3@citrix.com>
Daniel De Graaf <dgdegra@tycho.nsa.gov>
Jan Beulich <jbeulich@suse.com>
Julien Grall <julien.grall@arm.com>
Stefano Stabellini <sstabellini@kernel.org>
Stefano Stabellini <stefanos@xilinx.com>
Xin Li <talons.lee@gmail.com>
Xin Li <xin.li@citrix.com>
jobs:
build-amd64-xsm preparing
build-arm64-xsm pass
build-i386-xsm preparing
build-amd64-xtf preparing
build-amd64 preparing
build-arm64 pass
build-armhf pass
build-i386 preparing
build-amd64-libvirt queued
build-arm64-libvirt running
build-armhf-libvirt running
build-i386-libvirt queued
build-amd64-prev preparing
build-i386-prev preparing
build-amd64-pvops preparing
build-arm64-pvops preparing
build-armhf-pvops preparing
build-i386-pvops preparing
test-xtf-amd64-amd64-1 queued
test-xtf-amd64-amd64-2 queued
test-xtf-amd64-amd64-3 queued
test-xtf-amd64-amd64-4 queued
test-xtf-amd64-amd64-5 queued
test-amd64-amd64-xl queued
test-arm64-arm64-xl queued
test-armhf-armhf-xl queued
test-amd64-i386-xl queued
test-amd64-amd64-libvirt-qemuu-debianhvm-amd64-xsm queued
test-amd64-i386-libvirt-qemuu-debianhvm-amd64-xsm queued
test-amd64-amd64-xl-qemut-stubdom-debianhvm-amd64-xsm queued
test-amd64-i386-xl-qemut-stubdom-debianhvm-amd64-xsm queued
test-amd64-amd64-xl-qemut-debianhvm-i386-xsm queued
test-amd64-i386-xl-qemut-debianhvm-i386-xsm queued
test-amd64-amd64-xl-qemuu-debianhvm-i386-xsm queued
test-amd64-i386-xl-qemuu-debianhvm-i386-xsm queued
test-amd64-amd64-libvirt-xsm queued
test-arm64-arm64-libvirt-xsm queued
test-amd64-i386-libvirt-xsm queued
test-amd64-amd64-xl-xsm queued
test-arm64-arm64-xl-xsm queued
test-amd64-i386-xl-xsm queued
test-amd64-amd64-qemuu-nested-amd queued
test-amd64-amd64-xl-pvhv2-amd queued
test-amd64-i386-qemut-rhel6hvm-amd queued
test-amd64-i386-qemuu-rhel6hvm-amd queued
test-amd64-amd64-xl-qemut-debianhvm-amd64 queued
test-amd64-i386-xl-qemut-debianhvm-amd64 queued
test-amd64-amd64-xl-qemuu-debianhvm-amd64 queued
test-amd64-i386-xl-qemuu-debianhvm-amd64 queued
test-amd64-i386-freebsd10-amd64 queued
test-amd64-amd64-xl-qemuu-ovmf-amd64 queued
test-amd64-i386-xl-qemuu-ovmf-amd64 queued
test-amd64-amd64-xl-qemut-win7-amd64 queued
test-amd64-i386-xl-qemut-win7-amd64 queued
test-amd64-amd64-xl-qemuu-win7-amd64 queued
test-amd64-i386-xl-qemuu-win7-amd64 queued
test-amd64-amd64-xl-qemut-ws16-amd64 queued
test-amd64-i386-xl-qemut-ws16-amd64 queued
test-amd64-amd64-xl-qemuu-ws16-amd64 queued
test-amd64-i386-xl-qemuu-ws16-amd64 queued
test-armhf-armhf-xl-arndale queued
test-amd64-amd64-xl-credit1 queued
test-arm64-arm64-xl-credit1 queued
test-armhf-armhf-xl-credit1 queued
test-amd64-amd64-xl-credit2 queued
test-arm64-arm64-xl-credit2 queued
test-armhf-armhf-xl-credit2 queued
test-armhf-armhf-xl-cubietruck queued
test-amd64-amd64-xl-qemuu-dmrestrict-amd64-dmrestrict queued
test-amd64-i386-xl-qemuu-dmrestrict-amd64-dmrestrict queued
test-amd64-i386-freebsd10-i386 queued
test-amd64-amd64-xl-qemut-win10-i386 queued
test-amd64-i386-xl-qemut-win10-i386 queued
test-amd64-amd64-xl-qemuu-win10-i386 queued
test-amd64-i386-xl-qemuu-win10-i386 queued
test-amd64-amd64-qemuu-nested-intel queued
test-amd64-amd64-xl-pvhv2-intel queued
test-amd64-i386-qemut-rhel6hvm-intel queued
test-amd64-i386-qemuu-rhel6hvm-intel queued
test-amd64-amd64-libvirt queued
test-armhf-armhf-libvirt queued
test-amd64-i386-libvirt queued
test-amd64-amd64-livepatch queued
test-amd64-i386-livepatch queued
test-amd64-amd64-migrupgrade queued
test-amd64-i386-migrupgrade queued
test-amd64-amd64-xl-multivcpu queued
test-armhf-armhf-xl-multivcpu queued
test-amd64-amd64-pair queued
test-amd64-i386-pair queued
test-amd64-amd64-libvirt-pair queued
test-amd64-i386-libvirt-pair queued
test-amd64-amd64-amd64-pvgrub queued
test-amd64-amd64-i386-pvgrub queued
test-amd64-amd64-pygrub queued
test-amd64-amd64-xl-qcow2 queued
test-armhf-armhf-libvirt-raw queued
test-amd64-i386-xl-raw queued
test-amd64-amd64-xl-rtds queued
test-armhf-armhf-xl-rtds queued
test-amd64-amd64-xl-qemuu-debianhvm-amd64-shadow queued
test-amd64-i386-xl-qemuu-debianhvm-amd64-shadow queued
test-amd64-amd64-xl-shadow queued
test-amd64-i386-xl-shadow queued
test-amd64-amd64-libvirt-vhd queued
test-armhf-armhf-xl-vhd queued
------------------------------------------------------------
sg-report-flight on osstest.test-lab.xenproject.org
logs: /home/logs/logs
images: /home/logs/images
Logs, config files, etc. are available at
http://logs.test-lab.xenproject.org/osstest/logs
Explanation of these reports, and of osstest in general, is at
http://xenbits.xen.org/gitweb/?p=osstest.git;a=blob;f=README.email;hb=master
http://xenbits.xen.org/gitweb/?p=osstest.git;a=blob;f=README;hb=master
Test harness code can be found at
http://xenbits.xen.org/gitweb?p=osstest.git;a=summary
broken-job test-amd64-amd64-qemuu-nested-intel queued
broken-job test-amd64-i386-xl-qemut-ws16-amd64 queued
broken-job test-amd64-i386-xl-qemut-stubdom-debianhvm-amd64-xsm queued
broken-job test-xtf-amd64-amd64-5 queued
broken-job test-amd64-amd64-xl-qemuu-win7-amd64 queued
broken-job test-amd64-amd64-xl-qemut-win10-i386 queued
broken-job test-arm64-arm64-xl-credit1 queued
broken-job test-amd64-i386-livepatch queued
broken-job test-amd64-i386-freebsd10-i386 queued
broken-job test-amd64-amd64-xl-qemuu-debianhvm-i386-xsm queued
broken-job test-amd64-amd64-xl-qemuu-debianhvm-amd64-shadow queued
broken-job test-armhf-armhf-xl-multivcpu queued
broken-job test-amd64-amd64-libvirt queued
broken-job test-amd64-amd64-xl-pvhv2-intel queued
broken-job test-xtf-amd64-amd64-4 queued
broken-job test-amd64-amd64-migrupgrade queued
broken-job test-xtf-amd64-amd64-3 queued
broken-job test-amd64-i386-xl-qemut-win10-i386 queued
broken-job test-amd64-amd64-xl-xsm queued
broken-job test-xtf-amd64-amd64-1 queued
broken-job test-amd64-amd64-xl-qemuu-ovmf-amd64 queued
broken-job test-amd64-i386-freebsd10-amd64 queued
broken-job test-arm64-arm64-libvirt-xsm queued
broken-job test-amd64-i386-libvirt-pair queued
broken-job test-amd64-i386-xl-qemut-debianhvm-amd64 queued
broken-job test-amd64-i386-xl-qemuu-ovmf-amd64 queued
broken-job test-amd64-amd64-xl-qemut-ws16-amd64 queued
broken-job test-amd64-amd64-xl-qcow2 queued
broken-job test-amd64-i386-xl-qemuu-ws16-amd64 queued
broken-job test-amd64-amd64-livepatch queued
broken-job test-amd64-i386-xl-xsm queued
broken-job test-amd64-amd64-xl-qemut-stubdom-debianhvm-amd64-xsm queued
broken-job test-amd64-i386-xl-qemuu-debianhvm-amd64 queued
broken-job test-arm64-arm64-xl queued
broken-job test-amd64-amd64-libvirt-xsm queued
broken-job test-amd64-amd64-xl-qemut-win7-amd64 queued
broken-job test-amd64-i386-qemut-rhel6hvm-intel queued
broken-job test-xtf-amd64-amd64-2 queued
broken-job test-amd64-amd64-libvirt-pair queued
broken-job test-amd64-i386-xl-qemuu-win7-amd64 queued
broken-job test-amd64-i386-qemuu-rhel6hvm-amd queued
broken-job test-amd64-amd64-xl-qemuu-dmrestrict-amd64-dmrestrict queued
broken-job test-amd64-i386-xl-raw queued
broken-job test-amd64-amd64-amd64-pvgrub queued
broken-job test-armhf-armhf-xl-vhd queued
broken-job test-armhf-armhf-libvirt queued
broken-job test-amd64-i386-libvirt-qemuu-debianhvm-amd64-xsm queued
broken-job test-amd64-i386-qemut-rhel6hvm-amd queued
broken-job test-amd64-amd64-pair queued
broken-job test-arm64-arm64-xl-credit2 queued
broken-job test-armhf-armhf-xl-cubietruck queued
broken-job test-amd64-amd64-xl-qemuu-win10-i386 queued
broken-job test-amd64-amd64-xl queued
broken-job test-amd64-i386-pair queued
broken-job test-amd64-amd64-xl-rtds queued
broken-job test-amd64-amd64-xl-credit2 queued
broken-job test-amd64-amd64-xl-pvhv2-amd queued
broken-job build-i386-libvirt queued
broken-job test-armhf-armhf-xl-rtds queued
broken-job test-amd64-amd64-qemuu-nested-amd queued
broken-job test-armhf-armhf-xl-credit1 queued
broken-job test-arm64-arm64-xl-xsm queued
broken-job test-armhf-armhf-xl-credit2 queued
broken-job test-amd64-amd64-xl-credit1 queued
broken-job test-amd64-i386-xl-qemut-win7-amd64 queued
broken-job test-amd64-amd64-xl-qemut-debianhvm-i386-xsm queued
broken-job test-armhf-armhf-xl queued
broken-job test-amd64-i386-xl-qemuu-dmrestrict-amd64-dmrestrict queued
broken-job test-amd64-i386-libvirt-xsm queued
broken-job test-amd64-amd64-libvirt-qemuu-debianhvm-amd64-xsm queued
broken-job test-amd64-amd64-pygrub queued
broken-job test-amd64-i386-migrupgrade queued
broken-job test-amd64-i386-xl-qemuu-win10-i386 queued
broken-job test-amd64-amd64-libvirt-vhd queued
broken-job test-amd64-amd64-xl-qemut-debianhvm-amd64 queued
broken-job test-amd64-i386-xl-qemut-debianhvm-i386-xsm queued
broken-job test-amd64-i386-xl-shadow queued
broken-job test-amd64-i386-xl-qemuu-debianhvm-amd64-shadow queued
broken-job test-amd64-amd64-i386-pvgrub queued
broken-job test-amd64-amd64-xl-qemuu-debianhvm-amd64 queued
broken-job test-armhf-armhf-libvirt-raw queued
broken-job build-amd64-libvirt queued
broken-job test-amd64-amd64-xl-shadow queued
broken-job test-armhf-armhf-xl-arndale queued
broken-job test-amd64-amd64-xl-qemuu-ws16-amd64 queued
broken-job test-amd64-i386-libvirt queued
broken-job test-amd64-i386-qemuu-rhel6hvm-intel queued
broken-job test-amd64-i386-xl-qemuu-debianhvm-i386-xsm queued
broken-job test-amd64-i386-xl queued
broken-job test-amd64-amd64-xl-multivcpu queued
Not pushing.
(No revision log; it would be 409 lines long.)
_______________________________________________
Xen-devel mailing list
Xen-devel@lists.xenproject.org
https://lists.xenproject.org/mailman/listinfo/xen-devel
^ permalink raw reply [flat|nested] only message in thread
only message in thread, other threads:[~2019-06-19 11:19 UTC | newest]
Thread overview: (only message) (download: mbox.gz / follow: Atom feed)
-- links below jump to the message on this page --
2019-06-19 11:18 [Xen-devel] [xen-4.10-testing test] 137937: trouble: pass/preparing/queued/running osstest service owner
This is a public inbox, see mirroring instructions
for how to clone and mirror all data and code used for this inbox;
as well as URLs for NNTP newsgroup(s).