Xen-Devel Archive on lore.kernel.org
 help / color / Atom feed
* [Xen-devel] [ovmf test] 140047: all pass - PUSHED
@ 2019-08-13 16:50 osstest service owner
  0 siblings, 0 replies; only message in thread
From: osstest service owner @ 2019-08-13 16:50 UTC (permalink / raw)
  To: xen-devel, osstest-admin

flight 140047 ovmf real [real]
http://logs.test-lab.xenproject.org/osstest/logs/140047/

Perfect :-)
All tests in this flight passed as required
version targeted for testing:
 ovmf                 ecc32c90ee4ad557205cb2725619a3cc2f45ebd0
baseline version:
 ovmf                 a0792697bc54e5472e2126c6fbff8031868426a9

Last test of basis   140011  2019-08-12 16:12:54 Z    1 days
Testing same since   140047  2019-08-13 05:20:08 Z    0 days    1 attempts

------------------------------------------------------------
People who touched revisions under test:
  Albecki, Mateusz <mateusz.albecki@intel.com>
  Gao, Zhichao <zhichao.gao@intel.com>
  Krzysztof Koch <krzysztof.koch@arm.com>
  Mateusz Albecki <mateusz.albecki@intel.com>
  Zhichao Gao <zhichao.gao@intel.com>

jobs:
 build-amd64-xsm                                              pass    
 build-i386-xsm                                               pass    
 build-amd64                                                  pass    
 build-i386                                                   pass    
 build-amd64-libvirt                                          pass    
 build-i386-libvirt                                           pass    
 build-amd64-pvops                                            pass    
 build-i386-pvops                                             pass    
 test-amd64-amd64-xl-qemuu-ovmf-amd64                         pass    
 test-amd64-i386-xl-qemuu-ovmf-amd64                          pass    


------------------------------------------------------------
sg-report-flight on osstest.test-lab.xenproject.org
logs: /home/logs/logs
images: /home/logs/images

Logs, config files, etc. are available at
    http://logs.test-lab.xenproject.org/osstest/logs

Explanation of these reports, and of osstest in general, is at
    http://xenbits.xen.org/gitweb/?p=osstest.git;a=blob;f=README.email;hb=master
    http://xenbits.xen.org/gitweb/?p=osstest.git;a=blob;f=README;hb=master

Test harness code can be found at
    http://xenbits.xen.org/gitweb?p=osstest.git;a=summary


Pushing revision :

To xenbits.xen.org:/home/xen/git/osstest/ovmf.git
   a0792697bc..ecc32c90ee  ecc32c90ee4ad557205cb2725619a3cc2f45ebd0 -> xen-tested-master

_______________________________________________
Xen-devel mailing list
Xen-devel@lists.xenproject.org
https://lists.xenproject.org/mailman/listinfo/xen-devel

^ permalink raw reply	[flat|nested] only message in thread

only message in thread, back to index

Thread overview: (only message) (download: mbox.gz / follow: Atom feed)
-- links below jump to the message on this page --
2019-08-13 16:50 [Xen-devel] [ovmf test] 140047: all pass - PUSHED osstest service owner

Xen-Devel Archive on lore.kernel.org

Archives are clonable:
	git clone --mirror https://lore.kernel.org/xen-devel/0 xen-devel/git/0.git
	git clone --mirror https://lore.kernel.org/xen-devel/1 xen-devel/git/1.git

	# If you have public-inbox 1.1+ installed, you may
	# initialize and index your mirror using the following commands:
	public-inbox-init -V2 xen-devel xen-devel/ https://lore.kernel.org/xen-devel \
		xen-devel@lists.xenproject.org xen-devel@archiver.kernel.org
	public-inbox-index xen-devel


Newsgroup available over NNTP:
	nntp://nntp.lore.kernel.org/org.xenproject.lists.xen-devel


AGPL code for this site: git clone https://public-inbox.org/ public-inbox