* [Xen-devel] [freebsd-master test] 140355: all pass - PUSHED
@ 2019-08-19 19:44 osstest service owner
0 siblings, 0 replies; only message in thread
From: osstest service owner @ 2019-08-19 19:44 UTC (permalink / raw)
To: xen-devel, osstest-admin, royger
flight 140355 freebsd-master real [real]
http://logs.test-lab.xenproject.org/osstest/logs/140355/
Perfect :-)
All tests in this flight passed as required
version targeted for testing:
freebsd 41a4c010326cd697d92141076bab53c424edb56f
baseline version:
freebsd f39a1bd1426e0e5a462522b7a1de56e8233591e7
Last test of basis 140195 2019-08-16 09:21:38 Z 3 days
Testing same since 140355 2019-08-19 09:20:16 Z 0 days 1 attempts
------------------------------------------------------------
People who touched revisions under test:
0mp <0mp@FreeBSD.org>
asomers <asomers@FreeBSD.org>
avg <avg@FreeBSD.org>
bdrewery <bdrewery@FreeBSD.org>
brooks <brooks@FreeBSD.org>
cem <cem@FreeBSD.org>
delphij <delphij@FreeBSD.org>
emaste <emaste@FreeBSD.org>
Eric Joyner <erj@freebsd.org>
erj <erj@FreeBSD.org>
eugen <eugen@FreeBSD.org>
hselasky <hselasky@FreeBSD.org>
imp <imp@FreeBSD.org>
Jacob Keller <jacob.e.keller@intel.com>
jeff <jeff@FreeBSD.org>
kevans <kevans@FreeBSD.org>
kib <kib@FreeBSD.org>
manu <manu@FreeBSD.org>
mav <mav@FreeBSD.org>
mjg <mjg@FreeBSD.org>
mmel <mmel@FreeBSD.org>
ray <ray@FreeBSD.org>
rmacklem <rmacklem@FreeBSD.org>
thj <thj@FreeBSD.org>
vangyzen <vangyzen@FreeBSD.org>
wulf <wulf@FreeBSD.org>
jobs:
build-amd64-freebsd-again pass
build-amd64-freebsd pass
build-amd64-xen-freebsd pass
------------------------------------------------------------
sg-report-flight on osstest.test-lab.xenproject.org
logs: /home/logs/logs
images: /home/logs/images
Logs, config files, etc. are available at
http://logs.test-lab.xenproject.org/osstest/logs
Explanation of these reports, and of osstest in general, is at
http://xenbits.xen.org/gitweb/?p=osstest.git;a=blob;f=README.email;hb=master
http://xenbits.xen.org/gitweb/?p=osstest.git;a=blob;f=README;hb=master
Test harness code can be found at
http://xenbits.xen.org/gitweb?p=osstest.git;a=summary
Pushing revision :
To xenbits.xen.org:/home/xen/git/freebsd.git
f39a1bd1426..41a4c010326 41a4c010326cd697d92141076bab53c424edb56f -> tested/master
_______________________________________________
Xen-devel mailing list
Xen-devel@lists.xenproject.org
https://lists.xenproject.org/mailman/listinfo/xen-devel
^ permalink raw reply [flat|nested] only message in thread
only message in thread, other threads:[~2019-08-19 19:44 UTC | newest]
Thread overview: (only message) (download: mbox.gz / follow: Atom feed)
-- links below jump to the message on this page --
2019-08-19 19:44 [Xen-devel] [freebsd-master test] 140355: all pass - PUSHED osstest service owner
This is a public inbox, see mirroring instructions
for how to clone and mirror all data and code used for this inbox;
as well as URLs for NNTP newsgroup(s).