From: osstest service owner <osstest-admin@xenproject.org>
To: xen-devel@lists.xenproject.org, osstest-admin@xenproject.org,
royger@FreeBSD.org
Subject: [Xen-devel] [freebsd-master test] 140570: all pass - PUSHED
Date: Sat, 24 Aug 2019 00:52:25 +0000 [thread overview]
Message-ID: <osstest-140570-mainreport@xen.org> (raw)
flight 140570 freebsd-master real [real]
http://logs.test-lab.xenproject.org/osstest/logs/140570/
Perfect :-)
All tests in this flight passed as required
version targeted for testing:
freebsd 1347212622414842dae7ecda75cbfdd1e5c4cfee
baseline version:
freebsd 86c98d165a4b667fe15d1c139a5cb363cec17282
Last test of basis 140468 2019-08-21 09:24:55 Z 2 days
Testing same since 140570 2019-08-23 09:19:55 Z 0 days 1 attempts
------------------------------------------------------------
People who touched revisions under test:
asomers <asomers@FreeBSD.org>
brooks <brooks@FreeBSD.org>
bz <bz@FreeBSD.org>
cem <cem@FreeBSD.org>
cy <cy@FreeBSD.org>
delphij <delphij@FreeBSD.org>
emaste <emaste@FreeBSD.org>
eugen <eugen@FreeBSD.org>
imp <imp@FreeBSD.org>
jhb <jhb@FreeBSD.org>
karels <karels@FreeBSD.org>
kevans <kevans@FreeBSD.org>
kib <kib@FreeBSD.org>
lwhsu <lwhsu@FreeBSD.org>
markj <markj@FreeBSD.org>
mav <mav@FreeBSD.org>
mjg <mjg@FreeBSD.org>
rmacklem <rmacklem@FreeBSD.org>
rrs <rrs@FreeBSD.org>
jobs:
build-amd64-freebsd-again pass
build-amd64-freebsd pass
build-amd64-xen-freebsd pass
------------------------------------------------------------
sg-report-flight on osstest.test-lab.xenproject.org
logs: /home/logs/logs
images: /home/logs/images
Logs, config files, etc. are available at
http://logs.test-lab.xenproject.org/osstest/logs
Explanation of these reports, and of osstest in general, is at
http://xenbits.xen.org/gitweb/?p=osstest.git;a=blob;f=README.email;hb=master
http://xenbits.xen.org/gitweb/?p=osstest.git;a=blob;f=README;hb=master
Test harness code can be found at
http://xenbits.xen.org/gitweb?p=osstest.git;a=summary
Pushing revision :
To xenbits.xen.org:/home/xen/git/freebsd.git
86c98d165a4..13472126224 1347212622414842dae7ecda75cbfdd1e5c4cfee -> tested/master
_______________________________________________
Xen-devel mailing list
Xen-devel@lists.xenproject.org
https://lists.xenproject.org/mailman/listinfo/xen-devel
reply other threads:[~2019-08-24 0:52 UTC|newest]
Thread overview: [no followups] expand[flat|nested] mbox.gz Atom feed
Reply instructions:
You may reply publicly to this message via plain-text email
using any one of the following methods:
* Save the following mbox file, import it into your mail client,
and reply-to-all from there: mbox
Avoid top-posting and favor interleaved quoting:
https://en.wikipedia.org/wiki/Posting_style#Interleaved_style
* Reply using the --to, --cc, and --in-reply-to
switches of git-send-email(1):
git send-email \
--in-reply-to=osstest-140570-mainreport@xen.org \
--to=osstest-admin@xenproject.org \
--cc=royger@FreeBSD.org \
--cc=xen-devel@lists.xenproject.org \
/path/to/YOUR_REPLY
https://kernel.org/pub/software/scm/git/docs/git-send-email.html
* If your mail client supports setting the In-Reply-To header
via mailto: links, try the mailto: link
Be sure your reply has a Subject: header at the top and a blank line
before the message body.
This is a public inbox, see mirroring instructions
for how to clone and mirror all data and code used for this inbox;
as well as URLs for NNTP newsgroup(s).