* [Xen-devel] [freebsd-master test] 140746: all pass - PUSHED
@ 2019-08-29 6:23 osstest service owner
0 siblings, 0 replies; only message in thread
From: osstest service owner @ 2019-08-29 6:23 UTC (permalink / raw)
To: xen-devel, osstest-admin, royger
flight 140746 freebsd-master real [real]
http://logs.test-lab.xenproject.org/osstest/logs/140746/
Perfect :-)
All tests in this flight passed as required
version targeted for testing:
freebsd 76040af020521b535a066e8df91e224b14ce284f
baseline version:
freebsd 4438d71949e8a59f2ac2349a450f6965fee6c6e4
Last test of basis 140660 2019-08-26 09:20:30 Z 2 days
Testing same since 140746 2019-08-28 09:19:53 Z 0 days 1 attempts
------------------------------------------------------------
People who touched revisions under test:
asomers <asomers@FreeBSD.org>
cy <cy@FreeBSD.org>
hrs <hrs@FreeBSD.org>
jhb <jhb@FreeBSD.org>
jhibbits <jhibbits@FreeBSD.org>
kib <kib@FreeBSD.org>
manu <manu@FreeBSD.org>
markj <markj@FreeBSD.org>
mav <mav@FreeBSD.org>
mjg <mjg@FreeBSD.org>
mmel <mmel@FreeBSD.org>
np <np@FreeBSD.org>
trasz <trasz@FreeBSD.org>
tuexen <tuexen@FreeBSD.org>
jobs:
build-amd64-freebsd-again pass
build-amd64-freebsd pass
build-amd64-xen-freebsd pass
------------------------------------------------------------
sg-report-flight on osstest.test-lab.xenproject.org
logs: /home/logs/logs
images: /home/logs/images
Logs, config files, etc. are available at
http://logs.test-lab.xenproject.org/osstest/logs
Explanation of these reports, and of osstest in general, is at
http://xenbits.xen.org/gitweb/?p=osstest.git;a=blob;f=README.email;hb=master
http://xenbits.xen.org/gitweb/?p=osstest.git;a=blob;f=README;hb=master
Test harness code can be found at
http://xenbits.xen.org/gitweb?p=osstest.git;a=summary
Pushing revision :
To xenbits.xen.org:/home/xen/git/freebsd.git
4438d71949e..76040af0205 76040af020521b535a066e8df91e224b14ce284f -> tested/master
_______________________________________________
Xen-devel mailing list
Xen-devel@lists.xenproject.org
https://lists.xenproject.org/mailman/listinfo/xen-devel
^ permalink raw reply [flat|nested] only message in thread
only message in thread, other threads:[~2019-08-29 6:23 UTC | newest]
Thread overview: (only message) (download: mbox.gz / follow: Atom feed)
-- links below jump to the message on this page --
2019-08-29 6:23 [Xen-devel] [freebsd-master test] 140746: all pass - PUSHED osstest service owner
This is a public inbox, see mirroring instructions
for how to clone and mirror all data and code used for this inbox;
as well as URLs for NNTP newsgroup(s).