* [Xen-devel] [qemu-mainline test] 141165: trouble: blocked/broken
@ 2019-09-10 12:14 osstest service owner
0 siblings, 0 replies; only message in thread
From: osstest service owner @ 2019-09-10 12:14 UTC (permalink / raw)
To: xen-devel, osstest-admin
flight 141165 qemu-mainline real [real]
http://logs.test-lab.xenproject.org/osstest/logs/141165/
Failures and problems with tests :-(
Tests which did not succeed and are blocking,
including tests which could not be run:
build-i386-xsm <job status> broken
build-arm64 <job status> broken
build-arm64-pvops <job status> broken
build-armhf-pvops <job status> broken
build-armhf <job status> broken
build-amd64-xsm <job status> broken
build-i386 <job status> broken
build-amd64 <job status> broken
build-arm64-xsm <job status> broken
build-amd64-pvops <job status> broken
build-i386-pvops <job status> broken
build-amd64 4 host-install(4) broken REGR. vs. 140282
build-i386-pvops 4 host-install(4) broken REGR. vs. 140282
build-amd64-pvops 4 host-install(4) broken REGR. vs. 140282
build-i386-xsm 4 host-install(4) broken REGR. vs. 140282
build-armhf-pvops 4 host-install(4) broken REGR. vs. 140282
build-amd64-xsm 4 host-install(4) broken REGR. vs. 140282
build-arm64-pvops 4 host-install(4) broken REGR. vs. 140282
build-i386 4 host-install(4) broken REGR. vs. 140282
build-arm64-xsm 4 host-install(4) broken REGR. vs. 140282
build-arm64 4 host-install(4) broken REGR. vs. 140282
build-armhf 4 host-install(4) broken REGR. vs. 140282
Tests which did not succeed, but are not blocking:
test-armhf-armhf-xl-cubietruck 1 build-check(1) blocked n/a
test-amd64-i386-xl-pvshim 1 build-check(1) blocked n/a
test-amd64-amd64-xl-qemuu-win10-i386 1 build-check(1) blocked n/a
test-arm64-arm64-xl-xsm 1 build-check(1) blocked n/a
test-armhf-armhf-xl-credit1 1 build-check(1) blocked n/a
test-armhf-armhf-xl-rtds 1 build-check(1) blocked n/a
test-arm64-arm64-xl-thunderx 1 build-check(1) blocked n/a
test-amd64-i386-libvirt 1 build-check(1) blocked n/a
test-armhf-armhf-libvirt-raw 1 build-check(1) blocked n/a
test-arm64-arm64-xl-seattle 1 build-check(1) blocked n/a
test-amd64-i386-qemuu-rhel6hvm-intel 1 build-check(1) blocked n/a
test-amd64-amd64-qemuu-nested-intel 1 build-check(1) blocked n/a
test-amd64-i386-xl-shadow 1 build-check(1) blocked n/a
test-amd64-amd64-xl-qemuu-dmrestrict-amd64-dmrestrict 1 build-check(1) blocked n/a
test-amd64-amd64-libvirt 1 build-check(1) blocked n/a
test-amd64-i386-xl-qemuu-ws16-amd64 1 build-check(1) blocked n/a
test-amd64-i386-freebsd10-i386 1 build-check(1) blocked n/a
test-amd64-amd64-xl-rtds 1 build-check(1) blocked n/a
test-armhf-armhf-xl-multivcpu 1 build-check(1) blocked n/a
test-amd64-amd64-qemuu-nested-amd 1 build-check(1) blocked n/a
build-i386-libvirt 1 build-check(1) blocked n/a
test-amd64-i386-xl-qemuu-ovmf-amd64 1 build-check(1) blocked n/a
build-armhf-libvirt 1 build-check(1) blocked n/a
test-amd64-amd64-libvirt-qemuu-debianhvm-amd64-xsm 1 build-check(1) blocked n/a
test-arm64-arm64-xl-credit2 1 build-check(1) blocked n/a
test-amd64-i386-xl-qemuu-win7-amd64 1 build-check(1) blocked n/a
test-amd64-amd64-xl-pvhv2-intel 1 build-check(1) blocked n/a
test-amd64-amd64-libvirt-vhd 1 build-check(1) blocked n/a
test-arm64-arm64-xl-credit1 1 build-check(1) blocked n/a
test-amd64-amd64-xl-qemuu-win7-amd64 1 build-check(1) blocked n/a
test-amd64-amd64-xl-qemuu-debianhvm-i386-xsm 1 build-check(1) blocked n/a
test-amd64-amd64-xl-qemuu-debianhvm-amd64-shadow 1 build-check(1) blocked n/a
test-arm64-arm64-libvirt-xsm 1 build-check(1) blocked n/a
test-amd64-amd64-xl-credit2 1 build-check(1) blocked n/a
test-armhf-armhf-xl-vhd 1 build-check(1) blocked n/a
test-amd64-amd64-i386-pvgrub 1 build-check(1) blocked n/a
test-amd64-amd64-xl-pvshim 1 build-check(1) blocked n/a
test-amd64-amd64-xl-qemuu-ws16-amd64 1 build-check(1) blocked n/a
build-arm64-libvirt 1 build-check(1) blocked n/a
test-armhf-armhf-xl 1 build-check(1) blocked n/a
test-amd64-amd64-xl-qcow2 1 build-check(1) blocked n/a
test-amd64-i386-xl-qemuu-win10-i386 1 build-check(1) blocked n/a
test-amd64-amd64-libvirt-xsm 1 build-check(1) blocked n/a
test-amd64-amd64-xl-credit1 1 build-check(1) blocked n/a
test-arm64-arm64-xl 1 build-check(1) blocked n/a
test-amd64-i386-pair 1 build-check(1) blocked n/a
test-amd64-i386-qemuu-rhel6hvm-amd 1 build-check(1) blocked n/a
test-armhf-armhf-xl-credit2 1 build-check(1) blocked n/a
build-amd64-libvirt 1 build-check(1) blocked n/a
test-amd64-amd64-xl-shadow 1 build-check(1) blocked n/a
test-amd64-amd64-libvirt-pair 1 build-check(1) blocked n/a
test-amd64-i386-xl-qemuu-debianhvm-amd64 1 build-check(1) blocked n/a
test-amd64-amd64-pygrub 1 build-check(1) blocked n/a
test-amd64-amd64-xl 1 build-check(1) blocked n/a
test-amd64-i386-xl 1 build-check(1) blocked n/a
test-amd64-amd64-xl-qemuu-debianhvm-amd64 1 build-check(1) blocked n/a
test-amd64-amd64-pair 1 build-check(1) blocked n/a
test-amd64-i386-xl-qemuu-dmrestrict-amd64-dmrestrict 1 build-check(1) blocked n/a
test-amd64-i386-xl-qemuu-debianhvm-i386-xsm 1 build-check(1) blocked n/a
test-amd64-i386-freebsd10-amd64 1 build-check(1) blocked n/a
test-amd64-i386-xl-raw 1 build-check(1) blocked n/a
test-amd64-i386-libvirt-pair 1 build-check(1) blocked n/a
test-amd64-amd64-amd64-pvgrub 1 build-check(1) blocked n/a
test-amd64-i386-xl-xsm 1 build-check(1) blocked n/a
test-amd64-i386-libvirt-xsm 1 build-check(1) blocked n/a
test-armhf-armhf-libvirt 1 build-check(1) blocked n/a
test-amd64-amd64-xl-pvhv2-amd 1 build-check(1) blocked n/a
test-amd64-i386-xl-qemuu-debianhvm-amd64-shadow 1 build-check(1) blocked n/a
test-armhf-armhf-xl-arndale 1 build-check(1) blocked n/a
test-amd64-amd64-xl-multivcpu 1 build-check(1) blocked n/a
test-amd64-i386-libvirt-qemuu-debianhvm-amd64-xsm 1 build-check(1) blocked n/a
test-amd64-amd64-xl-xsm 1 build-check(1) blocked n/a
test-amd64-amd64-xl-qemuu-ovmf-amd64 1 build-check(1) blocked n/a
version targeted for testing:
qemuu 89ea03a7dc83ca36b670ba7f787802791fcb04b1
baseline version:
qemuu afd760539308a5524accf964107cdb1d54a059e3
Last test of basis 140282 2019-08-18 05:36:51 Z 23 days
Failing since 140361 2019-08-19 11:36:26 Z 22 days 27 attempts
Testing same since 141165 2019-09-09 15:06:15 Z 0 days 1 attempts
------------------------------------------------------------
People who touched revisions under test:
Alberto Garcia <berto@igalia.com>
Aleksandar Markovic <amarkovic@wavecomp.com>
Alex Bennée <alex.bennee@linaro.org>
Alexey Kardashevskiy <aik@ozlabs.ru>
Andrew Jeffery <andrew@aj.id.au>
Andrey Shinkevich <andrey.shinkevich@virtuozzo.com>
Anthony PERARD <anthony.perard@citrix.com>
Aurelien Jarno <aurelien@aurel32.net>
BALATON Zoltan <balaton@eik.bme.hu>
Bandan Das <bsd@redhat.com>
Bastian Koppelmann <kbastian@mail.uni-paderborn.de>
Carlo Marcelo Arenas Belón <carenas@gmail.com>
Catherine Ho <catherine.hecx@gmail.com>
Cleber Rosa <crosa@redhat.com>
Corey Minyard <cminyard@mvista.com>
Cornelia Huck <cohuck@redhat.com>
Cédric Le Goater <clg@kaod.org>
Daniel Black <daniel@linux.ibm.com>
Daniel Henrique Barboza <danielhb413@gmail.com>
Daniel P. Berrangé <berrange@redhat.com>
David Gibson <david@gibson.dropbear.id.au>
David Hildenbrand <david@redhat.com>
Denis Plotnikov <dplotnikov@virtuozzo.com>
Dr. David Alan Gilbert <dgilbert@redhat.com>
Edgar E. Iglesias <edgar.iglesias@xilinx.com>
Eduardo Habkost <ehabkost@redhat.com>
Emilio G. Cota <cota@braap.org>
Eric Auger <eric.auger@redhat.com>
Eric Blake <eblake@redhat.com>
fangying <fangying1@huawei.com>
Gerd Hoffmann <kraxel@redhat.com>
Greg Kurz <groug@kaod.org>
Guenter Roeck <linux@roeck-us.net>
Hikaru Nishida <hikarupsp@gmail.com>
Igor Druzhinin <igor.druzhinin@citrix.com>
Igor Mammedov <imammedo@redhat.com>
Jan Kiszka <jan.kiszka@siemens.com>
Jing Liu <jing2.liu@linux.intel.com>
Joel Stanley <joel@jms.id.au>
Johannes Berg <johannes.berg@intel.com>
John Snow <jsnow@redhat.com>
Juan Quintela <quintela@redhat.com>
Julia Suvorova <jusual@redhat.com>
Kővágó, Zoltán <DirtY.iCE.hu@gmail.com>
Laurent Desnogues <laurent.desnogues@gmail.com>
Laurent Vivier <laurent@vivier.eu>
Laurent Vivier <lvivier@redhat.com>
Li Qiang <liq3ea@163.com>
Marc-André Lureau <marcandre.lureau@redhat.com>
Marcelo Tosatti <mtosatti@redhat.com>
Mark Cave-Ayland <mark.cave-ayland@ilande.co.uk>
Markus Armbruster <armbru@redhat.com>
Martin Cerveny <M.Cerveny@computer.org>
Max Reitz <mreitz@redhat.com>
Maxim Levitsky <mlevitsk@redhat.com>
Maxiwell S. Garcia <maxiwell@linux.ibm.com>
Michael Roth <mdroth@linux.vnet.ibm.com
Michael Roth <mdroth@linux.vnet.ibm.com>
Michael S. Tsirkin <mst@redhat.com>
Michal Privoznik <mprivozn@redhat.com>
Nicholas Piggin <npiggin@gmail.com>
Niklas Haas <git@haasn.xyz>
Nir Soffer <nirsof@gmail.com>
Nir Soffer <nsoffer@redhat.com>
Palmer Dabbelt <palmer@sifive.com>
Paolo Bonzini <pbonzini@redhat.com>
Paul A. Clarke <pc@us.ibm.com>
Paul Clarke <pc@us.ibm.com>
Paul Durrant <paul.durrant@citrix.com>
Paul Mackerras <paulus@ozlabs.org>
Pavel Dovgalyuk <pavel.dovgaluk@gmail.com>
Pavel Dovgalyuk <Pavel.Dovgaluk@ispras.ru>
Pavel Dovgalyuk <Pavel.Dovgauk@ispras.ru>
Peter Maydell <peter.maydell@linaro.org>
Peter Xu <peterx@redhat.com>
Philippe Mathieu-Daudé <f4bug@amsat.org>
Philippe Mathieu-Daudé <philmd@redhat.com>
Prasad J Pandit <pjp@fedoraproject.org>
Ramiro Polla <ramiro.polla@gmail.com>
Raphael Norwitz <raphael.norwitz@nutanix.com>
Richard Henderson <richard.henderson@linaro.org>
Roman Kagan <rkagan@virtuozzo.com>
Sandra Loosemore <sandra@codesourcery.com>
Satheesh Rajendran <sathnaga@linux.vnet.ibm.com>
Shivaprasad G Bhat <sbhat@linux.ibm.com>
Stefan Brankovic <stefan.brankovic@rt-rk.com>
Stefan Hajnoczi <stefanha@redhat.com>
Stefan Weil <sw@weilnetz.de>
Stefano Garzarella <sgarzare@redhat.com>
Suraj Jitindar Singh <sjitindarsingh@gmail.com>
Tao Xu <tao3.xu@intel.com>
Thomas Huth <huth@tuxfamily.org>
Thomas Huth <thuth@redhat.com>
Tony Nguyen <tony.nguyen@bt.com>
tony.nguyen@bt.com <tony.nguyen@bt.com>
Vladimir Sementsov-Ogievskiy <vsementsov@virtuozzo.com>
Wanpeng Li <wanpengli@tencent.com>
Wei Yang <richardw.yang@linux.intel.com>
Yan Zhao <yan.y.zhao@intel.com>
Ying Fang <fangying1@huawei.com>
jobs:
build-amd64-xsm broken
build-arm64-xsm broken
build-i386-xsm broken
build-amd64 broken
build-arm64 broken
build-armhf broken
build-i386 broken
build-amd64-libvirt blocked
build-arm64-libvirt blocked
build-armhf-libvirt blocked
build-i386-libvirt blocked
build-amd64-pvops broken
build-arm64-pvops broken
build-armhf-pvops broken
build-i386-pvops broken
test-amd64-amd64-xl blocked
test-arm64-arm64-xl blocked
test-armhf-armhf-xl blocked
test-amd64-i386-xl blocked
test-amd64-amd64-libvirt-qemuu-debianhvm-amd64-xsm blocked
test-amd64-i386-libvirt-qemuu-debianhvm-amd64-xsm blocked
test-amd64-amd64-xl-qemuu-debianhvm-i386-xsm blocked
test-amd64-i386-xl-qemuu-debianhvm-i386-xsm blocked
test-amd64-amd64-libvirt-xsm blocked
test-arm64-arm64-libvirt-xsm blocked
test-amd64-i386-libvirt-xsm blocked
test-amd64-amd64-xl-xsm blocked
test-arm64-arm64-xl-xsm blocked
test-amd64-i386-xl-xsm blocked
test-amd64-amd64-qemuu-nested-amd blocked
test-amd64-amd64-xl-pvhv2-amd blocked
test-amd64-i386-qemuu-rhel6hvm-amd blocked
test-amd64-amd64-xl-qemuu-debianhvm-amd64 blocked
test-amd64-i386-xl-qemuu-debianhvm-amd64 blocked
test-amd64-i386-freebsd10-amd64 blocked
test-amd64-amd64-xl-qemuu-ovmf-amd64 blocked
test-amd64-i386-xl-qemuu-ovmf-amd64 blocked
test-amd64-amd64-xl-qemuu-win7-amd64 blocked
test-amd64-i386-xl-qemuu-win7-amd64 blocked
test-amd64-amd64-xl-qemuu-ws16-amd64 blocked
test-amd64-i386-xl-qemuu-ws16-amd64 blocked
test-armhf-armhf-xl-arndale blocked
test-amd64-amd64-xl-credit1 blocked
test-arm64-arm64-xl-credit1 blocked
test-armhf-armhf-xl-credit1 blocked
test-amd64-amd64-xl-credit2 blocked
test-arm64-arm64-xl-credit2 blocked
test-armhf-armhf-xl-credit2 blocked
test-armhf-armhf-xl-cubietruck blocked
test-amd64-amd64-xl-qemuu-dmrestrict-amd64-dmrestrict blocked
test-amd64-i386-xl-qemuu-dmrestrict-amd64-dmrestrict blocked
test-amd64-i386-freebsd10-i386 blocked
test-amd64-amd64-xl-qemuu-win10-i386 blocked
test-amd64-i386-xl-qemuu-win10-i386 blocked
test-amd64-amd64-qemuu-nested-intel blocked
test-amd64-amd64-xl-pvhv2-intel blocked
test-amd64-i386-qemuu-rhel6hvm-intel blocked
test-amd64-amd64-libvirt blocked
test-armhf-armhf-libvirt blocked
test-amd64-i386-libvirt blocked
test-amd64-amd64-xl-multivcpu blocked
test-armhf-armhf-xl-multivcpu blocked
test-amd64-amd64-pair blocked
test-amd64-i386-pair blocked
test-amd64-amd64-libvirt-pair blocked
test-amd64-i386-libvirt-pair blocked
test-amd64-amd64-amd64-pvgrub blocked
test-amd64-amd64-i386-pvgrub blocked
test-amd64-amd64-xl-pvshim blocked
test-amd64-i386-xl-pvshim blocked
test-amd64-amd64-pygrub blocked
test-amd64-amd64-xl-qcow2 blocked
test-armhf-armhf-libvirt-raw blocked
test-amd64-i386-xl-raw blocked
test-amd64-amd64-xl-rtds blocked
test-armhf-armhf-xl-rtds blocked
test-arm64-arm64-xl-seattle blocked
test-amd64-amd64-xl-qemuu-debianhvm-amd64-shadow blocked
test-amd64-i386-xl-qemuu-debianhvm-amd64-shadow blocked
test-amd64-amd64-xl-shadow blocked
test-amd64-i386-xl-shadow blocked
test-arm64-arm64-xl-thunderx blocked
test-amd64-amd64-libvirt-vhd blocked
test-armhf-armhf-xl-vhd blocked
------------------------------------------------------------
sg-report-flight on osstest.test-lab.xenproject.org
logs: /home/logs/logs
images: /home/logs/images
Logs, config files, etc. are available at
http://logs.test-lab.xenproject.org/osstest/logs
Explanation of these reports, and of osstest in general, is at
http://xenbits.xen.org/gitweb/?p=osstest.git;a=blob;f=README.email;hb=master
http://xenbits.xen.org/gitweb/?p=osstest.git;a=blob;f=README;hb=master
Test harness code can be found at
http://xenbits.xen.org/gitweb?p=osstest.git;a=summary
broken-job build-i386-xsm broken
broken-job build-arm64 broken
broken-job build-arm64-pvops broken
broken-job build-armhf-pvops broken
broken-job build-armhf broken
broken-job build-amd64-xsm broken
broken-job build-i386 broken
broken-job build-amd64 broken
broken-job build-arm64-xsm broken
broken-job build-amd64-pvops broken
broken-job build-i386-pvops broken
broken-step build-amd64 host-install(4)
broken-step build-i386-pvops host-install(4)
broken-step build-amd64-pvops host-install(4)
broken-step build-i386-xsm host-install(4)
broken-step build-armhf-pvops host-install(4)
broken-step build-amd64-xsm host-install(4)
broken-step build-arm64-pvops host-install(4)
broken-step build-i386 host-install(4)
broken-step build-arm64-xsm host-install(4)
broken-step build-arm64 host-install(4)
broken-step build-armhf host-install(4)
Not pushing.
(No revision log; it would be 10990 lines long.)
_______________________________________________
Xen-devel mailing list
Xen-devel@lists.xenproject.org
https://lists.xenproject.org/mailman/listinfo/xen-devel
^ permalink raw reply [flat|nested] only message in thread
only message in thread, other threads:[~2019-09-10 12:15 UTC | newest]
Thread overview: (only message) (download: mbox.gz / follow: Atom feed)
-- links below jump to the message on this page --
2019-09-10 12:14 [Xen-devel] [qemu-mainline test] 141165: trouble: blocked/broken osstest service owner
This is a public inbox, see mirroring instructions
for how to clone and mirror all data and code used for this inbox;
as well as URLs for NNTP newsgroup(s).