* [Xen-devel] [linux-4.9 test] 141171: trouble: blocked/broken
@ 2019-09-10 18:27 osstest service owner
0 siblings, 0 replies; only message in thread
From: osstest service owner @ 2019-09-10 18:27 UTC (permalink / raw)
To: xen-devel, osstest-admin
flight 141171 linux-4.9 real [real]
http://logs.test-lab.xenproject.org/osstest/logs/141171/
Failures and problems with tests :-(
Tests which did not succeed and are blocking,
including tests which could not be run:
build-i386-xsm <job status> broken
build-i386-pvops <job status> broken
build-amd64 <job status> broken
build-arm64 <job status> broken
build-amd64-xsm <job status> broken
build-armhf-pvops <job status> broken
build-i386 <job status> broken
build-amd64-pvops <job status> broken
build-arm64-pvops <job status> broken
build-armhf <job status> broken
build-arm64-xsm <job status> broken
build-amd64-xsm 4 host-install(4) broken REGR. vs. 140844
build-i386-xsm 4 host-install(4) broken REGR. vs. 140844
build-i386 4 host-install(4) broken REGR. vs. 140844
build-arm64-pvops 4 host-install(4) broken REGR. vs. 140844
build-armhf-pvops 4 host-install(4) broken REGR. vs. 140844
build-i386-pvops 4 host-install(4) broken REGR. vs. 140844
build-amd64-pvops 4 host-install(4) broken REGR. vs. 140844
build-amd64 4 host-install(4) broken REGR. vs. 140844
build-arm64 4 host-install(4) broken REGR. vs. 140844
build-arm64-xsm 4 host-install(4) broken REGR. vs. 140844
build-armhf 4 host-install(4) broken REGR. vs. 140844
Tests which did not succeed, but are not blocking:
test-amd64-amd64-xl-qemut-stubdom-debianhvm-amd64-xsm 1 build-check(1) blocked n/a
test-amd64-amd64-xl 1 build-check(1) blocked n/a
test-amd64-i386-xl-shadow 1 build-check(1) blocked n/a
test-amd64-i386-xl-qemut-win7-amd64 1 build-check(1) blocked n/a
test-armhf-armhf-libvirt 1 build-check(1) blocked n/a
test-amd64-i386-xl-qemut-win10-i386 1 build-check(1) blocked n/a
test-amd64-i386-xl-qemut-debianhvm-i386-xsm 1 build-check(1) blocked n/a
test-amd64-i386-xl-raw 1 build-check(1) blocked n/a
test-armhf-armhf-xl-arndale 1 build-check(1) blocked n/a
test-arm64-arm64-xl-seattle 1 build-check(1) blocked n/a
test-amd64-i386-libvirt-qemuu-debianhvm-amd64-xsm 1 build-check(1) blocked n/a
test-amd64-i386-xl-qemuu-win10-i386 1 build-check(1) blocked n/a
test-arm64-arm64-xl 1 build-check(1) blocked n/a
test-armhf-armhf-xl-cubietruck 1 build-check(1) blocked n/a
test-amd64-i386-xl-qemuu-debianhvm-amd64 1 build-check(1) blocked n/a
test-amd64-i386-xl 1 build-check(1) blocked n/a
test-amd64-amd64-libvirt-pair 1 build-check(1) blocked n/a
test-amd64-i386-libvirt-pair 1 build-check(1) blocked n/a
test-amd64-i386-xl-xsm 1 build-check(1) blocked n/a
test-amd64-i386-freebsd10-i386 1 build-check(1) blocked n/a
test-amd64-amd64-xl-qemuu-ovmf-amd64 1 build-check(1) blocked n/a
test-amd64-i386-xl-qemuu-ovmf-amd64 1 build-check(1) blocked n/a
test-amd64-amd64-libvirt 1 build-check(1) blocked n/a
test-amd64-amd64-libvirt-vhd 1 build-check(1) blocked n/a
test-armhf-armhf-xl-rtds 1 build-check(1) blocked n/a
test-amd64-amd64-xl-qemut-win10-i386 1 build-check(1) blocked n/a
test-arm64-arm64-xl-credit1 1 build-check(1) blocked n/a
test-amd64-amd64-libvirt-xsm 1 build-check(1) blocked n/a
test-amd64-amd64-xl-pvhv2-amd 1 build-check(1) blocked n/a
test-arm64-arm64-examine 1 build-check(1) blocked n/a
test-amd64-amd64-xl-qemut-win7-amd64 1 build-check(1) blocked n/a
test-amd64-i386-libvirt-xsm 1 build-check(1) blocked n/a
test-amd64-amd64-xl-qemuu-dmrestrict-amd64-dmrestrict 1 build-check(1) blocked n/a
test-amd64-i386-xl-pvshim 1 build-check(1) blocked n/a
test-amd64-i386-xl-qemut-ws16-amd64 1 build-check(1) blocked n/a
test-amd64-i386-qemuu-rhel6hvm-amd 1 build-check(1) blocked n/a
test-amd64-i386-qemut-rhel6hvm-intel 1 build-check(1) blocked n/a
test-amd64-i386-xl-qemuu-win7-amd64 1 build-check(1) blocked n/a
test-amd64-amd64-xl-qemuu-win7-amd64 1 build-check(1) blocked n/a
test-amd64-amd64-xl-qcow2 1 build-check(1) blocked n/a
test-amd64-amd64-qemuu-nested-intel 1 build-check(1) blocked n/a
test-arm64-arm64-xl-thunderx 1 build-check(1) blocked n/a
test-armhf-armhf-examine 1 build-check(1) blocked n/a
test-armhf-armhf-xl 1 build-check(1) blocked n/a
test-armhf-armhf-xl-credit1 1 build-check(1) blocked n/a
test-amd64-amd64-libvirt-qemuu-debianhvm-amd64-xsm 1 build-check(1) blocked n/a
test-armhf-armhf-xl-multivcpu 1 build-check(1) blocked n/a
test-amd64-i386-freebsd10-amd64 1 build-check(1) blocked n/a
test-amd64-amd64-xl-credit2 1 build-check(1) blocked n/a
build-arm64-libvirt 1 build-check(1) blocked n/a
test-amd64-i386-examine 1 build-check(1) blocked n/a
test-amd64-i386-qemut-rhel6hvm-amd 1 build-check(1) blocked n/a
test-arm64-arm64-xl-credit2 1 build-check(1) blocked n/a
test-amd64-i386-xl-qemuu-ws16-amd64 1 build-check(1) blocked n/a
build-i386-libvirt 1 build-check(1) blocked n/a
test-amd64-amd64-xl-qemut-ws16-amd64 1 build-check(1) blocked n/a
test-amd64-amd64-pygrub 1 build-check(1) blocked n/a
test-amd64-amd64-xl-qemuu-debianhvm-amd64-shadow 1 build-check(1) blocked n/a
test-amd64-amd64-i386-pvgrub 1 build-check(1) blocked n/a
test-amd64-amd64-xl-multivcpu 1 build-check(1) blocked n/a
test-armhf-armhf-libvirt-raw 1 build-check(1) blocked n/a
test-amd64-amd64-xl-xsm 1 build-check(1) blocked n/a
test-amd64-amd64-xl-qemuu-debianhvm-i386-xsm 1 build-check(1) blocked n/a
test-armhf-armhf-xl-vhd 1 build-check(1) blocked n/a
test-arm64-arm64-xl-xsm 1 build-check(1) blocked n/a
test-amd64-i386-qemuu-rhel6hvm-intel 1 build-check(1) blocked n/a
test-amd64-amd64-amd64-pvgrub 1 build-check(1) blocked n/a
test-amd64-amd64-xl-shadow 1 build-check(1) blocked n/a
test-amd64-amd64-xl-pvhv2-intel 1 build-check(1) blocked n/a
test-arm64-arm64-libvirt-xsm 1 build-check(1) blocked n/a
test-amd64-i386-libvirt 1 build-check(1) blocked n/a
test-amd64-amd64-xl-qemut-debianhvm-amd64 1 build-check(1) blocked n/a
test-amd64-i386-xl-qemuu-dmrestrict-amd64-dmrestrict 1 build-check(1) blocked n/a
test-armhf-armhf-xl-credit2 1 build-check(1) blocked n/a
test-amd64-amd64-xl-credit1 1 build-check(1) blocked n/a
test-amd64-amd64-examine 1 build-check(1) blocked n/a
test-amd64-amd64-qemuu-nested-amd 1 build-check(1) blocked n/a
test-amd64-amd64-xl-rtds 1 build-check(1) blocked n/a
test-amd64-amd64-pair 1 build-check(1) blocked n/a
test-amd64-i386-xl-qemut-stubdom-debianhvm-amd64-xsm 1 build-check(1) blocked n/a
test-amd64-i386-xl-qemuu-debianhvm-amd64-shadow 1 build-check(1) blocked n/a
build-armhf-libvirt 1 build-check(1) blocked n/a
test-amd64-amd64-xl-qemuu-ws16-amd64 1 build-check(1) blocked n/a
test-amd64-amd64-xl-qemut-debianhvm-i386-xsm 1 build-check(1) blocked n/a
test-amd64-i386-xl-qemuu-debianhvm-i386-xsm 1 build-check(1) blocked n/a
test-amd64-amd64-xl-qemuu-win10-i386 1 build-check(1) blocked n/a
build-amd64-libvirt 1 build-check(1) blocked n/a
test-amd64-amd64-xl-qemuu-debianhvm-amd64 1 build-check(1) blocked n/a
test-amd64-i386-pair 1 build-check(1) blocked n/a
test-amd64-i386-xl-qemut-debianhvm-amd64 1 build-check(1) blocked n/a
test-amd64-amd64-xl-pvshim 1 build-check(1) blocked n/a
version targeted for testing:
linux bf489db05ebf7106dd77f79e6edabc45fc318416
baseline version:
linux 228e87c35b6c083be778d24b64c02ad05015f3d2
Last test of basis 140844 2019-08-30 17:49:17 Z 11 days
Testing same since 141084 2019-09-06 08:39:12 Z 4 days 3 attempts
------------------------------------------------------------
People who touched revisions under test:
Aaron Armstrong Skomra <aaron.skomra@wacom.com>
Aaron Armstrong Skomra <skomra@gmail.com>
Adrian Hunter <adrian.hunter@intel.com>
Adrian Vladu <avladu@cloudbasesolutions.com>
Alan Stern <stern@rowland.harvard.edu>
Alexander Shishkin <alexander.shishkin@linux.intel.com>
Andrew Cooks <andrew.cooks@opengear.com>
Andrew Morton <akpm@linux-foundation.org>
Angus Ainslie (Purism) <angus@akkea.ca>
Arnaldo Carvalho de Melo <acme@redhat.com>
Arnd Bergmann <arnd@arndb.de>
Bandan Das <bsd@redhat.com>
Bartosz Golaszewski <bgolaszewski@baylibre.com>
Benjamin Herrenschmidt <benh@kernel.crashing.org>
Bob Ham <bob.ham@puri.sm>
Borislav Petkov <bp@suse.de>
Charles Keepax <ckeepax@opensource.cirrus.com>
Christophe JAILLET <christophe.jaillet@wanadoo.fr>
Colin Ian King <colin.king@canonical.com>
Daniel Drake <drake@endlessm.com>
Darrick J. Wong <darrick.wong@oracle.com>
David S. Miller <davem@davemloft.net>
Deepak Rawat <drawat@vmware.com>
Ding Xiang <dingxiang@cmss.chinamobile.com>
Eric Dumazet <edumazet@google.com>
Eugen Hristev <eugen.hristev@microchip.com>
Felipe Balbi <felipe.balbi@linux.intel.com>
Geert Uytterhoeven <geert+renesas@glider.be>
Greg Kroah-Hartman <gregkh@linuxfoundation.org>
Guenter Roeck <linux@roeck-us.net>
Hans Ulli Kroll <ulli.kroll@googlemail.com>
Henk van der Laan <opensource@henkvdlaan.com>
Henry Burns <henryburns@google.com>
Heyi Guo <guoheyi@huawei.com>
Hodaszi, Robert <Robert.Hodaszi@digi.com>
Hui Peng <benquike@gmail.com>
Ilya Trukhanov <lahvuun@gmail.com>
Jason Baron <jbaron@akamai.com>
Jason Gerecke <jason.gerecke@wacom.com>
Jean Delvare <jdelvare@suse.de>
Jens Axboe <axboe@kernel.dk>
Jia-Ju Bai <baijiaju1990@gmail.com>
Jiangfeng Xiao <xiaojiangfeng@huawei.com>
Jin Yao <yao.jin@linux.intel.com>
Jiri Kosina <jkosina@suse.cz>
Jiri Olsa <jolsa@kernel.org>
Joerg Roedel <jroedel@suse.de>
Johannes Berg <johannes.berg@intel.com>
John Hubbard <jhubbard@nvidia.com>
Juliana Rodrigueiro <juliana.rodrigueiro@intra2net.com>
Kai-Heng Feng <kai.heng.feng@canonical.com>
Kefeng Wang <wangkefeng.wang@huawei.com>
Linus Torvalds <torvalds@linux-foundation.org>
Linus Walleij <linus.walleij@linaro.org>
Ludovic Desroches <ludovic.desroches@microchip.com>
Manuel Presnitz <mail@mpy.de>
Marc Kleine-Budde <mkl@pengutronix.de>
Marc Zyngier <maz@kernel.org>
Mark Brown <broonie@kernel.org>
Martin K. Petersen <martin.petersen@oracle.com>
Matthieu Baerts <matthieu.baerts@tessares.net>
Michael Kelley <mikelley@microsoft.com>
Mike Snitzer <snitzer@redhat.com>
Mikulas Patocka <mpatocka@redhat.com>
Nadav Amit <namit@vmware.com>
Naresh Kamboju <naresh.kamboju () linaro ! org>
Naresh Kamboju <naresh.kamboju@linaro.org>
Navid Emamdoost <navid.emamdoost@gmail.com>
Neal Cardwell <ncardwell@google.com>
Neil MacLeod <neil@nmacleod.com>
Nicolas Saenz Julienne <nsaenzjulienne@suse.de>
Nicolin Chen <nicoleotsuka@gmail.com>
Oleg Nesterov <oleg@redhat.com>
Oliver Neukum <oneukum@suse.com>
Pablo Neira Ayuso <pablo@netfilter.org>
Paolo Bonzini <pbonzini@redhat.com>
Paul Burton <paul.burton@mips.com>
Pedro Sousa <sousa@synopsys.com>
Peter Chen <peter.chen@nxp.com>
Peter Ujfalusi <peter.ujfalusi@ti.com>
Peter Zijlstra (Intel) <peterz@infradead.org>
Philip Langdale <philipl@overt.org>
Radim Krčmář <rkrcmar@redhat.com>
Rasmus Villemoes <rasmus.villemoes@prevas.dk>
Ricardo Neri <ricardo.neri-calderon@linux.intel.com>
Robert Hodaszi <robert.hodaszi@digi.com>
Robin Murphy <robin.murphy@arm.com>
Roger Pau Monné <roger.pau@citrix.com>
Salvatore Bonaccorso <carnil@debian.org>
Sasha Levin <sashal@kernel.org>
Sean Christopherson <sean.j.christopherson@intel.com>
Sebastian Mayr <me@sam.st>
Soheil Hassas Yeganeh <soheil@google.com>
Stefan Wahren <wahrenst@gmx.net>
Takashi Iwai <tiwai@suse.de>
Thomas Bogendoerfer <tbogendoerfer@suse.de>
Thomas Falcon <tlfalcon@linux.ibm.com>
Thomas Gleixner <tglx@linutronix.de>
Thomas Hellstrom <thellstrom@vmware.com>
Tim Froidcoeur <tim.froidcoeur@tessares.net>
Tom Lendacky <thomas.lendacky@amd.com>
Trond Myklebust <trond.myklebust@hammerspace.com>
Ulf Hansson <ulf.hansson@linaro.org>
Valdis Kletnieks <valdis.kletnieks@vt.edu>
Valdis Klētnieks <valdis.kletnieks@vt.edu>
Vinod Koul <vkoul@kernel.org>
Vlastimil Babka <vbabka@suse.cz>
Wang Xiayang <xywang.sjtu@sjtu.edu.cn>
Wenwen Wang <wenwen@cs.uga.edu>
Will Deacon <will@kernel.org>
Willem de Bruijn <willemb@google.com>
Wim Van Sebroeck <wim@linux-watchdog.org>
Wolfram Sang <wsa+renesas@sang-engineering.com>
Wolfram Sang <wsa@the-dreams.de>
Yoshihiro Shimoda <yoshihiro.shimoda.uh@renesas.com>
Zenghui Yu <yuzenghui@huawei.com>
ZhangXiaoxu <zhangxiaoxu5@huawei.com>
jobs:
build-amd64-xsm broken
build-arm64-xsm broken
build-i386-xsm broken
build-amd64 broken
build-arm64 broken
build-armhf broken
build-i386 broken
build-amd64-libvirt blocked
build-arm64-libvirt blocked
build-armhf-libvirt blocked
build-i386-libvirt blocked
build-amd64-pvops broken
build-arm64-pvops broken
build-armhf-pvops broken
build-i386-pvops broken
test-amd64-amd64-xl blocked
test-arm64-arm64-xl blocked
test-armhf-armhf-xl blocked
test-amd64-i386-xl blocked
test-amd64-amd64-libvirt-qemuu-debianhvm-amd64-xsm blocked
test-amd64-i386-libvirt-qemuu-debianhvm-amd64-xsm blocked
test-amd64-amd64-xl-qemut-stubdom-debianhvm-amd64-xsm blocked
test-amd64-i386-xl-qemut-stubdom-debianhvm-amd64-xsm blocked
test-amd64-amd64-xl-qemut-debianhvm-i386-xsm blocked
test-amd64-i386-xl-qemut-debianhvm-i386-xsm blocked
test-amd64-amd64-xl-qemuu-debianhvm-i386-xsm blocked
test-amd64-i386-xl-qemuu-debianhvm-i386-xsm blocked
test-amd64-amd64-libvirt-xsm blocked
test-arm64-arm64-libvirt-xsm blocked
test-amd64-i386-libvirt-xsm blocked
test-amd64-amd64-xl-xsm blocked
test-arm64-arm64-xl-xsm blocked
test-amd64-i386-xl-xsm blocked
test-amd64-amd64-qemuu-nested-amd blocked
test-amd64-amd64-xl-pvhv2-amd blocked
test-amd64-i386-qemut-rhel6hvm-amd blocked
test-amd64-i386-qemuu-rhel6hvm-amd blocked
test-amd64-amd64-xl-qemut-debianhvm-amd64 blocked
test-amd64-i386-xl-qemut-debianhvm-amd64 blocked
test-amd64-amd64-xl-qemuu-debianhvm-amd64 blocked
test-amd64-i386-xl-qemuu-debianhvm-amd64 blocked
test-amd64-i386-freebsd10-amd64 blocked
test-amd64-amd64-xl-qemuu-ovmf-amd64 blocked
test-amd64-i386-xl-qemuu-ovmf-amd64 blocked
test-amd64-amd64-xl-qemut-win7-amd64 blocked
test-amd64-i386-xl-qemut-win7-amd64 blocked
test-amd64-amd64-xl-qemuu-win7-amd64 blocked
test-amd64-i386-xl-qemuu-win7-amd64 blocked
test-amd64-amd64-xl-qemut-ws16-amd64 blocked
test-amd64-i386-xl-qemut-ws16-amd64 blocked
test-amd64-amd64-xl-qemuu-ws16-amd64 blocked
test-amd64-i386-xl-qemuu-ws16-amd64 blocked
test-armhf-armhf-xl-arndale blocked
test-amd64-amd64-xl-credit1 blocked
test-arm64-arm64-xl-credit1 blocked
test-armhf-armhf-xl-credit1 blocked
test-amd64-amd64-xl-credit2 blocked
test-arm64-arm64-xl-credit2 blocked
test-armhf-armhf-xl-credit2 blocked
test-armhf-armhf-xl-cubietruck blocked
test-amd64-amd64-xl-qemuu-dmrestrict-amd64-dmrestrict blocked
test-amd64-i386-xl-qemuu-dmrestrict-amd64-dmrestrict blocked
test-amd64-amd64-examine blocked
test-arm64-arm64-examine blocked
test-armhf-armhf-examine blocked
test-amd64-i386-examine blocked
test-amd64-i386-freebsd10-i386 blocked
test-amd64-amd64-xl-qemut-win10-i386 blocked
test-amd64-i386-xl-qemut-win10-i386 blocked
test-amd64-amd64-xl-qemuu-win10-i386 blocked
test-amd64-i386-xl-qemuu-win10-i386 blocked
test-amd64-amd64-qemuu-nested-intel blocked
test-amd64-amd64-xl-pvhv2-intel blocked
test-amd64-i386-qemut-rhel6hvm-intel blocked
test-amd64-i386-qemuu-rhel6hvm-intel blocked
test-amd64-amd64-libvirt blocked
test-armhf-armhf-libvirt blocked
test-amd64-i386-libvirt blocked
test-amd64-amd64-xl-multivcpu blocked
test-armhf-armhf-xl-multivcpu blocked
test-amd64-amd64-pair blocked
test-amd64-i386-pair blocked
test-amd64-amd64-libvirt-pair blocked
test-amd64-i386-libvirt-pair blocked
test-amd64-amd64-amd64-pvgrub blocked
test-amd64-amd64-i386-pvgrub blocked
test-amd64-amd64-xl-pvshim blocked
test-amd64-i386-xl-pvshim blocked
test-amd64-amd64-pygrub blocked
test-amd64-amd64-xl-qcow2 blocked
test-armhf-armhf-libvirt-raw blocked
test-amd64-i386-xl-raw blocked
test-amd64-amd64-xl-rtds blocked
test-armhf-armhf-xl-rtds blocked
test-arm64-arm64-xl-seattle blocked
test-amd64-amd64-xl-qemuu-debianhvm-amd64-shadow blocked
test-amd64-i386-xl-qemuu-debianhvm-amd64-shadow blocked
test-amd64-amd64-xl-shadow blocked
test-amd64-i386-xl-shadow blocked
test-arm64-arm64-xl-thunderx blocked
test-amd64-amd64-libvirt-vhd blocked
test-armhf-armhf-xl-vhd blocked
------------------------------------------------------------
sg-report-flight on osstest.test-lab.xenproject.org
logs: /home/logs/logs
images: /home/logs/images
Logs, config files, etc. are available at
http://logs.test-lab.xenproject.org/osstest/logs
Explanation of these reports, and of osstest in general, is at
http://xenbits.xen.org/gitweb/?p=osstest.git;a=blob;f=README.email;hb=master
http://xenbits.xen.org/gitweb/?p=osstest.git;a=blob;f=README;hb=master
Test harness code can be found at
http://xenbits.xen.org/gitweb?p=osstest.git;a=summary
broken-job build-i386-xsm broken
broken-job build-i386-pvops broken
broken-job build-amd64 broken
broken-job build-arm64 broken
broken-job build-amd64-xsm broken
broken-job build-armhf-pvops broken
broken-job build-i386 broken
broken-job build-amd64-pvops broken
broken-job build-arm64-pvops broken
broken-job build-armhf broken
broken-job build-arm64-xsm broken
broken-step build-amd64-xsm host-install(4)
broken-step build-i386-xsm host-install(4)
broken-step build-i386 host-install(4)
broken-step build-arm64-pvops host-install(4)
broken-step build-armhf-pvops host-install(4)
broken-step build-i386-pvops host-install(4)
broken-step build-amd64-pvops host-install(4)
broken-step build-amd64 host-install(4)
broken-step build-arm64 host-install(4)
broken-step build-arm64-xsm host-install(4)
broken-step build-armhf host-install(4)
Not pushing.
(No revision log; it would be 2494 lines long.)
_______________________________________________
Xen-devel mailing list
Xen-devel@lists.xenproject.org
https://lists.xenproject.org/mailman/listinfo/xen-devel
^ permalink raw reply [flat|nested] only message in thread
only message in thread, other threads:[~2019-09-10 18:28 UTC | newest]
Thread overview: (only message) (download: mbox.gz / follow: Atom feed)
-- links below jump to the message on this page --
2019-09-10 18:27 [Xen-devel] [linux-4.9 test] 141171: trouble: blocked/broken osstest service owner
This is a public inbox, see mirroring instructions
for how to clone and mirror all data and code used for this inbox;
as well as URLs for NNTP newsgroup(s).