* [Xen-devel] [ovmf test] 141189: all pass - PUSHED
@ 2019-09-10 21:42 osstest service owner
0 siblings, 0 replies; only message in thread
From: osstest service owner @ 2019-09-10 21:42 UTC (permalink / raw)
To: xen-devel, osstest-admin
flight 141189 ovmf real [real]
http://logs.test-lab.xenproject.org/osstest/logs/141189/
Perfect :-)
All tests in this flight passed as required
version targeted for testing:
ovmf 000ab98574793b685e7a0f6a6e5032523d5c37c4
baseline version:
ovmf 59b754c9f697d9627b0ccccd327d5132f0e1abb0
Last test of basis 141091 2019-09-06 13:39:28 Z 4 days
Failing since 141158 2019-09-09 03:38:57 Z 1 days 5 attempts
Testing same since 141180 2019-09-10 13:29:37 Z 0 days 2 attempts
------------------------------------------------------------
People who touched revisions under test:
Bob Feng <bob.c.feng@intel.com>
Fan, ZhijuX <zhijux.fan@intel.com>
Feng, Bob C <bob.c.feng@intel.com>
Liming Gao <liming.gao@intel.com>
Ray Ni <ray.ni@intel.com>
Zhiju.Fan <zhijux.fan@intel.com>
jobs:
build-amd64-xsm pass
build-i386-xsm pass
build-amd64 pass
build-i386 pass
build-amd64-libvirt pass
build-i386-libvirt pass
build-amd64-pvops pass
build-i386-pvops pass
test-amd64-amd64-xl-qemuu-ovmf-amd64 pass
test-amd64-i386-xl-qemuu-ovmf-amd64 pass
------------------------------------------------------------
sg-report-flight on osstest.test-lab.xenproject.org
logs: /home/logs/logs
images: /home/logs/images
Logs, config files, etc. are available at
http://logs.test-lab.xenproject.org/osstest/logs
Explanation of these reports, and of osstest in general, is at
http://xenbits.xen.org/gitweb/?p=osstest.git;a=blob;f=README.email;hb=master
http://xenbits.xen.org/gitweb/?p=osstest.git;a=blob;f=README;hb=master
Test harness code can be found at
http://xenbits.xen.org/gitweb?p=osstest.git;a=summary
Pushing revision :
To xenbits.xen.org:/home/xen/git/osstest/ovmf.git
59b754c9f6..000ab98574 000ab98574793b685e7a0f6a6e5032523d5c37c4 -> xen-tested-master
_______________________________________________
Xen-devel mailing list
Xen-devel@lists.xenproject.org
https://lists.xenproject.org/mailman/listinfo/xen-devel
^ permalink raw reply [flat|nested] only message in thread
only message in thread, other threads:[~2019-09-10 21:43 UTC | newest]
Thread overview: (only message) (download: mbox.gz / follow: Atom feed)
-- links below jump to the message on this page --
2019-09-10 21:42 [Xen-devel] [ovmf test] 141189: all pass - PUSHED osstest service owner
This is a public inbox, see mirroring instructions
for how to clone and mirror all data and code used for this inbox;
as well as URLs for NNTP newsgroup(s).