* [Xen-devel] [ovmf test] 142423: all pass - PUSHED
@ 2019-10-08 19:21 osstest service owner
0 siblings, 0 replies; only message in thread
From: osstest service owner @ 2019-10-08 19:21 UTC (permalink / raw)
To: xen-devel, osstest-admin
flight 142423 ovmf real [real]
http://logs.test-lab.xenproject.org/osstest/logs/142423/
Perfect :-)
All tests in this flight passed as required
version targeted for testing:
ovmf 410c4d00d9f7e369d1ce183e9e8de98cb59c4d20
baseline version:
ovmf d19040804afb2bdd60f18e8aef7da78028575fe6
Last test of basis 142274 2019-10-04 14:39:34 Z 4 days
Testing same since 142423 2019-10-08 01:39:34 Z 0 days 1 attempts
------------------------------------------------------------
People who touched revisions under test:
Liming Gao <liming.gao@intel.com>
jobs:
build-amd64-xsm pass
build-i386-xsm pass
build-amd64 pass
build-i386 pass
build-amd64-libvirt pass
build-i386-libvirt pass
build-amd64-pvops pass
build-i386-pvops pass
test-amd64-amd64-xl-qemuu-ovmf-amd64 pass
test-amd64-i386-xl-qemuu-ovmf-amd64 pass
------------------------------------------------------------
sg-report-flight on osstest.test-lab.xenproject.org
logs: /home/logs/logs
images: /home/logs/images
Logs, config files, etc. are available at
http://logs.test-lab.xenproject.org/osstest/logs
Explanation of these reports, and of osstest in general, is at
http://xenbits.xen.org/gitweb/?p=osstest.git;a=blob;f=README.email;hb=master
http://xenbits.xen.org/gitweb/?p=osstest.git;a=blob;f=README;hb=master
Test harness code can be found at
http://xenbits.xen.org/gitweb?p=osstest.git;a=summary
Pushing revision :
To xenbits.xen.org:/home/xen/git/osstest/ovmf.git
d19040804a..410c4d00d9 410c4d00d9f7e369d1ce183e9e8de98cb59c4d20 -> xen-tested-master
_______________________________________________
Xen-devel mailing list
Xen-devel@lists.xenproject.org
https://lists.xenproject.org/mailman/listinfo/xen-devel
^ permalink raw reply [flat|nested] only message in thread
only message in thread, other threads:[~2019-10-08 19:21 UTC | newest]
Thread overview: (only message) (download: mbox.gz / follow: Atom feed)
-- links below jump to the message on this page --
2019-10-08 19:21 [Xen-devel] [ovmf test] 142423: all pass - PUSHED osstest service owner
This is a public inbox, see mirroring instructions
for how to clone and mirror all data and code used for this inbox;
as well as URLs for NNTP newsgroup(s).