From: osstest service owner <osstest-admin@xenproject.org>
To: xen-devel@lists.xenproject.org, osstest-admin@xenproject.org
Subject: [Xen-devel] [xen-unstable-coverity test] 142486: all pass - PUSHED
Date: Wed, 09 Oct 2019 10:19:35 +0000 [thread overview]
Message-ID: <osstest-142486-mainreport@xen.org> (raw)
flight 142486 xen-unstable-coverity real [real]
http://logs.test-lab.xenproject.org/osstest/logs/142486/
Perfect :-)
All tests in this flight passed as required
version targeted for testing:
xen 98d1dac88f82c2b79d528faabe5e3fda8133e8bb
baseline version:
xen f4049b2a9850c847b06ec6ad1cec1c7c2c303b94
Last test of basis 142352 2019-10-06 09:20:41 Z 3 days
Testing same since 142486 2019-10-09 09:18:55 Z 0 days 1 attempts
------------------------------------------------------------
People who touched revisions under test:
Andrew Cooper <andrew.cooper3@citrix.com>
Daniel De Graaf <dgdegra@tycho.nsa.gov>
Juergen Gross <jgross@suse.com>
Julien Grall <julien.grall@arm.com>
Lars Kurth <lars.kurth@citrix.com>
Stefano Stabellini <sstabellini@kernel.org>
Stefano Stabellini <stefano.stabellini@xilinx.com>
Wei Liu <wl@xen.org>
jobs:
coverity-amd64 pass
------------------------------------------------------------
sg-report-flight on osstest.test-lab.xenproject.org
logs: /home/logs/logs
images: /home/logs/images
Logs, config files, etc. are available at
http://logs.test-lab.xenproject.org/osstest/logs
Explanation of these reports, and of osstest in general, is at
http://xenbits.xen.org/gitweb/?p=osstest.git;a=blob;f=README.email;hb=master
http://xenbits.xen.org/gitweb/?p=osstest.git;a=blob;f=README;hb=master
Test harness code can be found at
http://xenbits.xen.org/gitweb?p=osstest.git;a=summary
Pushing revision :
To xenbits.xen.org:/home/xen/git/xen.git
f4049b2a98..98d1dac88f 98d1dac88f82c2b79d528faabe5e3fda8133e8bb -> coverity-tested/smoke
_______________________________________________
Xen-devel mailing list
Xen-devel@lists.xenproject.org
https://lists.xenproject.org/mailman/listinfo/xen-devel
reply other threads:[~2019-10-09 10:19 UTC|newest]
Thread overview: [no followups] expand[flat|nested] mbox.gz Atom feed
Reply instructions:
You may reply publicly to this message via plain-text email
using any one of the following methods:
* Save the following mbox file, import it into your mail client,
and reply-to-all from there: mbox
Avoid top-posting and favor interleaved quoting:
https://en.wikipedia.org/wiki/Posting_style#Interleaved_style
* Reply using the --to, --cc, and --in-reply-to
switches of git-send-email(1):
git send-email \
--in-reply-to=osstest-142486-mainreport@xen.org \
--to=osstest-admin@xenproject.org \
--cc=xen-devel@lists.xenproject.org \
/path/to/YOUR_REPLY
https://kernel.org/pub/software/scm/git/docs/git-send-email.html
* If your mail client supports setting the In-Reply-To header
via mailto: links, try the mailto: link
Be sure your reply has a Subject: header at the top and a blank line
before the message body.
This is a public inbox, see mirroring instructions
for how to clone and mirror all data and code used for this inbox;
as well as URLs for NNTP newsgroup(s).