* [Xen-devel] [xtf test] 143721: all pass - PUSHED
@ 2019-11-06 3:58 osstest service owner
0 siblings, 0 replies; only message in thread
From: osstest service owner @ 2019-11-06 3:58 UTC (permalink / raw)
To: xen-devel, osstest-admin
flight 143721 xtf real [real]
http://logs.test-lab.xenproject.org/osstest/logs/143721/
Perfect :-)
All tests in this flight passed as required
version targeted for testing:
xtf 08a19af3c78e8a03f83bc354b50545136c03edd2
baseline version:
xtf 1b74ec3374a6edf377772fcf7709eed47736fff5
Last test of basis 143541 2019-11-01 17:09:59 Z 4 days
Testing same since 143721 2019-11-04 13:24:42 Z 1 days 1 attempts
------------------------------------------------------------
People who touched revisions under test:
Andrew Cooper <andrew.cooper3@citrix.com>
jobs:
build-amd64-xtf pass
build-amd64 pass
build-amd64-pvops pass
test-xtf-amd64-amd64-1 pass
test-xtf-amd64-amd64-2 pass
test-xtf-amd64-amd64-3 pass
test-xtf-amd64-amd64-4 pass
test-xtf-amd64-amd64-5 pass
------------------------------------------------------------
sg-report-flight on osstest.test-lab.xenproject.org
logs: /home/logs/logs
images: /home/logs/images
Logs, config files, etc. are available at
http://logs.test-lab.xenproject.org/osstest/logs
Explanation of these reports, and of osstest in general, is at
http://xenbits.xen.org/gitweb/?p=osstest.git;a=blob;f=README.email;hb=master
http://xenbits.xen.org/gitweb/?p=osstest.git;a=blob;f=README;hb=master
Test harness code can be found at
http://xenbits.xen.org/gitweb?p=osstest.git;a=summary
Pushing revision :
To xenbits.xen.org:/home/xen/git/xtf.git
1b74ec3..08a19af 08a19af3c78e8a03f83bc354b50545136c03edd2 -> xen-tested-master
_______________________________________________
Xen-devel mailing list
Xen-devel@lists.xenproject.org
https://lists.xenproject.org/mailman/listinfo/xen-devel
^ permalink raw reply [flat|nested] only message in thread
only message in thread, other threads:[~2019-11-06 3:59 UTC | newest]
Thread overview: (only message) (download: mbox.gz / follow: Atom feed)
-- links below jump to the message on this page --
2019-11-06 3:58 [Xen-devel] [xtf test] 143721: all pass - PUSHED osstest service owner
This is a public inbox, see mirroring instructions
for how to clone and mirror all data and code used for this inbox;
as well as URLs for NNTP newsgroup(s).