* [Xen-devel] [xen-unstable-coverity test] 146108: all pass - PUSHED
@ 2020-01-15 10:14 osstest service owner
0 siblings, 0 replies; only message in thread
From: osstest service owner @ 2020-01-15 10:14 UTC (permalink / raw)
To: xen-devel, osstest-admin
flight 146108 xen-unstable-coverity real [real]
http://logs.test-lab.xenproject.org/osstest/logs/146108/
Perfect :-)
All tests in this flight passed as required
version targeted for testing:
xen b4194711ffaffa5e63d986338fb8d4020fa6bad1
baseline version:
xen 8842d01b300919e20bca2e1138c458a8483600f8
Last test of basis 146024 2020-01-12 09:18:32 Z 3 days
Testing same since 146108 2020-01-15 09:18:30 Z 0 days 1 attempts
------------------------------------------------------------
People who touched revisions under test:
Andrew Cooper <andrew.cooper3@citrix.com>
George Dunlap <george.dunlap@citrix.com>
Ian Jackson <ian.jackson@eu.citrix.com>
Jan Beulich <jbeulich@suse.com>
Julien Grall <julien@xen.org>
Paul Durrant <pdurrant@amazon.com>
Stefano Stabellini <sstabellini@kernel.org>
Wei Liu <wl@xen.org>
jobs:
coverity-amd64 pass
------------------------------------------------------------
sg-report-flight on osstest.test-lab.xenproject.org
logs: /home/logs/logs
images: /home/logs/images
Logs, config files, etc. are available at
http://logs.test-lab.xenproject.org/osstest/logs
Explanation of these reports, and of osstest in general, is at
http://xenbits.xen.org/gitweb/?p=osstest.git;a=blob;f=README.email;hb=master
http://xenbits.xen.org/gitweb/?p=osstest.git;a=blob;f=README;hb=master
Test harness code can be found at
http://xenbits.xen.org/gitweb?p=osstest.git;a=summary
Pushing revision :
To xenbits.xen.org:/home/xen/git/xen.git
8842d01b30..b4194711ff b4194711ffaffa5e63d986338fb8d4020fa6bad1 -> coverity-tested/smoke
_______________________________________________
Xen-devel mailing list
Xen-devel@lists.xenproject.org
https://lists.xenproject.org/mailman/listinfo/xen-devel
^ permalink raw reply [flat|nested] only message in thread
only message in thread, other threads:[~2020-01-15 10:15 UTC | newest]
Thread overview: (only message) (download: mbox.gz / follow: Atom feed)
-- links below jump to the message on this page --
2020-01-15 10:14 [Xen-devel] [xen-unstable-coverity test] 146108: all pass - PUSHED osstest service owner
This is a public inbox, see mirroring instructions
for how to clone and mirror all data and code used for this inbox;
as well as URLs for NNTP newsgroup(s).