* [Xen-devel] [xen-unstable-coverity test] 149009: all pass - PUSHED
@ 2020-03-25 9:42 osstest service owner
0 siblings, 0 replies; only message in thread
From: osstest service owner @ 2020-03-25 9:42 UTC (permalink / raw)
To: xen-devel, osstest-admin
flight 149009 xen-unstable-coverity real [real]
http://logs.test-lab.xenproject.org/osstest/logs/149009/
Perfect :-)
All tests in this flight passed as required
version targeted for testing:
xen 0537d246f8db3ac0a1df2ce653b07e85cd887962
baseline version:
xen 60d6ba1916dce0622a53b00dbae3c01d0761057e
Last test of basis 148841 2020-03-22 09:18:28 Z 3 days
Testing same since 149009 2020-03-25 09:19:33 Z 0 days 1 attempts
------------------------------------------------------------
People who touched revisions under test:
Andrew Cooper <andrew.cooper3@citrix.com>
David Woodhouse <dwmw@amazon.co.uk>
Hongyan Xia <hongyxia@amazon.com>
Ian Jackson <ian.jackson@eu.citrix.com>
Juergen Gross <jgross@suse.com>
Julien Grall <julien@xen.org>
Paul Durrant <paul@xen.org>
Pu Wen <puwen@hygon.cn>
Tamas K Lengyel <tamas@tklengyel.com>
Yan Yankovskyi <yyankovskyi@gmail.com>
jobs:
coverity-amd64 pass
------------------------------------------------------------
sg-report-flight on osstest.test-lab.xenproject.org
logs: /home/logs/logs
images: /home/logs/images
Logs, config files, etc. are available at
http://logs.test-lab.xenproject.org/osstest/logs
Explanation of these reports, and of osstest in general, is at
http://xenbits.xen.org/gitweb/?p=osstest.git;a=blob;f=README.email;hb=master
http://xenbits.xen.org/gitweb/?p=osstest.git;a=blob;f=README;hb=master
Test harness code can be found at
http://xenbits.xen.org/gitweb?p=osstest.git;a=summary
Pushing revision :
To xenbits.xen.org:/home/xen/git/xen.git
60d6ba1916..0537d246f8 0537d246f8db3ac0a1df2ce653b07e85cd887962 -> coverity-tested/smoke
^ permalink raw reply [flat|nested] only message in thread
only message in thread, other threads:[~2020-03-25 9:43 UTC | newest]
Thread overview: (only message) (download: mbox.gz / follow: Atom feed)
-- links below jump to the message on this page --
2020-03-25 9:42 [Xen-devel] [xen-unstable-coverity test] 149009: all pass - PUSHED osstest service owner
This is a public inbox, see mirroring instructions
for how to clone and mirror all data and code used for this inbox;
as well as URLs for NNTP newsgroup(s).