* [ovmf test] 150293: all pass - PUSHED
@ 2020-05-21 12:28 osstest service owner
0 siblings, 0 replies; only message in thread
From: osstest service owner @ 2020-05-21 12:28 UTC (permalink / raw)
To: xen-devel, osstest-admin
flight 150293 ovmf real [real]
http://logs.test-lab.xenproject.org/osstest/logs/150293/
Perfect :-)
All tests in this flight passed as required
version targeted for testing:
ovmf 3f89db869028fa65a37756fd7f391cbd69f4579c
baseline version:
ovmf bc5012b8fbf9f769a62d8a7a2dbf04343c16d398
Last test of basis 150284 2020-05-20 20:09:31 Z 0 days
Testing same since 150293 2020-05-21 07:12:32 Z 0 days 1 attempts
------------------------------------------------------------
People who touched revisions under test:
Chasel Chiu <chasel.chiu@intel.com>
jobs:
build-amd64-xsm pass
build-i386-xsm pass
build-amd64 pass
build-i386 pass
build-amd64-libvirt pass
build-i386-libvirt pass
build-amd64-pvops pass
build-i386-pvops pass
test-amd64-amd64-xl-qemuu-ovmf-amd64 pass
test-amd64-i386-xl-qemuu-ovmf-amd64 pass
------------------------------------------------------------
sg-report-flight on osstest.test-lab.xenproject.org
logs: /home/logs/logs
images: /home/logs/images
Logs, config files, etc. are available at
http://logs.test-lab.xenproject.org/osstest/logs
Explanation of these reports, and of osstest in general, is at
http://xenbits.xen.org/gitweb/?p=osstest.git;a=blob;f=README.email;hb=master
http://xenbits.xen.org/gitweb/?p=osstest.git;a=blob;f=README;hb=master
Test harness code can be found at
http://xenbits.xen.org/gitweb?p=osstest.git;a=summary
Pushing revision :
To xenbits.xen.org:/home/xen/git/osstest/ovmf.git
bc5012b8fb..3f89db8690 3f89db869028fa65a37756fd7f391cbd69f4579c -> xen-tested-master
^ permalink raw reply [flat|nested] only message in thread
only message in thread, other threads:[~2020-05-21 12:29 UTC | newest]
Thread overview: (only message) (download: mbox.gz / follow: Atom feed)
-- links below jump to the message on this page --
2020-05-21 12:28 [ovmf test] 150293: all pass - PUSHED osstest service owner
This is a public inbox, see mirroring instructions
for how to clone and mirror all data and code used for this inbox;
as well as URLs for NNTP newsgroup(s).