* [ovmf test] 150392: all pass - PUSHED
@ 2020-05-27 10:42 osstest service owner
0 siblings, 0 replies; only message in thread
From: osstest service owner @ 2020-05-27 10:42 UTC (permalink / raw)
To: xen-devel, osstest-admin
flight 150392 ovmf real [real]
http://logs.test-lab.xenproject.org/osstest/logs/150392/
Perfect :-)
All tests in this flight passed as required
version targeted for testing:
ovmf 568eee7cf319fa95183c8d3b5e8dcf6e078ab8b3
baseline version:
ovmf 1c877c716038a862e876cac8f0929bab4a96e849
Last test of basis 150318 2020-05-22 05:16:35 Z 5 days
Testing same since 150392 2020-05-27 02:39:30 Z 0 days 1 attempts
------------------------------------------------------------
People who touched revisions under test:
Michael Kubacki <michael.kubacki@microsoft.com>
jobs:
build-amd64-xsm pass
build-i386-xsm pass
build-amd64 pass
build-i386 pass
build-amd64-libvirt pass
build-i386-libvirt pass
build-amd64-pvops pass
build-i386-pvops pass
test-amd64-amd64-xl-qemuu-ovmf-amd64 pass
test-amd64-i386-xl-qemuu-ovmf-amd64 pass
------------------------------------------------------------
sg-report-flight on osstest.test-lab.xenproject.org
logs: /home/logs/logs
images: /home/logs/images
Logs, config files, etc. are available at
http://logs.test-lab.xenproject.org/osstest/logs
Explanation of these reports, and of osstest in general, is at
http://xenbits.xen.org/gitweb/?p=osstest.git;a=blob;f=README.email;hb=master
http://xenbits.xen.org/gitweb/?p=osstest.git;a=blob;f=README;hb=master
Test harness code can be found at
http://xenbits.xen.org/gitweb?p=osstest.git;a=summary
Pushing revision :
To xenbits.xen.org:/home/xen/git/osstest/ovmf.git
1c877c7160..568eee7cf3 568eee7cf319fa95183c8d3b5e8dcf6e078ab8b3 -> xen-tested-master
^ permalink raw reply [flat|nested] only message in thread
only message in thread, other threads:[~2020-05-27 10:43 UTC | newest]
Thread overview: (only message) (download: mbox.gz / follow: Atom feed)
-- links below jump to the message on this page --
2020-05-27 10:42 [ovmf test] 150392: all pass - PUSHED osstest service owner
This is a public inbox, see mirroring instructions
for how to clone and mirror all data and code used for this inbox;
as well as URLs for NNTP newsgroup(s).