* [xen-unstable-coverity test] 152488: all pass - PUSHED
@ 2020-08-05 10:37 osstest service owner
0 siblings, 0 replies; only message in thread
From: osstest service owner @ 2020-08-05 10:37 UTC (permalink / raw)
To: xen-devel, osstest-admin
flight 152488 xen-unstable-coverity real [real]
http://logs.test-lab.xenproject.org/osstest/logs/152488/
Perfect :-)
All tests in this flight passed as required
version targeted for testing:
xen c9f9a7258dc07735e2da2b6d0b51a0218c76a51f
baseline version:
xen 81fd0d3ca4b2cd309403c6e8da662c325dd35750
Last test of basis 152385 2020-08-02 09:18:50 Z 3 days
Testing same since 152488 2020-08-05 09:18:39 Z 0 days 1 attempts
------------------------------------------------------------
People who touched revisions under test:
Andrew Cooper <andrew.cooper3@citrix.com>
Jan Beulich <jbeulich@suse.com>
Wei Liu <wl@xen.org>
jobs:
coverity-amd64 pass
------------------------------------------------------------
sg-report-flight on osstest.test-lab.xenproject.org
logs: /home/logs/logs
images: /home/logs/images
Logs, config files, etc. are available at
http://logs.test-lab.xenproject.org/osstest/logs
Explanation of these reports, and of osstest in general, is at
http://xenbits.xen.org/gitweb/?p=osstest.git;a=blob;f=README.email;hb=master
http://xenbits.xen.org/gitweb/?p=osstest.git;a=blob;f=README;hb=master
Test harness code can be found at
http://xenbits.xen.org/gitweb?p=osstest.git;a=summary
Pushing revision :
To xenbits.xen.org:/home/xen/git/xen.git
81fd0d3ca4..c9f9a7258d c9f9a7258dc07735e2da2b6d0b51a0218c76a51f -> coverity-tested/smoke
^ permalink raw reply [flat|nested] only message in thread
only message in thread, other threads:[~2020-08-05 10:37 UTC | newest]
Thread overview: (only message) (download: mbox.gz / follow: Atom feed)
-- links below jump to the message on this page --
2020-08-05 10:37 [xen-unstable-coverity test] 152488: all pass - PUSHED osstest service owner
This is a public inbox, see mirroring instructions
for how to clone and mirror all data and code used for this inbox;
as well as URLs for NNTP newsgroup(s).