* [ovmf test] 155825: all pass - PUSHED
@ 2020-10-15 7:12 osstest service owner
0 siblings, 0 replies; only message in thread
From: osstest service owner @ 2020-10-15 7:12 UTC (permalink / raw)
To: xen-devel, osstest-admin
flight 155825 ovmf real [real]
http://logs.test-lab.xenproject.org/osstest/logs/155825/
Perfect :-)
All tests in this flight passed as required
version targeted for testing:
ovmf b9b7406c43e9d29bde3e9679c1b039cb91109097
baseline version:
ovmf 5d0a827122cccd1f884faf75b2a065d88a58bce1
Last test of basis 155801 2020-10-14 09:11:09 Z 0 days
Testing same since 155825 2020-10-15 01:10:19 Z 0 days 1 attempts
------------------------------------------------------------
People who touched revisions under test:
Abner Chang <abner.chang@hpe.com>
Fan Wang <fan.wang@intel.com>
Jiaxin Wu <jiaxin.wu@intel.com>
Siyuan Fu <siyuan.fu@intel.com>
jobs:
build-amd64-xsm pass
build-i386-xsm pass
build-amd64 pass
build-i386 pass
build-amd64-libvirt pass
build-i386-libvirt pass
build-amd64-pvops pass
build-i386-pvops pass
test-amd64-amd64-xl-qemuu-ovmf-amd64 pass
test-amd64-i386-xl-qemuu-ovmf-amd64 pass
------------------------------------------------------------
sg-report-flight on osstest.test-lab.xenproject.org
logs: /home/logs/logs
images: /home/logs/images
Logs, config files, etc. are available at
http://logs.test-lab.xenproject.org/osstest/logs
Explanation of these reports, and of osstest in general, is at
http://xenbits.xen.org/gitweb/?p=osstest.git;a=blob;f=README.email;hb=master
http://xenbits.xen.org/gitweb/?p=osstest.git;a=blob;f=README;hb=master
Test harness code can be found at
http://xenbits.xen.org/gitweb?p=osstest.git;a=summary
Pushing revision :
To xenbits.xen.org:/home/xen/git/osstest/ovmf.git
5d0a827122..b9b7406c43 b9b7406c43e9d29bde3e9679c1b039cb91109097 -> xen-tested-master
^ permalink raw reply [flat|nested] only message in thread
only message in thread, other threads:[~2020-10-15 7:12 UTC | newest]
Thread overview: (only message) (download: mbox.gz / follow: Atom feed)
-- links below jump to the message on this page --
2020-10-15 7:12 [ovmf test] 155825: all pass - PUSHED osstest service owner
This is a public inbox, see mirroring instructions
for how to clone and mirror all data and code used for this inbox;
as well as URLs for NNTP newsgroup(s).