* [ovmf test] 157055: all pass - PUSHED
@ 2020-11-27 18:58 osstest service owner
0 siblings, 0 replies; only message in thread
From: osstest service owner @ 2020-11-27 18:58 UTC (permalink / raw)
To: xen-devel, osstest-admin
flight 157055 ovmf real [real]
http://logs.test-lab.xenproject.org/osstest/logs/157055/
Perfect :-)
All tests in this flight passed as required
version targeted for testing:
ovmf 73b604bb1e13ff915c523180979f7b4db34b6d1b
baseline version:
ovmf 872f953262d68a11da7bc2fb3ded16df234b8700
Last test of basis 157042 2020-11-27 01:41:56 Z 0 days
Testing same since 157055 2020-11-27 17:09:39 Z 0 days 1 attempts
------------------------------------------------------------
People who touched revisions under test:
Laszlo Ersek <lersek@redhat.com>
Peter Grehan <grehan@freebsd.org>
Rebecca Cran <rebecca@bsdio.com>
jobs:
build-amd64-xsm pass
build-i386-xsm pass
build-amd64 pass
build-i386 pass
build-amd64-libvirt pass
build-i386-libvirt pass
build-amd64-pvops pass
build-i386-pvops pass
test-amd64-amd64-xl-qemuu-ovmf-amd64 pass
test-amd64-i386-xl-qemuu-ovmf-amd64 pass
------------------------------------------------------------
sg-report-flight on osstest.test-lab.xenproject.org
logs: /home/logs/logs
images: /home/logs/images
Logs, config files, etc. are available at
http://logs.test-lab.xenproject.org/osstest/logs
Explanation of these reports, and of osstest in general, is at
http://xenbits.xen.org/gitweb/?p=osstest.git;a=blob;f=README.email;hb=master
http://xenbits.xen.org/gitweb/?p=osstest.git;a=blob;f=README;hb=master
Test harness code can be found at
http://xenbits.xen.org/gitweb?p=osstest.git;a=summary
Pushing revision :
To xenbits.xen.org:/home/xen/git/osstest/ovmf.git
872f953262..73b604bb1e 73b604bb1e13ff915c523180979f7b4db34b6d1b -> xen-tested-master
^ permalink raw reply [flat|nested] only message in thread
only message in thread, other threads:[~2020-11-27 18:59 UTC | newest]
Thread overview: (only message) (download: mbox.gz / follow: Atom feed)
-- links below jump to the message on this page --
2020-11-27 18:58 [ovmf test] 157055: all pass - PUSHED osstest service owner
This is a public inbox, see mirroring instructions
for how to clone and mirror all data and code used for this inbox;
as well as URLs for NNTP newsgroup(s).