* [ovmf test] 157060: all pass - PUSHED
@ 2020-11-28 3:02 osstest service owner
0 siblings, 0 replies; only message in thread
From: osstest service owner @ 2020-11-28 3:02 UTC (permalink / raw)
To: xen-devel, osstest-admin
flight 157060 ovmf real [real]
http://logs.test-lab.xenproject.org/osstest/logs/157060/
Perfect :-)
All tests in this flight passed as required
version targeted for testing:
ovmf f69a2b9a42029bcbcf88d074425ebe63495b0a08
baseline version:
ovmf 73b604bb1e13ff915c523180979f7b4db34b6d1b
Last test of basis 157055 2020-11-27 17:09:39 Z 0 days
Testing same since 157060 2020-11-27 19:10:46 Z 0 days 1 attempts
------------------------------------------------------------
People who touched revisions under test:
Wenyi Xie <xiewenyi2@huawei.com>
jobs:
build-amd64-xsm pass
build-i386-xsm pass
build-amd64 pass
build-i386 pass
build-amd64-libvirt pass
build-i386-libvirt pass
build-amd64-pvops pass
build-i386-pvops pass
test-amd64-amd64-xl-qemuu-ovmf-amd64 pass
test-amd64-i386-xl-qemuu-ovmf-amd64 pass
------------------------------------------------------------
sg-report-flight on osstest.test-lab.xenproject.org
logs: /home/logs/logs
images: /home/logs/images
Logs, config files, etc. are available at
http://logs.test-lab.xenproject.org/osstest/logs
Explanation of these reports, and of osstest in general, is at
http://xenbits.xen.org/gitweb/?p=osstest.git;a=blob;f=README.email;hb=master
http://xenbits.xen.org/gitweb/?p=osstest.git;a=blob;f=README;hb=master
Test harness code can be found at
http://xenbits.xen.org/gitweb?p=osstest.git;a=summary
Pushing revision :
To xenbits.xen.org:/home/xen/git/osstest/ovmf.git
73b604bb1e..f69a2b9a42 f69a2b9a42029bcbcf88d074425ebe63495b0a08 -> xen-tested-master
^ permalink raw reply [flat|nested] only message in thread
only message in thread, other threads:[~2020-11-28 3:02 UTC | newest]
Thread overview: (only message) (download: mbox.gz / follow: Atom feed)
-- links below jump to the message on this page --
2020-11-28 3:02 [ovmf test] 157060: all pass - PUSHED osstest service owner
This is a public inbox, see mirroring instructions
for how to clone and mirror all data and code used for this inbox;
as well as URLs for NNTP newsgroup(s).