* [ovmf test] 158422: all pass - PUSHED
@ 2021-01-14 19:52 osstest service owner
0 siblings, 0 replies; only message in thread
From: osstest service owner @ 2021-01-14 19:52 UTC (permalink / raw)
To: xen-devel, osstest-admin
flight 158422 ovmf real [real]
http://logs.test-lab.xenproject.org/osstest/logs/158422/
Perfect :-)
All tests in this flight passed as required
version targeted for testing:
ovmf 40c4cd54213b78ef0daee2f4b186150d7ef63bb4
baseline version:
ovmf 536a3e67263b6d891152c0511cbdbbadf42a7360
Last test of basis 158417 2021-01-14 08:20:11 Z 0 days
Testing same since 158422 2021-01-14 15:10:41 Z 0 days 1 attempts
------------------------------------------------------------
People who touched revisions under test:
Abner Chang <abner.chang@hpe.com>
jobs:
build-amd64-xsm pass
build-i386-xsm pass
build-amd64 pass
build-i386 pass
build-amd64-libvirt pass
build-i386-libvirt pass
build-amd64-pvops pass
build-i386-pvops pass
test-amd64-amd64-xl-qemuu-ovmf-amd64 pass
test-amd64-i386-xl-qemuu-ovmf-amd64 pass
------------------------------------------------------------
sg-report-flight on osstest.test-lab.xenproject.org
logs: /home/logs/logs
images: /home/logs/images
Logs, config files, etc. are available at
http://logs.test-lab.xenproject.org/osstest/logs
Explanation of these reports, and of osstest in general, is at
http://xenbits.xen.org/gitweb/?p=osstest.git;a=blob;f=README.email;hb=master
http://xenbits.xen.org/gitweb/?p=osstest.git;a=blob;f=README;hb=master
Test harness code can be found at
http://xenbits.xen.org/gitweb?p=osstest.git;a=summary
Pushing revision :
To xenbits.xen.org:/home/xen/git/osstest/ovmf.git
536a3e6726..40c4cd5421 40c4cd54213b78ef0daee2f4b186150d7ef63bb4 -> xen-tested-master
^ permalink raw reply [flat|nested] only message in thread
only message in thread, other threads:[~2021-01-14 19:52 UTC | newest]
Thread overview: (only message) (download: mbox.gz / follow: Atom feed)
-- links below jump to the message on this page --
2021-01-14 19:52 [ovmf test] 158422: all pass - PUSHED osstest service owner
This is a public inbox, see mirroring instructions
for how to clone and mirror all data and code used for this inbox;
as well as URLs for NNTP newsgroup(s).