* [xen-unstable-coverity test] 159344: all pass - PUSHED
@ 2021-02-14 9:48 osstest service owner
0 siblings, 0 replies; only message in thread
From: osstest service owner @ 2021-02-14 9:48 UTC (permalink / raw)
To: xen-devel, osstest-admin
flight 159344 xen-unstable-coverity real [real]
http://logs.test-lab.xenproject.org/osstest/logs/159344/
Perfect :-)
All tests in this flight passed as required
version targeted for testing:
xen 04085ec1ac05a362812e9b0c6b5a8713d7dc88ad
baseline version:
xen 687121f8a0e7c1ea1c4fa3d056637e5819342f14
Last test of basis 159197 2021-02-10 09:18:32 Z 4 days
Testing same since 159344 2021-02-14 09:18:27 Z 0 days 1 attempts
------------------------------------------------------------
People who touched revisions under test:
Andrew Cooper <andrew.cooper3@citrix.com>
Elliott Mitchell <ehem+xen@m5p.com>
Ian Jackson <iwj@xenproject.org>
Jan Beulich <jbeulich@suse.com>
Jukka Kaartinen <jukka.kaartinen@unikie.com>
Julien Grall <jgrall@amazon.com>
Roger Pau Monne <roger.pau@citrix.com>
Roger Pau Monné <roger.pau@citrix.com>
Stefano Stabellini <sstabellini@kernel.org>
Stefano Stabellini <stefano.stabellini@xilinx.com>
Wei Liu <wl@xen.org>
jobs:
coverity-amd64 pass
------------------------------------------------------------
sg-report-flight on osstest.test-lab.xenproject.org
logs: /home/logs/logs
images: /home/logs/images
Logs, config files, etc. are available at
http://logs.test-lab.xenproject.org/osstest/logs
Explanation of these reports, and of osstest in general, is at
http://xenbits.xen.org/gitweb/?p=osstest.git;a=blob;f=README.email;hb=master
http://xenbits.xen.org/gitweb/?p=osstest.git;a=blob;f=README;hb=master
Test harness code can be found at
http://xenbits.xen.org/gitweb?p=osstest.git;a=summary
Pushing revision :
To xenbits.xen.org:/home/xen/git/xen.git
687121f8a0..04085ec1ac 04085ec1ac05a362812e9b0c6b5a8713d7dc88ad -> coverity-tested/smoke
^ permalink raw reply [flat|nested] only message in thread
only message in thread, other threads:[~2021-02-14 9:49 UTC | newest]
Thread overview: (only message) (download: mbox.gz / follow: Atom feed)
-- links below jump to the message on this page --
2021-02-14 9:48 [xen-unstable-coverity test] 159344: all pass - PUSHED osstest service owner
This is a public inbox, see mirroring instructions
for how to clone and mirror all data and code used for this inbox;
as well as URLs for NNTP newsgroup(s).