* [xen-unstable-coverity test] 159441: all pass - PUSHED
@ 2021-02-17 9:52 osstest service owner
0 siblings, 0 replies; only message in thread
From: osstest service owner @ 2021-02-17 9:52 UTC (permalink / raw)
To: xen-devel, osstest-admin
flight 159441 xen-unstable-coverity real [real]
http://logs.test-lab.xenproject.org/osstest/logs/159441/
Perfect :-)
All tests in this flight passed as required
version targeted for testing:
xen 3b1cc15f1931ba56d0ee256fe9bfe65509733b27
baseline version:
xen 04085ec1ac05a362812e9b0c6b5a8713d7dc88ad
Last test of basis 159344 2021-02-14 09:18:27 Z 3 days
Testing same since 159441 2021-02-17 09:20:56 Z 0 days 1 attempts
------------------------------------------------------------
People who touched revisions under test:
Jan Beulich <jbeulich@suse.com>
Julien Grall <jgrall@amazon.com>
jobs:
coverity-amd64 pass
------------------------------------------------------------
sg-report-flight on osstest.test-lab.xenproject.org
logs: /home/logs/logs
images: /home/logs/images
Logs, config files, etc. are available at
http://logs.test-lab.xenproject.org/osstest/logs
Explanation of these reports, and of osstest in general, is at
http://xenbits.xen.org/gitweb/?p=osstest.git;a=blob;f=README.email;hb=master
http://xenbits.xen.org/gitweb/?p=osstest.git;a=blob;f=README;hb=master
Test harness code can be found at
http://xenbits.xen.org/gitweb?p=osstest.git;a=summary
Pushing revision :
To xenbits.xen.org:/home/xen/git/xen.git
04085ec1ac..3b1cc15f19 3b1cc15f1931ba56d0ee256fe9bfe65509733b27 -> coverity-tested/smoke
^ permalink raw reply [flat|nested] only message in thread
only message in thread, other threads:[~2021-02-17 9:52 UTC | newest]
Thread overview: (only message) (download: mbox.gz / follow: Atom feed)
-- links below jump to the message on this page --
2021-02-17 9:52 [xen-unstable-coverity test] 159441: all pass - PUSHED osstest service owner
This is a public inbox, see mirroring instructions
for how to clone and mirror all data and code used for this inbox;
as well as URLs for NNTP newsgroup(s).